{"text_format":"1","workbook":"xlsx","n_sheets":5,"sheets":["Analyzer","Raw data","Tire Calculation","Gear Listing","Instructions"],"not_rendered":{"charts":1,"images":15,"macros":1,"external_links":0,"defined_names":47,"comments":4,"pivot_tables":0},"unopened":[],"bounds":{"document_bytes":16777216,"sheet_cells":100000,"rows_first":2000,"rows_last":500,"rows_between":2000,"halvings":0,"cell_chars":16384,"cell_head_chars":4096},"cells_cut":0,"cells_raw":0,"read":"whole","date_system":"1900"}

{"sheet":"Analyzer","index":0,"n_rows":8,"n_cols":25,"rows_kept":8,"cut":false,"hidden":false,"merged":[[0,14,0,16],[0,17,0,19],[0,20,0,22],[0,11,0,13],[0,1,0,2],[0,3,0,4],[0,5,0,6],[0,7,0,10]]}
[null,"A",null,"B",null,"Stock",null,"Final Gearing",null,null,null,"% Gear Change",null,null,"Total Final Gearing",null,null,"Intergear Ratio",null,null,"MPH Difference @ RPM:",null,null,5800,"A = Current"]
[null,"Gear","R&P","Gear","R&P","Gear","R&P","Gear","A","B","Stock","A","B","Stock","A","B","Stock","A","B","Stock","Gears","A","B","Stock","B = 2Y but using a 0.894 5th"]
["1st",3.4550000000000001,3.8130000000000002,3.4550000000000001,3.6669999999999998,3.4550000000000001,3.6669999999999998,"1st",{"$f":"$C$3*B3","v":13.173915000000001},{"$f":"$E$3*D3","v":12.669485},{"$f":"$G$3*F3","v":12.669485},null,null,null,{"$f":"$C$3*B3*$C$5","v":299.97004455000001},{"$f":"$E$3*D3*$E$5","v":288.48417345000001},{"$f":"$G$3*F3*$G$5","v":288.48417345000001},{"$f":"B3-B4","v":1.399},{"$f":"D3-D4","v":1.3370000000000002},{"$f":"F3-F4","v":1.5110000000000001},"0-1st",{"$f":"IF((LEFT(TEXT(HLOOKUP(RPM_Difference,A_Grid,2,FALSE)-0, \"00.0\"),1)=\"-\"), 0,HLOOKUP(RPM_Difference,A_Grid,2,FALSE)-0)","v":29.835745215341941},{"$f":"IF((LEFT(TEXT(HLOOKUP(RPM_Difference,B_Grid,2,FALSE)-0, \"00.0\"),1)=\"-\"), 0,HLOOKUP(RPM_Difference,B_Grid,2,FALSE)-0)","v":31.023642352358554},{"$f":"IF((LEFT(TEXT(HLOOKUP(RPM_Difference,Stock_Grid,2,FALSE)-0, \"00.0\"),1)=\"-\"), 0,HLOOKUP(RPM_Difference,Stock_Grid,2,FALSE)-0)","v":0}]
["2nd",2.056,"Tire Height",2.1179999999999999,"Tire Height",1.944,"Tire Height","2nd",7.8395280000000005,7.7667059999999992,7.1286479999999992,{"$f":"IF(ISERROR((I3-I4)/I4),0,(I3-I4)/I4)","v":0.68044747081712065},0.63125590179414559,0.7772633744855969,178.50605256,176.84789561999997,162.31931495999999,{"$f":"B4-B5","v":0.68599999999999994},{"$f":"D4-D5","v":0.67399999999999993},{"$f":"F4-F5","v":0.65799999999999992},"1st-2nd",{"$f":"IF((LEFT(TEXT(HLOOKUP(RPM_Difference,A_Grid,3,FALSE)-HLOOKUP(RPM_Difference,A_Grid,2,FALSE), \"00.0\"),1)=\"-\"), 0,HLOOKUP(RPM_Difference,A_Grid,3,FALSE)-HLOOKUP(RPM_Difference,A_Grid,2,FALSE))","v":20.301657371723433},{"$f":"IF((LEFT(TEXT(HLOOKUP(RPM_Difference,B_Grid,3,FALSE)-HLOOKUP(RPM_Difference,B_Grid,2,FALSE), \"00.0\"),1)=\"-\"), 0,HLOOKUP(RPM_Difference,B_Grid,3,FALSE)-HLOOKUP(RPM_Difference,B_Grid,2,FALSE))","v":19.583857330077148},{"$f":"IF((LEFT(TEXT(HLOOKUP(RPM_Difference,Stock_Grid,3,FALSE)-HLOOKUP(RPM_Difference,Stock_Grid,2,FALSE), \"00.0\"),1)=\"-\"), 0,HLOOKUP(RPM_Difference,Stock_Grid,3,FALSE)-HLOOKUP(RPM_Difference,Stock_Grid,2,FALSE))","v":0}]
["3rd",1.37,22.77,1.444,22.77,1.286,22.77,"3rd",5.2238100000000003,5.2951479999999993,4.7157619999999998,0.50072992700729924,0.46675900277008314,0.51166407465007768,118.94615370000001,120.57051995999998,107.37790073999999,{"$f":"B5-B6","v":0.33800000000000008},{"$f":"D5-D6","v":0.31499999999999995},{"$f":"F5-F6","v":0.31700000000000006},"2nd-3rd",{"$f":"IF((LEFT(TEXT(HLOOKUP(RPM_Difference,A_Grid,4,FALSE)-HLOOKUP(RPM_Difference,A_Grid,3,FALSE), \"00.0\"),1)=\"-\"), 0,HLOOKUP(RPM_Difference,A_Grid,4,FALSE)-HLOOKUP(RPM_Difference,A_Grid,3,FALSE))","v":25.105297937756824},{"$f":"IF((LEFT(TEXT(HLOOKUP(RPM_Difference,B_Grid,4,FALSE)-HLOOKUP(RPM_Difference,B_Grid,3,FALSE), \"00.0\"),1)=\"-\"), 0,HLOOKUP(RPM_Difference,B_Grid,4,FALSE)-HLOOKUP(RPM_Difference,B_Grid,3,FALSE))","v":23.621506084460989},{"$f":"IF((LEFT(TEXT(HLOOKUP(RPM_Difference,Stock_Grid,4,FALSE)-HLOOKUP(RPM_Difference,Stock_Grid,3,FALSE), \"00.0\"),1)=\"-\"), 0,HLOOKUP(RPM_Difference,Stock_Grid,4,FALSE)-HLOOKUP(RPM_Difference,Stock_Grid,3,FALSE))","v":0}]
["4th",1.032,null,1.129,null,0.96899999999999997,null,"4th",3.9350160000000001,4.1400429999999995,3.5533229999999998,0.32751937984496127,0.27900797165633301,0.32714138286893707,89.600314319999995,94.268779109999983,80.909164709999999,{"$f":"B6-B7","v":0.18200000000000005},{"$f":"D6-D7","v":0.23499999999999999},{"$f":"F6-F7","v":0.16399999999999992},"3rd-4th",{"$f":"IF((LEFT(TEXT(HLOOKUP(RPM_Difference,A_Grid,5,FALSE)-HLOOKUP(RPM_Difference,A_Grid,4,FALSE), \"00.0\"),1)=\"-\"), 0,HLOOKUP(RPM_Difference,A_Grid,5,FALSE)-HLOOKUP(RPM_Difference,A_Grid,4,FALSE))","v":24.643442613749912},{"$f":"IF((LEFT(TEXT(HLOOKUP(RPM_Difference,B_Grid,5,FALSE)-HLOOKUP(RPM_Difference,B_Grid,4,FALSE), \"00.0\"),1)=\"-\"), 0,HLOOKUP(RPM_Difference,B_Grid,5,FALSE)-HLOOKUP(RPM_Difference,B_Grid,4,FALSE))","v":20.71048433708809},{"$f":"IF((LEFT(TEXT(HLOOKUP(RPM_Difference,Stock_Grid,5,FALSE)-HLOOKUP(RPM_Difference,Stock_Grid,4,FALSE), \"00.0\"),1)=\"-\"), 0,HLOOKUP(RPM_Difference,Stock_Grid,5,FALSE)-HLOOKUP(RPM_Difference,Stock_Grid,4,FALSE))","v":0}]
["5th",0.85,null,0.89400000000000002,null,0.80500000000000005,null,"5th",3.24105,3.2782979999999999,2.9519350000000002,0.21411764705882355,0.26286353467561507,0.203726708074534,73.798708500000004,74.646845459999994,67.215559949999999,{"$f":"B7-B8","v":0.85},{"$f":"D7-D8","v":0.89400000000000002},{"$f":"F7-F8","v":0.80500000000000005},"4th-5th",{"$f":"IF((LEFT(TEXT(HLOOKUP(RPM_Difference,A_Grid,6,FALSE)-HLOOKUP(RPM_Difference,A_Grid,5,FALSE), \"00.0\"),1)=\"-\"), 0,HLOOKUP(RPM_Difference,A_Grid,6,FALSE)-HLOOKUP(RPM_Difference,A_Grid,5,FALSE))","v":21.3873859426119},{"$f":"IF((LEFT(TEXT(HLOOKUP(RPM_Difference,B_Grid,6,FALSE)-HLOOKUP(RPM_Difference,B_Grid,5,FALSE), \"00.0\"),1)=\"-\"), 0,HLOOKUP(RPM_Difference,B_Grid,6,FALSE)-HLOOKUP(RPM_Difference,B_Grid,5,FALSE))","v":24.956129949034022},{"$f":"IF((LEFT(TEXT(HLOOKUP(RPM_Difference,Stock_Grid,6,FALSE)-HLOOKUP(RPM_Difference,Stock_Grid,5,FALSE), \"00.0\"),1)=\"-\"), 0,HLOOKUP(RPM_Difference,Stock_Grid,6,FALSE)-HLOOKUP(RPM_Difference,Stock_Grid,5,FALSE))","v":0}]
["6th",0,null,0,null,0,null,"6th",0,0,0,0,0,0,0,0,0,null,null,null,"5th-6th",{"$f":"IF((LEFT(TEXT(HLOOKUP(RPM_Difference,A_Grid,7,FALSE)-HLOOKUP(RPM_Difference,A_Grid,6,FALSE), \"00.0\"),1)=\"-\"), 0,HLOOKUP(RPM_Difference,A_Grid,7,FALSE)-HLOOKUP(RPM_Difference,A_Grid,6,FALSE))","v":0},{"$f":"IF((LEFT(TEXT(HLOOKUP(RPM_Difference,B_Grid,7,FALSE)-HLOOKUP(RPM_Difference,B_Grid,6,FALSE), \"00.0\"),1)=\"-\"), 0,HLOOKUP(RPM_Difference,B_Grid,7,FALSE)-HLOOKUP(RPM_Difference,B_Grid,6,FALSE))","v":0},{"$f":"IF((LEFT(TEXT(HLOOKUP(RPM_Difference,Stock_Grid,7,FALSE)-HLOOKUP(RPM_Difference,Stock_Grid,6,FALSE), \"00.0\"),1)=\"-\"), 0,HLOOKUP(RPM_Difference,Stock_Grid,7,FALSE)-HLOOKUP(RPM_Difference,Stock_Grid,6,FALSE))","v":0}]

{"sheet":"Raw data","index":1,"n_rows":92,"n_cols":99,"rows_kept":92,"cut":false,"hidden":true,"merged":[]}
["Gearing A",true,null,null,null,null,null,null,null,null,null,null,null,null,null,null,null,null,null,null,null,null,null,null,null,null,null,null,null,null,null,null,null,null,null,null,null,null,0,1,2,3,4,5,6,7,8,9,10,11,12,13,14,15,16,17,18,19,20,21,22,23,24,25,26,27,28,29,30,31,32,33,34,35,36,37,38,39,40,41,42,43,44,45,46,47,48,49,50,51,52,53,54,55,56,57,58,59,60]
[null,600,800,1000,1200,1400,1600,1800,2000,2200,2400,2600,2800,3000,3200,3400,3600,3800,4000,4200,4400,4600,4800,5000,5200,5400,5600,5800,6000,6200,6400,6600,6800,7000,7200,7400,7600,7800,8000,8200,8400,8600,8800,9000,9200,9400,9600,9800,10000,10200,10400,10600,10800,11000,11200,11400,11600,11800,12000,12200,12400,12600,12800,13000,13200,13400,13600,13800,14000,14200,14400,14600,14800,15000,15200,15400,15600,15800,16000,16200,16400,16600,16800,17000,17200,17400,17600,17800,18000,18200,18400,18600,18800,19000,19200,19400,19600,19800,20000]
["A-1st",{"$f":"IF(ShowA,IF(ISERROR((B$2*Analyzer!$C$5)/(Analyzer!$I$3*336)),0,SpeedConv*(B$2*Analyzer!$C$5)/(Analyzer!$I$3*336)),0)","v":3.0864564015870974},{"$f":"IF(ShowA,IF(ISERROR((C$2*Analyzer!$C$5)/(Analyzer!$I$3*336)),0,SpeedConv*(C$2*Analyzer!$C$5)/(Analyzer!$I$3*336)),0)","v":4.1152752021161296},{"$f":"IF(ShowA,IF(ISERROR((D$2*Analyzer!$C$5)/(Analyzer!$I$3*336)),0,SpeedConv*(D$2*Analyzer!$C$5)/(Analyzer!$I$3*336)),0)","v":5.1440940026451623},{"$f":"IF(ShowA,IF(ISERROR((E$2*Analyzer!$C$5)/(Analyzer!$I$3*336)),0,SpeedConv*(E$2*Analyzer!$C$5)/(Analyzer!$I$3*336)),0)","v":6.1729128031741949},{"$f":"IF(ShowA,IF(ISERROR((F$2*Analyzer!$C$5)/(Analyzer!$I$3*336)),0,SpeedConv*(F$2*Analyzer!$C$5)/(Analyzer!$I$3*336)),0)","v":7.2017316037032266},{"$f":"IF(ShowA,IF(ISERROR((G$2*Analyzer!$C$5)/(Analyzer!$I$3*336)),0,SpeedConv*(G$2*Analyzer!$C$5)/(Analyzer!$I$3*336)),0)","v":8.2305504042322593},{"$f":"IF(ShowA,IF(ISERROR((H$2*Analyzer!$C$5)/(Analyzer!$I$3*336)),0,SpeedConv*(H$2*Analyzer!$C$5)/(Analyzer!$I$3*336)),0)","v":9.2593692047612919},{"$f":"IF(ShowA,IF(ISERROR((I$2*Analyzer!$C$5)/(Analyzer!$I$3*336)),0,SpeedConv*(I$2*Analyzer!$C$5)/(Analyzer!$I$3*336)),0)","v":10.288188005290325},{"$f":"IF(ShowA,IF(ISERROR((J$2*Analyzer!$C$5)/(Analyzer!$I$3*336)),0,SpeedConv*(J$2*Analyzer!$C$5)/(Analyzer!$I$3*336)),0)","v":11.317006805819357},{"$f":"IF(ShowA,IF(ISERROR((K$2*Analyzer!$C$5)/(Analyzer!$I$3*336)),0,SpeedConv*(K$2*Analyzer!$C$5)/(Analyzer!$I$3*336)),0)","v":12.34582560634839},{"$f":"IF(ShowA,IF(ISERROR((L$2*Analyzer!$C$5)/(Analyzer!$I$3*336)),0,SpeedConv*(L$2*Analyzer!$C$5)/(Analyzer!$I$3*336)),0)","v":13.374644406877421},{"$f":"IF(ShowA,IF(ISERROR((M$2*Analyzer!$C$5)/(Analyzer!$I$3*336)),0,SpeedConv*(M$2*Analyzer!$C$5)/(Analyzer!$I$3*336)),0)","v":14.403463207406453},{"$f":"IF(ShowA,IF(ISERROR((N$2*Analyzer!$C$5)/(Analyzer!$I$3*336)),0,SpeedConv*(N$2*Analyzer!$C$5)/(Analyzer!$I$3*336)),0)","v":15.432282007935486},{"$f":"IF(ShowA,IF(ISERROR((O$2*Analyzer!$C$5)/(Analyzer!$I$3*336)),0,SpeedConv*(O$2*Analyzer!$C$5)/(Analyzer!$I$3*336)),0)","v":16.461100808464519},{"$f":"IF(ShowA,IF(ISERROR((P$2*Analyzer!$C$5)/(Analyzer!$I$3*336)),0,SpeedConv*(P$2*Analyzer!$C$5)/(Analyzer!$I$3*336)),0)","v":17.489919608993549},{"$f":"IF(ShowA,IF(ISERROR((Q$2*Analyzer!$C$5)/(Analyzer!$I$3*336)),0,SpeedConv*(Q$2*Analyzer!$C$5)/(Analyzer!$I$3*336)),0)","v":18.518738409522584},{"$f":"IF(ShowA,IF(ISERROR((R$2*Analyzer!$C$5)/(Analyzer!$I$3*336)),0,SpeedConv*(R$2*Analyzer!$C$5)/(Analyzer!$I$3*336)),0)","v":19.547557210051615},{"$f":"IF(ShowA,IF(ISERROR((S$2*Analyzer!$C$5)/(Analyzer!$I$3*336)),0,SpeedConv*(S$2*Analyzer!$C$5)/(Analyzer!$I$3*336)),0)","v":20.576376010580649},{"$f":"IF(ShowA,IF(ISERROR((T$2*Analyzer!$C$5)/(Analyzer!$I$3*336)),0,SpeedConv*(T$2*Analyzer!$C$5)/(Analyzer!$I$3*336)),0)","v":21.60519481110968},{"$f":"IF(ShowA,IF(ISERROR((U$2*Analyzer!$C$5)/(Analyzer!$I$3*336)),0,SpeedConv*(U$2*Analyzer!$C$5)/(Analyzer!$I$3*336)),0)","v":22.634013611638714},{"$f":"IF(ShowA,IF(ISERROR((V$2*Analyzer!$C$5)/(Analyzer!$I$3*336)),0,SpeedConv*(V$2*Analyzer!$C$5)/(Analyzer!$I$3*336)),0)","v":23.662832412167745},{"$f":"IF(ShowA,IF(ISERROR((W$2*Analyzer!$C$5)/(Analyzer!$I$3*336)),0,SpeedConv*(W$2*Analyzer!$C$5)/(Analyzer!$I$3*336)),0)","v":24.69165121269678},{"$f":"IF(ShowA,IF(ISERROR((X$2*Analyzer!$C$5)/(Analyzer!$I$3*336)),0,SpeedConv*(X$2*Analyzer!$C$5)/(Analyzer!$I$3*336)),0)","v":25.72047001322581},{"$f":"IF(ShowA,IF(ISERROR((Y$2*Analyzer!$C$5)/(Analyzer!$I$3*336)),0,SpeedConv*(Y$2*Analyzer!$C$5)/(Analyzer!$I$3*336)),0)","v":26.749288813754841},{"$f":"IF(ShowA,IF(ISERROR((Z$2*Analyzer!$C$5)/(Analyzer!$I$3*336)),0,SpeedConv*(Z$2*Analyzer!$C$5)/(Analyzer!$I$3*336)),0)","v":27.778107614283876},{"$f":"IF(ShowA,IF(ISERROR((AA$2*Analyzer!$C$5)/(Analyzer!$I$3*336)),0,SpeedConv*(AA$2*Analyzer!$C$5)/(Analyzer!$I$3*336)),0)","v":28.806926414812907},{"$f":"IF(ShowA,IF(ISERROR((AB$2*Analyzer!$C$5)/(Analyzer!$I$3*336)),0,SpeedConv*(AB$2*Analyzer!$C$5)/(Analyzer!$I$3*336)),0)","v":29.835745215341941},{"$f":"IF(ShowA,IF(ISERROR((AC$2*Analyzer!$C$5)/(Analyzer!$I$3*336)),0,SpeedConv*(AC$2*Analyzer!$C$5)/(Analyzer!$I$3*336)),0)","v":30.864564015870972},{"$f":"IF(ShowA,IF(ISERROR((AD$2*Analyzer!$C$5)/(Analyzer!$I$3*336)),0,SpeedConv*(AD$2*Analyzer!$C$5)/(Analyzer!$I$3*336)),0)","v":31.893382816400006},{"$f":"IF(ShowA,IF(ISERROR((AE$2*Analyzer!$C$5)/(Analyzer!$I$3*336)),0,SpeedConv*(AE$2*Analyzer!$C$5)/(Analyzer!$I$3*336)),0)","v":32.922201616929037},{"$f":"IF(ShowA,IF(ISERROR((AF$2*Analyzer!$C$5)/(Analyzer!$I$3*336)),0,SpeedConv*(AF$2*Analyzer!$C$5)/(Analyzer!$I$3*336)),0)","v":33.951020417458068},{"$f":"IF(ShowA,IF(ISERROR((AG$2*Analyzer!$C$5)/(Analyzer!$I$3*336)),0,SpeedConv*(AG$2*Analyzer!$C$5)/(Analyzer!$I$3*336)),0)","v":34.979839217987099},{"$f":"IF(ShowA,IF(ISERROR((AH$2*Analyzer!$C$5)/(Analyzer!$I$3*336)),0,SpeedConv*(AH$2*Analyzer!$C$5)/(Analyzer!$I$3*336)),0)","v":36.008658018516137},{"$f":"IF(ShowA,IF(ISERROR((AI$2*Analyzer!$C$5)/(Analyzer!$I$3*336)),0,SpeedConv*(AI$2*Analyzer!$C$5)/(Analyzer!$I$3*336)),0)","v":37.037476819045168},{"$f":"IF(ShowA,IF(ISERROR((AJ$2*Analyzer!$C$5)/(Analyzer!$I$3*336)),0,SpeedConv*(AJ$2*Analyzer!$C$5)/(Analyzer!$I$3*336)),0)","v":38.066295619574198},{"$f":"IF(ShowA,IF(ISERROR((AK$2*Analyzer!$C$5)/(Analyzer!$I$3*336)),0,SpeedConv*(AK$2*Analyzer!$C$5)/(Analyzer!$I$3*336)),0)","v":39.095114420103229},{"$f":"IF(ShowA,IF(ISERROR((AL$2*Analyzer!$C$5)/(Analyzer!$I$3*336)),0,SpeedConv*(AL$2*Analyzer!$C$5)/(Analyzer!$I$3*336)),0)","v":40.123933220632267},{"$f":"IF(ShowA,IF(ISERROR((AM$2*Analyzer!$C$5)/(Analyzer!$I$3*336)),0,SpeedConv*(AM$2*Analyzer!$C$5)/(Analyzer!$I$3*336)),0)","v":41.152752021161298},{"$f":"IF(ShowA,IF(ISERROR((AN$2*Analyzer!$C$5)/(Analyzer!$I$3*336)),0,SpeedConv*(AN$2*Analyzer!$C$5)/(Analyzer!$I$3*336)),0)","v":42.181570821690329},{"$f":"IF(ShowA,IF(ISERROR((AO$2*Analyzer!$C$5)/(Analyzer!$I$3*336)),0,SpeedConv*(AO$2*Analyzer!$C$5)/(Analyzer!$I$3*336)),0)","v":43.21038962221936},{"$f":"IF(ShowA,IF(ISERROR((AP$2*Analyzer!$C$5)/(Analyzer!$I$3*336)),0,SpeedConv*(AP$2*Analyzer!$C$5)/(Analyzer!$I$3*336)),0)","v":44.239208422748391},{"$f":"IF(ShowA,IF(ISERROR((AQ$2*Analyzer!$C$5)/(Analyzer!$I$3*336)),0,SpeedConv*(AQ$2*Analyzer!$C$5)/(Analyzer!$I$3*336)),0)","v":45.268027223277429},{"$f":"IF(ShowA,IF(ISERROR((AR$2*Analyzer!$C$5)/(Analyzer!$I$3*336)),0,SpeedConv*(AR$2*Analyzer!$C$5)/(Analyzer!$I$3*336)),0)","v":46.296846023806459},{"$f":"IF(ShowA,IF(ISERROR((AS$2*Analyzer!$C$5)/(Analyzer!$I$3*336)),0,SpeedConv*(AS$2*Analyzer!$C$5)/(Analyzer!$I$3*336)),0)","v":47.32566482433549},{"$f":"IF(ShowA,IF(ISERROR((AT$2*Analyzer!$C$5)/(Analyzer!$I$3*336)),0,SpeedConv*(AT$2*Analyzer!$C$5)/(Analyzer!$I$3*336)),0)","v":48.354483624864521},{"$f":"IF(ShowA,IF(ISERROR((AU$2*Analyzer!$C$5)/(Analyzer!$I$3*336)),0,SpeedConv*(AU$2*Analyzer!$C$5)/(Analyzer!$I$3*336)),0)","v":49.383302425393559},{"$f":"IF(ShowA,IF(ISERROR((AV$2*Analyzer!$C$5)/(Analyzer!$I$3*336)),0,SpeedConv*(AV$2*Analyzer!$C$5)/(Analyzer!$I$3*336)),0)","v":50.41212122592259},{"$f":"IF(ShowA,IF(ISERROR((AW$2*Analyzer!$C$5)/(Analyzer!$I$3*336)),0,SpeedConv*(AW$2*Analyzer!$C$5)/(Analyzer!$I$3*336)),0)","v":51.440940026451621},{"$f":"IF(ShowA,IF(ISERROR((AX$2*Analyzer!$C$5)/(Analyzer!$I$3*336)),0,SpeedConv*(AX$2*Analyzer!$C$5)/(Analyzer!$I$3*336)),0)","v":52.469758826980652},{"$f":"IF(ShowA,IF(ISERROR((AY$2*Analyzer!$C$5)/(Analyzer!$I$3*336)),0,SpeedConv*(AY$2*Analyzer!$C$5)/(Analyzer!$I$3*336)),0)","v":53.498577627509682},{"$f":"IF(ShowA,IF(ISERROR((AZ$2*Analyzer!$C$5)/(Analyzer!$I$3*336)),0,SpeedConv*(AZ$2*Analyzer!$C$5)/(Analyzer!$I$3*336)),0)","v":54.52739642803872},{"$f":"IF(ShowA,IF(ISERROR((BA$2*Analyzer!$C$5)/(Analyzer!$I$3*336)),0,SpeedConv*(BA$2*Analyzer!$C$5)/(Analyzer!$I$3*336)),0)","v":55.556215228567751},{"$f":"IF(ShowA,IF(ISERROR((BB$2*Analyzer!$C$5)/(Analyzer!$I$3*336)),0,SpeedConv*(BB$2*Analyzer!$C$5)/(Analyzer!$I$3*336)),0)","v":56.585034029096782},{"$f":"IF(ShowA,IF(ISERROR((BC$2*Analyzer!$C$5)/(Analyzer!$I$3*336)),0,SpeedConv*(BC$2*Analyzer!$C$5)/(Analyzer!$I$3*336)),0)","v":57.613852829625813},{"$f":"IF(ShowA,IF(ISERROR((BD$2*Analyzer!$C$5)/(Analyzer!$I$3*336)),0,SpeedConv*(BD$2*Analyzer!$C$5)/(Analyzer!$I$3*336)),0)","v":58.642671630154844},{"$f":"IF(ShowA,IF(ISERROR((BE$2*Analyzer!$C$5)/(Analyzer!$I$3*336)),0,SpeedConv*(BE$2*Analyzer!$C$5)/(Analyzer!$I$3*336)),0)","v":59.671490430683882},{"$f":"IF(ShowA,IF(ISERROR((BF$2*Analyzer!$C$5)/(Analyzer!$I$3*336)),0,SpeedConv*(BF$2*Analyzer!$C$5)/(Analyzer!$I$3*336)),0)","v":60.700309231212913},{"$f":"IF(ShowA,IF(ISERROR((BG$2*Analyzer!$C$5)/(Analyzer!$I$3*336)),0,SpeedConv*(BG$2*Analyzer!$C$5)/(Analyzer!$I$3*336)),0)","v":61.729128031741944},{"$f":"IF(ShowA,IF(ISERROR((BH$2*Analyzer!$C$5)/(Analyzer!$I$3*336)),0,SpeedConv*(BH$2*Analyzer!$C$5)/(Analyzer!$I$3*336)),0)","v":62.757946832270974},{"$f":"IF(ShowA,IF(ISERROR((BI$2*Analyzer!$C$5)/(Analyzer!$I$3*336)),0,SpeedConv*(BI$2*Analyzer!$C$5)/(Analyzer!$I$3*336)),0)","v":63.786765632800012},{"$f":"IF(ShowA,IF(ISERROR((BJ$2*Analyzer!$C$5)/(Analyzer!$I$3*336)),0,SpeedConv*(BJ$2*Analyzer!$C$5)/(Analyzer!$I$3*336)),0)","v":64.815584433329036},{"$f":"IF(ShowA,IF(ISERROR((BK$2*Analyzer!$C$5)/(Analyzer!$I$3*336)),0,SpeedConv*(BK$2*Analyzer!$C$5)/(Analyzer!$I$3*336)),0)","v":65.844403233858074},{"$f":"IF(ShowA,IF(ISERROR((BL$2*Analyzer!$C$5)/(Analyzer!$I$3*336)),0,SpeedConv*(BL$2*Analyzer!$C$5)/(Analyzer!$I$3*336)),0)","v":66.873222034387112},{"$f":"IF(ShowA,IF(ISERROR((BM$2*Analyzer!$C$5)/(Analyzer!$I$3*336)),0,SpeedConv*(BM$2*Analyzer!$C$5)/(Analyzer!$I$3*336)),0)","v":67.902040834916136},{"$f":"IF(ShowA,IF(ISERROR((BN$2*Analyzer!$C$5)/(Analyzer!$I$3*336)),0,SpeedConv*(BN$2*Analyzer!$C$5)/(Analyzer!$I$3*336)),0)","v":68.930859635445174},{"$f":"IF(ShowA,IF(ISERROR((BO$2*Analyzer!$C$5)/(Analyzer!$I$3*336)),0,SpeedConv*(BO$2*Analyzer!$C$5)/(Analyzer!$I$3*336)),0)","v":69.959678435974197},{"$f":"IF(ShowA,IF(ISERROR((BP$2*Analyzer!$C$5)/(Analyzer!$I$3*336)),0,SpeedConv*(BP$2*Analyzer!$C$5)/(Analyzer!$I$3*336)),0)","v":70.988497236503235},{"$f":"IF(ShowA,IF(ISERROR((BQ$2*Analyzer!$C$5)/(Analyzer!$I$3*336)),0,SpeedConv*(BQ$2*Analyzer!$C$5)/(Analyzer!$I$3*336)),0)","v":72.017316037032273},{"$f":"IF(ShowA,IF(ISERROR((BR$2*Analyzer!$C$5)/(Analyzer!$I$3*336)),0,SpeedConv*(BR$2*Analyzer!$C$5)/(Analyzer!$I$3*336)),0)","v":73.046134837561297},{"$f":"IF(ShowA,IF(ISERROR((BS$2*Analyzer!$C$5)/(Analyzer!$I$3*336)),0,SpeedConv*(BS$2*Analyzer!$C$5)/(Analyzer!$I$3*336)),0)","v":74.074953638090335},{"$f":"IF(ShowA,IF(ISERROR((BT$2*Analyzer!$C$5)/(Analyzer!$I$3*336)),0,SpeedConv*(BT$2*Analyzer!$C$5)/(Analyzer!$I$3*336)),0)","v":75.103772438619359},{"$f":"IF(ShowA,IF(ISERROR((BU$2*Analyzer!$C$5)/(Analyzer!$I$3*336)),0,SpeedConv*(BU$2*Analyzer!$C$5)/(Analyzer!$I$3*336)),0)","v":76.132591239148397},{"$f":"IF(ShowA,IF(ISERROR((BV$2*Analyzer!$C$5)/(Analyzer!$I$3*336)),0,SpeedConv*(BV$2*Analyzer!$C$5)/(Analyzer!$I$3*336)),0)","v":77.161410039677435},{"$f":"IF(ShowA,IF(ISERROR((BW$2*Analyzer!$C$5)/(Analyzer!$I$3*336)),0,SpeedConv*(BW$2*Analyzer!$C$5)/(Analyzer!$I$3*336)),0)","v":78.190228840206458},{"$f":"IF(ShowA,IF(ISERROR((BX$2*Analyzer!$C$5)/(Analyzer!$I$3*336)),0,SpeedConv*(BX$2*Analyzer!$C$5)/(Analyzer!$I$3*336)),0)","v":79.219047640735496},{"$f":"IF(ShowA,IF(ISERROR((BY$2*Analyzer!$C$5)/(Analyzer!$I$3*336)),0,SpeedConv*(BY$2*Analyzer!$C$5)/(Analyzer!$I$3*336)),0)","v":80.247866441264534},{"$f":"IF(ShowA,IF(ISERROR((BZ$2*Analyzer!$C$5)/(Analyzer!$I$3*336)),0,SpeedConv*(BZ$2*Analyzer!$C$5)/(Analyzer!$I$3*336)),0)","v":81.276685241793558},{"$f":"IF(ShowA,IF(ISERROR((CA$2*Analyzer!$C$5)/(Analyzer!$I$3*336)),0,SpeedConv*(CA$2*Analyzer!$C$5)/(Analyzer!$I$3*336)),0)","v":82.305504042322596},{"$f":"IF(ShowA,IF(ISERROR((CB$2*Analyzer!$C$5)/(Analyzer!$I$3*336)),0,SpeedConv*(CB$2*Analyzer!$C$5)/(Analyzer!$I$3*336)),0)","v":83.33432284285162},{"$f":"IF(ShowA,IF(ISERROR((CC$2*Analyzer!$C$5)/(Analyzer!$I$3*336)),0,SpeedConv*(CC$2*Analyzer!$C$5)/(Analyzer!$I$3*336)),0)","v":84.363141643380658},{"$f":"IF(ShowA,IF(ISERROR((CD$2*Analyzer!$C$5)/(Analyzer!$I$3*336)),0,SpeedConv*(CD$2*Analyzer!$C$5)/(Analyzer!$I$3*336)),0)","v":85.391960443909696},{"$f":"IF(ShowA,IF(ISERROR((CE$2*Analyzer!$C$5)/(Analyzer!$I$3*336)),0,SpeedConv*(CE$2*Analyzer!$C$5)/(Analyzer!$I$3*336)),0)","v":86.42077924443872},{"$f":"IF(ShowA,IF(ISERROR((CF$2*Analyzer!$C$5)/(Analyzer!$I$3*336)),0,SpeedConv*(CF$2*Analyzer!$C$5)/(Analyzer!$I$3*336)),0)","v":87.449598044967757},{"$f":"IF(ShowA,IF(ISERROR((CG$2*Analyzer!$C$5)/(Analyzer!$I$3*336)),0,SpeedConv*(CG$2*Analyzer!$C$5)/(Analyzer!$I$3*336)),0)","v":88.478416845496781},{"$f":"IF(ShowA,IF(ISERROR((CH$2*Analyzer!$C$5)/(Analyzer!$I$3*336)),0,SpeedConv*(CH$2*Analyzer!$C$5)/(Analyzer!$I$3*336)),0)","v":89.507235646025819},{"$f":"IF(ShowA,IF(ISERROR((CI$2*Analyzer!$C$5)/(Analyzer!$I$3*336)),0,SpeedConv*(CI$2*Analyzer!$C$5)/(Analyzer!$I$3*336)),0)","v":90.536054446554857},{"$f":"IF(ShowA,IF(ISERROR((CJ$2*Analyzer!$C$5)/(Analyzer!$I$3*336)),0,SpeedConv*(CJ$2*Analyzer!$C$5)/(Analyzer!$I$3*336)),0)","v":91.564873247083881},{"$f":"IF(ShowA,IF(ISERROR((CK$2*Analyzer!$C$5)/(Analyzer!$I$3*336)),0,SpeedConv*(CK$2*Analyzer!$C$5)/(Analyzer!$I$3*336)),0)","v":92.593692047612919},{"$f":"IF(ShowA,IF(ISERROR((CL$2*Analyzer!$C$5)/(Analyzer!$I$3*336)),0,SpeedConv*(CL$2*Analyzer!$C$5)/(Analyzer!$I$3*336)),0)","v":93.622510848141943},{"$f":"IF(ShowA,IF(ISERROR((CM$2*Analyzer!$C$5)/(Analyzer!$I$3*336)),0,SpeedConv*(CM$2*Analyzer!$C$5)/(Analyzer!$I$3*336)),0)","v":94.651329648670981},{"$f":"IF(ShowA,IF(ISERROR((CN$2*Analyzer!$C$5)/(Analyzer!$I$3*336)),0,SpeedConv*(CN$2*Analyzer!$C$5)/(Analyzer!$I$3*336)),0)","v":95.680148449200018},{"$f":"IF(ShowA,IF(ISERROR((CO$2*Analyzer!$C$5)/(Analyzer!$I$3*336)),0,SpeedConv*(CO$2*Analyzer!$C$5)/(Analyzer!$I$3*336)),0)","v":96.708967249729042},{"$f":"IF(ShowA,IF(ISERROR((CP$2*Analyzer!$C$5)/(Analyzer!$I$3*336)),0,SpeedConv*(CP$2*Analyzer!$C$5)/(Analyzer!$I$3*336)),0)","v":97.73778605025808},{"$f":"IF(ShowA,IF(ISERROR((CQ$2*Analyzer!$C$5)/(Analyzer!$I$3*336)),0,SpeedConv*(CQ$2*Analyzer!$C$5)/(Analyzer!$I$3*336)),0)","v":98.766604850787118},{"$f":"IF(ShowA,IF(ISERROR((CR$2*Analyzer!$C$5)/(Analyzer!$I$3*336)),0,SpeedConv*(CR$2*Analyzer!$C$5)/(Analyzer!$I$3*336)),0)","v":99.795423651316142},{"$f":"IF(ShowA,IF(ISERROR((CS$2*Analyzer!$C$5)/(Analyzer!$I$3*336)),0,SpeedConv*(CS$2*Analyzer!$C$5)/(Analyzer!$I$3*336)),0)","v":100.82424245184518},{"$f":"IF(ShowA,IF(ISERROR((CT$2*Analyzer!$C$5)/(Analyzer!$I$3*336)),0,SpeedConv*(CT$2*Analyzer!$C$5)/(Analyzer!$I$3*336)),0)","v":101.8530612523742},{"$f":"IF(ShowA,IF(ISERROR((CU$2*Analyzer!$C$5)/(Analyzer!$I$3*336)),0,SpeedConv*(CU$2*Analyzer!$C$5)/(Analyzer!$I$3*336)),0)","v":102.88188005290324}]
["A-2nd",{"$f":"IF(ShowA,IF(ISERROR((B$2*Analyzer!$C$5)/(Analyzer!$I$4*336)),0,SpeedConv*(B$2*Analyzer!$C$5)/(Analyzer!$I$4*336)),0)","v":5.1866278538343487},{"$f":"IF(ShowA,IF(ISERROR((C$2*Analyzer!$C$5)/(Analyzer!$I$4*336)),0,SpeedConv*(C$2*Analyzer!$C$5)/(Analyzer!$I$4*336)),0)","v":6.9155038051124649},{"$f":"IF(ShowA,IF(ISERROR((D$2*Analyzer!$C$5)/(Analyzer!$I$4*336)),0,SpeedConv*(D$2*Analyzer!$C$5)/(Analyzer!$I$4*336)),0)","v":8.6443797563905811},{"$f":"IF(ShowA,IF(ISERROR((E$2*Analyzer!$C$5)/(Analyzer!$I$4*336)),0,SpeedConv*(E$2*Analyzer!$C$5)/(Analyzer!$I$4*336)),0)","v":10.373255707668697},{"$f":"IF(ShowA,IF(ISERROR((F$2*Analyzer!$C$5)/(Analyzer!$I$4*336)),0,SpeedConv*(F$2*Analyzer!$C$5)/(Analyzer!$I$4*336)),0)","v":12.102131658946814},{"$f":"IF(ShowA,IF(ISERROR((G$2*Analyzer!$C$5)/(Analyzer!$I$4*336)),0,SpeedConv*(G$2*Analyzer!$C$5)/(Analyzer!$I$4*336)),0)","v":13.83100761022493},{"$f":"IF(ShowA,IF(ISERROR((H$2*Analyzer!$C$5)/(Analyzer!$I$4*336)),0,SpeedConv*(H$2*Analyzer!$C$5)/(Analyzer!$I$4*336)),0)","v":15.559883561503046},{"$f":"IF(ShowA,IF(ISERROR((I$2*Analyzer!$C$5)/(Analyzer!$I$4*336)),0,SpeedConv*(I$2*Analyzer!$C$5)/(Analyzer!$I$4*336)),0)","v":17.288759512781162},{"$f":"IF(ShowA,IF(ISERROR((J$2*Analyzer!$C$5)/(Analyzer!$I$4*336)),0,SpeedConv*(J$2*Analyzer!$C$5)/(Analyzer!$I$4*336)),0)","v":19.017635464059278},{"$f":"IF(ShowA,IF(ISERROR((K$2*Analyzer!$C$5)/(Analyzer!$I$4*336)),0,SpeedConv*(K$2*Analyzer!$C$5)/(Analyzer!$I$4*336)),0)","v":20.746511415337395},{"$f":"IF(ShowA,IF(ISERROR((L$2*Analyzer!$C$5)/(Analyzer!$I$4*336)),0,SpeedConv*(L$2*Analyzer!$C$5)/(Analyzer!$I$4*336)),0)","v":22.475387366615511},{"$f":"IF(ShowA,IF(ISERROR((M$2*Analyzer!$C$5)/(Analyzer!$I$4*336)),0,SpeedConv*(M$2*Analyzer!$C$5)/(Analyzer!$I$4*336)),0)","v":24.204263317893627},{"$f":"IF(ShowA,IF(ISERROR((N$2*Analyzer!$C$5)/(Analyzer!$I$4*336)),0,SpeedConv*(N$2*Analyzer!$C$5)/(Analyzer!$I$4*336)),0)","v":25.933139269171743},{"$f":"IF(ShowA,IF(ISERROR((O$2*Analyzer!$C$5)/(Analyzer!$I$4*336)),0,SpeedConv*(O$2*Analyzer!$C$5)/(Analyzer!$I$4*336)),0)","v":27.662015220449859},{"$f":"IF(ShowA,IF(ISERROR((P$2*Analyzer!$C$5)/(Analyzer!$I$4*336)),0,SpeedConv*(P$2*Analyzer!$C$5)/(Analyzer!$I$4*336)),0)","v":29.390891171727976},{"$f":"IF(ShowA,IF(ISERROR((Q$2*Analyzer!$C$5)/(Analyzer!$I$4*336)),0,SpeedConv*(Q$2*Analyzer!$C$5)/(Analyzer!$I$4*336)),0)","v":31.119767123006092},{"$f":"IF(ShowA,IF(ISERROR((R$2*Analyzer!$C$5)/(Analyzer!$I$4*336)),0,SpeedConv*(R$2*Analyzer!$C$5)/(Analyzer!$I$4*336)),0)","v":32.848643074284212},{"$f":"IF(ShowA,IF(ISERROR((S$2*Analyzer!$C$5)/(Analyzer!$I$4*336)),0,SpeedConv*(S$2*Analyzer!$C$5)/(Analyzer!$I$4*336)),0)","v":34.577519025562324},{"$f":"IF(ShowA,IF(ISERROR((T$2*Analyzer!$C$5)/(Analyzer!$I$4*336)),0,SpeedConv*(T$2*Analyzer!$C$5)/(Analyzer!$I$4*336)),0)","v":36.306394976840444},{"$f":"IF(ShowA,IF(ISERROR((U$2*Analyzer!$C$5)/(Analyzer!$I$4*336)),0,SpeedConv*(U$2*Analyzer!$C$5)/(Analyzer!$I$4*336)),0)","v":38.035270928118557},{"$f":"IF(ShowA,IF(ISERROR((V$2*Analyzer!$C$5)/(Analyzer!$I$4*336)),0,SpeedConv*(V$2*Analyzer!$C$5)/(Analyzer!$I$4*336)),0)","v":39.764146879396677},{"$f":"IF(ShowA,IF(ISERROR((W$2*Analyzer!$C$5)/(Analyzer!$I$4*336)),0,SpeedConv*(W$2*Analyzer!$C$5)/(Analyzer!$I$4*336)),0)","v":41.493022830674789},{"$f":"IF(ShowA,IF(ISERROR((X$2*Analyzer!$C$5)/(Analyzer!$I$4*336)),0,SpeedConv*(X$2*Analyzer!$C$5)/(Analyzer!$I$4*336)),0)","v":43.221898781952909},{"$f":"IF(ShowA,IF(ISERROR((Y$2*Analyzer!$C$5)/(Analyzer!$I$4*336)),0,SpeedConv*(Y$2*Analyzer!$C$5)/(Analyzer!$I$4*336)),0)","v":44.950774733231022},{"$f":"IF(ShowA,IF(ISERROR((Z$2*Analyzer!$C$5)/(Analyzer!$I$4*336)),0,SpeedConv*(Z$2*Analyzer!$C$5)/(Analyzer!$I$4*336)),0)","v":46.679650684509141},{"$f":"IF(ShowA,IF(ISERROR((AA$2*Analyzer!$C$5)/(Analyzer!$I$4*336)),0,SpeedConv*(AA$2*Analyzer!$C$5)/(Analyzer!$I$4*336)),0)","v":48.408526635787254},{"$f":"IF(ShowA,IF(ISERROR((AB$2*Analyzer!$C$5)/(Analyzer!$I$4*336)),0,SpeedConv*(AB$2*Analyzer!$C$5)/(Analyzer!$I$4*336)),0)","v":50.137402587065374},{"$f":"IF(ShowA,IF(ISERROR((AC$2*Analyzer!$C$5)/(Analyzer!$I$4*336)),0,SpeedConv*(AC$2*Analyzer!$C$5)/(Analyzer!$I$4*336)),0)","v":51.866278538343487},{"$f":"IF(ShowA,IF(ISERROR((AD$2*Analyzer!$C$5)/(Analyzer!$I$4*336)),0,SpeedConv*(AD$2*Analyzer!$C$5)/(Analyzer!$I$4*336)),0)","v":53.595154489621606},{"$f":"IF(ShowA,IF(ISERROR((AE$2*Analyzer!$C$5)/(Analyzer!$I$4*336)),0,SpeedConv*(AE$2*Analyzer!$C$5)/(Analyzer!$I$4*336)),0)","v":55.324030440899719},{"$f":"IF(ShowA,IF(ISERROR((AF$2*Analyzer!$C$5)/(Analyzer!$I$4*336)),0,SpeedConv*(AF$2*Analyzer!$C$5)/(Analyzer!$I$4*336)),0)","v":57.052906392177839},{"$f":"IF(ShowA,IF(ISERROR((AG$2*Analyzer!$C$5)/(Analyzer!$I$4*336)),0,SpeedConv*(AG$2*Analyzer!$C$5)/(Analyzer!$I$4*336)),0)","v":58.781782343455951},{"$f":"IF(ShowA,IF(ISERROR((AH$2*Analyzer!$C$5)/(Analyzer!$I$4*336)),0,SpeedConv*(AH$2*Analyzer!$C$5)/(Analyzer!$I$4*336)),0)","v":60.510658294734071},{"$f":"IF(ShowA,IF(ISERROR((AI$2*Analyzer!$C$5)/(Analyzer!$I$4*336)),0,SpeedConv*(AI$2*Analyzer!$C$5)/(Analyzer!$I$4*336)),0)","v":62.239534246012184},{"$f":"IF(ShowA,IF(ISERROR((AJ$2*Analyzer!$C$5)/(Analyzer!$I$4*336)),0,SpeedConv*(AJ$2*Analyzer!$C$5)/(Analyzer!$I$4*336)),0)","v":63.968410197290304},{"$f":"IF(ShowA,IF(ISERROR((AK$2*Analyzer!$C$5)/(Analyzer!$I$4*336)),0,SpeedConv*(AK$2*Analyzer!$C$5)/(Analyzer!$I$4*336)),0)","v":65.697286148568423},{"$f":"IF(ShowA,IF(ISERROR((AL$2*Analyzer!$C$5)/(Analyzer!$I$4*336)),0,SpeedConv*(AL$2*Analyzer!$C$5)/(Analyzer!$I$4*336)),0)","v":67.426162099846536},{"$f":"IF(ShowA,IF(ISERROR((AM$2*Analyzer!$C$5)/(Analyzer!$I$4*336)),0,SpeedConv*(AM$2*Analyzer!$C$5)/(Analyzer!$I$4*336)),0)","v":69.155038051124649},{"$f":"IF(ShowA,IF(ISERROR((AN$2*Analyzer!$C$5)/(Analyzer!$I$4*336)),0,SpeedConv*(AN$2*Analyzer!$C$5)/(Analyzer!$I$4*336)),0)","v":70.883914002402761},{"$f":"IF(ShowA,IF(ISERROR((AO$2*Analyzer!$C$5)/(Analyzer!$I$4*336)),0,SpeedConv*(AO$2*Analyzer!$C$5)/(Analyzer!$I$4*336)),0)","v":72.612789953680888},{"$f":"IF(ShowA,IF(ISERROR((AP$2*Analyzer!$C$5)/(Analyzer!$I$4*336)),0,SpeedConv*(AP$2*Analyzer!$C$5)/(Analyzer!$I$4*336)),0)","v":74.341665904959001},{"$f":"IF(ShowA,IF(ISERROR((AQ$2*Analyzer!$C$5)/(Analyzer!$I$4*336)),0,SpeedConv*(AQ$2*Analyzer!$C$5)/(Analyzer!$I$4*336)),0)","v":76.070541856237114},{"$f":"IF(ShowA,IF(ISERROR((AR$2*Analyzer!$C$5)/(Analyzer!$I$4*336)),0,SpeedConv*(AR$2*Analyzer!$C$5)/(Analyzer!$I$4*336)),0)","v":77.79941780751524},{"$f":"IF(ShowA,IF(ISERROR((AS$2*Analyzer!$C$5)/(Analyzer!$I$4*336)),0,SpeedConv*(AS$2*Analyzer!$C$5)/(Analyzer!$I$4*336)),0)","v":79.528293758793353},{"$f":"IF(ShowA,IF(ISERROR((AT$2*Analyzer!$C$5)/(Analyzer!$I$4*336)),0,SpeedConv*(AT$2*Analyzer!$C$5)/(Analyzer!$I$4*336)),0)","v":81.257169710071466},{"$f":"IF(ShowA,IF(ISERROR((AU$2*Analyzer!$C$5)/(Analyzer!$I$4*336)),0,SpeedConv*(AU$2*Analyzer!$C$5)/(Analyzer!$I$4*336)),0)","v":82.986045661349578},{"$f":"IF(ShowA,IF(ISERROR((AV$2*Analyzer!$C$5)/(Analyzer!$I$4*336)),0,SpeedConv*(AV$2*Analyzer!$C$5)/(Analyzer!$I$4*336)),0)","v":84.714921612627705},{"$f":"IF(ShowA,IF(ISERROR((AW$2*Analyzer!$C$5)/(Analyzer!$I$4*336)),0,SpeedConv*(AW$2*Analyzer!$C$5)/(Analyzer!$I$4*336)),0)","v":86.443797563905818},{"$f":"IF(ShowA,IF(ISERROR((AX$2*Analyzer!$C$5)/(Analyzer!$I$4*336)),0,SpeedConv*(AX$2*Analyzer!$C$5)/(Analyzer!$I$4*336)),0)","v":88.172673515183931},{"$f":"IF(ShowA,IF(ISERROR((AY$2*Analyzer!$C$5)/(Analyzer!$I$4*336)),0,SpeedConv*(AY$2*Analyzer!$C$5)/(Analyzer!$I$4*336)),0)","v":89.901549466462043},{"$f":"IF(ShowA,IF(ISERROR((AZ$2*Analyzer!$C$5)/(Analyzer!$I$4*336)),0,SpeedConv*(AZ$2*Analyzer!$C$5)/(Analyzer!$I$4*336)),0)","v":91.63042541774017},{"$f":"IF(ShowA,IF(ISERROR((BA$2*Analyzer!$C$5)/(Analyzer!$I$4*336)),0,SpeedConv*(BA$2*Analyzer!$C$5)/(Analyzer!$I$4*336)),0)","v":93.359301369018283},{"$f":"IF(ShowA,IF(ISERROR((BB$2*Analyzer!$C$5)/(Analyzer!$I$4*336)),0,SpeedConv*(BB$2*Analyzer!$C$5)/(Analyzer!$I$4*336)),0)","v":95.088177320296396},{"$f":"IF(ShowA,IF(ISERROR((BC$2*Analyzer!$C$5)/(Analyzer!$I$4*336)),0,SpeedConv*(BC$2*Analyzer!$C$5)/(Analyzer!$I$4*336)),0)","v":96.817053271574508},{"$f":"IF(ShowA,IF(ISERROR((BD$2*Analyzer!$C$5)/(Analyzer!$I$4*336)),0,SpeedConv*(BD$2*Analyzer!$C$5)/(Analyzer!$I$4*336)),0)","v":98.545929222852635},{"$f":"IF(ShowA,IF(ISERROR((BE$2*Analyzer!$C$5)/(Analyzer!$I$4*336)),0,SpeedConv*(BE$2*Analyzer!$C$5)/(Analyzer!$I$4*336)),0)","v":100.27480517413075},{"$f":"IF(ShowA,IF(ISERROR((BF$2*Analyzer!$C$5)/(Analyzer!$I$4*336)),0,SpeedConv*(BF$2*Analyzer!$C$5)/(Analyzer!$I$4*336)),0)","v":102.00368112540886},{"$f":"IF(ShowA,IF(ISERROR((BG$2*Analyzer!$C$5)/(Analyzer!$I$4*336)),0,SpeedConv*(BG$2*Analyzer!$C$5)/(Analyzer!$I$4*336)),0)","v":103.73255707668697},{"$f":"IF(ShowA,IF(ISERROR((BH$2*Analyzer!$C$5)/(Analyzer!$I$4*336)),0,SpeedConv*(BH$2*Analyzer!$C$5)/(Analyzer!$I$4*336)),0)","v":105.4614330279651},{"$f":"IF(ShowA,IF(ISERROR((BI$2*Analyzer!$C$5)/(Analyzer!$I$4*336)),0,SpeedConv*(BI$2*Analyzer!$C$5)/(Analyzer!$I$4*336)),0)","v":107.19030897924321},{"$f":"IF(ShowA,IF(ISERROR((BJ$2*Analyzer!$C$5)/(Analyzer!$I$4*336)),0,SpeedConv*(BJ$2*Analyzer!$C$5)/(Analyzer!$I$4*336)),0)","v":108.91918493052133},{"$f":"IF(ShowA,IF(ISERROR((BK$2*Analyzer!$C$5)/(Analyzer!$I$4*336)),0,SpeedConv*(BK$2*Analyzer!$C$5)/(Analyzer!$I$4*336)),0)","v":110.64806088179944},{"$f":"IF(ShowA,IF(ISERROR((BL$2*Analyzer!$C$5)/(Analyzer!$I$4*336)),0,SpeedConv*(BL$2*Analyzer!$C$5)/(Analyzer!$I$4*336)),0)","v":112.37693683307756},{"$f":"IF(ShowA,IF(ISERROR((BM$2*Analyzer!$C$5)/(Analyzer!$I$4*336)),0,SpeedConv*(BM$2*Analyzer!$C$5)/(Analyzer!$I$4*336)),0)","v":114.10581278435568},{"$f":"IF(ShowA,IF(ISERROR((BN$2*Analyzer!$C$5)/(Analyzer!$I$4*336)),0,SpeedConv*(BN$2*Analyzer!$C$5)/(Analyzer!$I$4*336)),0)","v":115.83468873563379},{"$f":"IF(ShowA,IF(ISERROR((BO$2*Analyzer!$C$5)/(Analyzer!$I$4*336)),0,SpeedConv*(BO$2*Analyzer!$C$5)/(Analyzer!$I$4*336)),0)","v":117.5635646869119},{"$f":"IF(ShowA,IF(ISERROR((BP$2*Analyzer!$C$5)/(Analyzer!$I$4*336)),0,SpeedConv*(BP$2*Analyzer!$C$5)/(Analyzer!$I$4*336)),0)","v":119.29244063819003},{"$f":"IF(ShowA,IF(ISERROR((BQ$2*Analyzer!$C$5)/(Analyzer!$I$4*336)),0,SpeedConv*(BQ$2*Analyzer!$C$5)/(Analyzer!$I$4*336)),0)","v":121.02131658946814},{"$f":"IF(ShowA,IF(ISERROR((BR$2*Analyzer!$C$5)/(Analyzer!$I$4*336)),0,SpeedConv*(BR$2*Analyzer!$C$5)/(Analyzer!$I$4*336)),0)","v":122.75019254074626},{"$f":"IF(ShowA,IF(ISERROR((BS$2*Analyzer!$C$5)/(Analyzer!$I$4*336)),0,SpeedConv*(BS$2*Analyzer!$C$5)/(Analyzer!$I$4*336)),0)","v":124.47906849202437},{"$f":"IF(ShowA,IF(ISERROR((BT$2*Analyzer!$C$5)/(Analyzer!$I$4*336)),0,SpeedConv*(BT$2*Analyzer!$C$5)/(Analyzer!$I$4*336)),0)","v":126.20794444330249},{"$f":"IF(ShowA,IF(ISERROR((BU$2*Analyzer!$C$5)/(Analyzer!$I$4*336)),0,SpeedConv*(BU$2*Analyzer!$C$5)/(Analyzer!$I$4*336)),0)","v":127.93682039458061},{"$f":"IF(ShowA,IF(ISERROR((BV$2*Analyzer!$C$5)/(Analyzer!$I$4*336)),0,SpeedConv*(BV$2*Analyzer!$C$5)/(Analyzer!$I$4*336)),0)","v":129.66569634585872},{"$f":"IF(ShowA,IF(ISERROR((BW$2*Analyzer!$C$5)/(Analyzer!$I$4*336)),0,SpeedConv*(BW$2*Analyzer!$C$5)/(Analyzer!$I$4*336)),0)","v":131.39457229713685},{"$f":"IF(ShowA,IF(ISERROR((BX$2*Analyzer!$C$5)/(Analyzer!$I$4*336)),0,SpeedConv*(BX$2*Analyzer!$C$5)/(Analyzer!$I$4*336)),0)","v":133.12344824841495},{"$f":"IF(ShowA,IF(ISERROR((BY$2*Analyzer!$C$5)/(Analyzer!$I$4*336)),0,SpeedConv*(BY$2*Analyzer!$C$5)/(Analyzer!$I$4*336)),0)","v":134.85232419969307},{"$f":"IF(ShowA,IF(ISERROR((BZ$2*Analyzer!$C$5)/(Analyzer!$I$4*336)),0,SpeedConv*(BZ$2*Analyzer!$C$5)/(Analyzer!$I$4*336)),0)","v":136.5812001509712},{"$f":"IF(ShowA,IF(ISERROR((CA$2*Analyzer!$C$5)/(Analyzer!$I$4*336)),0,SpeedConv*(CA$2*Analyzer!$C$5)/(Analyzer!$I$4*336)),0)","v":138.3100761022493},{"$f":"IF(ShowA,IF(ISERROR((CB$2*Analyzer!$C$5)/(Analyzer!$I$4*336)),0,SpeedConv*(CB$2*Analyzer!$C$5)/(Analyzer!$I$4*336)),0)","v":140.03895205352742},{"$f":"IF(ShowA,IF(ISERROR((CC$2*Analyzer!$C$5)/(Analyzer!$I$4*336)),0,SpeedConv*(CC$2*Analyzer!$C$5)/(Analyzer!$I$4*336)),0)","v":141.76782800480552},{"$f":"IF(ShowA,IF(ISERROR((CD$2*Analyzer!$C$5)/(Analyzer!$I$4*336)),0,SpeedConv*(CD$2*Analyzer!$C$5)/(Analyzer!$I$4*336)),0)","v":143.49670395608365},{"$f":"IF(ShowA,IF(ISERROR((CE$2*Analyzer!$C$5)/(Analyzer!$I$4*336)),0,SpeedConv*(CE$2*Analyzer!$C$5)/(Analyzer!$I$4*336)),0)","v":145.22557990736178},{"$f":"IF(ShowA,IF(ISERROR((CF$2*Analyzer!$C$5)/(Analyzer!$I$4*336)),0,SpeedConv*(CF$2*Analyzer!$C$5)/(Analyzer!$I$4*336)),0)","v":146.95445585863988},{"$f":"IF(ShowA,IF(ISERROR((CG$2*Analyzer!$C$5)/(Analyzer!$I$4*336)),0,SpeedConv*(CG$2*Analyzer!$C$5)/(Analyzer!$I$4*336)),0)","v":148.683331809918},{"$f":"IF(ShowA,IF(ISERROR((CH$2*Analyzer!$C$5)/(Analyzer!$I$4*336)),0,SpeedConv*(CH$2*Analyzer!$C$5)/(Analyzer!$I$4*336)),0)","v":150.41220776119613},{"$f":"IF(ShowA,IF(ISERROR((CI$2*Analyzer!$C$5)/(Analyzer!$I$4*336)),0,SpeedConv*(CI$2*Analyzer!$C$5)/(Analyzer!$I$4*336)),0)","v":152.14108371247423},{"$f":"IF(ShowA,IF(ISERROR((CJ$2*Analyzer!$C$5)/(Analyzer!$I$4*336)),0,SpeedConv*(CJ$2*Analyzer!$C$5)/(Analyzer!$I$4*336)),0)","v":153.86995966375235},{"$f":"IF(ShowA,IF(ISERROR((CK$2*Analyzer!$C$5)/(Analyzer!$I$4*336)),0,SpeedConv*(CK$2*Analyzer!$C$5)/(Analyzer!$I$4*336)),0)","v":155.59883561503048},{"$f":"IF(ShowA,IF(ISERROR((CL$2*Analyzer!$C$5)/(Analyzer!$I$4*336)),0,SpeedConv*(CL$2*Analyzer!$C$5)/(Analyzer!$I$4*336)),0)","v":157.32771156630858},{"$f":"IF(ShowA,IF(ISERROR((CM$2*Analyzer!$C$5)/(Analyzer!$I$4*336)),0,SpeedConv*(CM$2*Analyzer!$C$5)/(Analyzer!$I$4*336)),0)","v":159.05658751758671},{"$f":"IF(ShowA,IF(ISERROR((CN$2*Analyzer!$C$5)/(Analyzer!$I$4*336)),0,SpeedConv*(CN$2*Analyzer!$C$5)/(Analyzer!$I$4*336)),0)","v":160.7854634688648},{"$f":"IF(ShowA,IF(ISERROR((CO$2*Analyzer!$C$5)/(Analyzer!$I$4*336)),0,SpeedConv*(CO$2*Analyzer!$C$5)/(Analyzer!$I$4*336)),0)","v":162.51433942014293},{"$f":"IF(ShowA,IF(ISERROR((CP$2*Analyzer!$C$5)/(Analyzer!$I$4*336)),0,SpeedConv*(CP$2*Analyzer!$C$5)/(Analyzer!$I$4*336)),0)","v":164.24321537142106},{"$f":"IF(ShowA,IF(ISERROR((CQ$2*Analyzer!$C$5)/(Analyzer!$I$4*336)),0,SpeedConv*(CQ$2*Analyzer!$C$5)/(Analyzer!$I$4*336)),0)","v":165.97209132269916},{"$f":"IF(ShowA,IF(ISERROR((CR$2*Analyzer!$C$5)/(Analyzer!$I$4*336)),0,SpeedConv*(CR$2*Analyzer!$C$5)/(Analyzer!$I$4*336)),0)","v":167.70096727397728},{"$f":"IF(ShowA,IF(ISERROR((CS$2*Analyzer!$C$5)/(Analyzer!$I$4*336)),0,SpeedConv*(CS$2*Analyzer!$C$5)/(Analyzer!$I$4*336)),0)","v":169.42984322525541},{"$f":"IF(ShowA,IF(ISERROR((CT$2*Analyzer!$C$5)/(Analyzer!$I$4*336)),0,SpeedConv*(CT$2*Analyzer!$C$5)/(Analyzer!$I$4*336)),0)","v":171.15871917653351},{"$f":"IF(ShowA,IF(ISERROR((CU$2*Analyzer!$C$5)/(Analyzer!$I$4*336)),0,SpeedConv*(CU$2*Analyzer!$C$5)/(Analyzer!$I$4*336)),0)","v":172.88759512781164}]
["A-3rd",{"$f":"IF(ShowA,IF(ISERROR((B$2*Analyzer!$C$5)/(Analyzer!$I$5*336)),0,SpeedConv*(B$2*Analyzer!$C$5)/(Analyzer!$I$5*336)),0)","v":7.7837276404988476},{"$f":"IF(ShowA,IF(ISERROR((C$2*Analyzer!$C$5)/(Analyzer!$I$5*336)),0,SpeedConv*(C$2*Analyzer!$C$5)/(Analyzer!$I$5*336)),0)","v":10.37830352066513},{"$f":"IF(ShowA,IF(ISERROR((D$2*Analyzer!$C$5)/(Analyzer!$I$5*336)),0,SpeedConv*(D$2*Analyzer!$C$5)/(Analyzer!$I$5*336)),0)","v":12.972879400831411},{"$f":"IF(ShowA,IF(ISERROR((E$2*Analyzer!$C$5)/(Analyzer!$I$5*336)),0,SpeedConv*(E$2*Analyzer!$C$5)/(Analyzer!$I$5*336)),0)","v":15.567455280997695},{"$f":"IF(ShowA,IF(ISERROR((F$2*Analyzer!$C$5)/(Analyzer!$I$5*336)),0,SpeedConv*(F$2*Analyzer!$C$5)/(Analyzer!$I$5*336)),0)","v":18.162031161163977},{"$f":"IF(ShowA,IF(ISERROR((G$2*Analyzer!$C$5)/(Analyzer!$I$5*336)),0,SpeedConv*(G$2*Analyzer!$C$5)/(Analyzer!$I$5*336)),0)","v":20.756607041330259},{"$f":"IF(ShowA,IF(ISERROR((H$2*Analyzer!$C$5)/(Analyzer!$I$5*336)),0,SpeedConv*(H$2*Analyzer!$C$5)/(Analyzer!$I$5*336)),0)","v":23.351182921496541},{"$f":"IF(ShowA,IF(ISERROR((I$2*Analyzer!$C$5)/(Analyzer!$I$5*336)),0,SpeedConv*(I$2*Analyzer!$C$5)/(Analyzer!$I$5*336)),0)","v":25.945758801662823},{"$f":"IF(ShowA,IF(ISERROR((J$2*Analyzer!$C$5)/(Analyzer!$I$5*336)),0,SpeedConv*(J$2*Analyzer!$C$5)/(Analyzer!$I$5*336)),0)","v":28.540334681829108},{"$f":"IF(ShowA,IF(ISERROR((K$2*Analyzer!$C$5)/(Analyzer!$I$5*336)),0,SpeedConv*(K$2*Analyzer!$C$5)/(Analyzer!$I$5*336)),0)","v":31.13491056199539},{"$f":"IF(ShowA,IF(ISERROR((L$2*Analyzer!$C$5)/(Analyzer!$I$5*336)),0,SpeedConv*(L$2*Analyzer!$C$5)/(Analyzer!$I$5*336)),0)","v":33.729486442161672},{"$f":"IF(ShowA,IF(ISERROR((M$2*Analyzer!$C$5)/(Analyzer!$I$5*336)),0,SpeedConv*(M$2*Analyzer!$C$5)/(Analyzer!$I$5*336)),0)","v":36.324062322327954},{"$f":"IF(ShowA,IF(ISERROR((N$2*Analyzer!$C$5)/(Analyzer!$I$5*336)),0,SpeedConv*(N$2*Analyzer!$C$5)/(Analyzer!$I$5*336)),0)","v":38.918638202494236},{"$f":"IF(ShowA,IF(ISERROR((O$2*Analyzer!$C$5)/(Analyzer!$I$5*336)),0,SpeedConv*(O$2*Analyzer!$C$5)/(Analyzer!$I$5*336)),0)","v":41.513214082660518},{"$f":"IF(ShowA,IF(ISERROR((P$2*Analyzer!$C$5)/(Analyzer!$I$5*336)),0,SpeedConv*(P$2*Analyzer!$C$5)/(Analyzer!$I$5*336)),0)","v":44.1077899628268},{"$f":"IF(ShowA,IF(ISERROR((Q$2*Analyzer!$C$5)/(Analyzer!$I$5*336)),0,SpeedConv*(Q$2*Analyzer!$C$5)/(Analyzer!$I$5*336)),0)","v":46.702365842993082},{"$f":"IF(ShowA,IF(ISERROR((R$2*Analyzer!$C$5)/(Analyzer!$I$5*336)),0,SpeedConv*(R$2*Analyzer!$C$5)/(Analyzer!$I$5*336)),0)","v":49.296941723159364},{"$f":"IF(ShowA,IF(ISERROR((S$2*Analyzer!$C$5)/(Analyzer!$I$5*336)),0,SpeedConv*(S$2*Analyzer!$C$5)/(Analyzer!$I$5*336)),0)","v":51.891517603325646},{"$f":"IF(ShowA,IF(ISERROR((T$2*Analyzer!$C$5)/(Analyzer!$I$5*336)),0,SpeedConv*(T$2*Analyzer!$C$5)/(Analyzer!$I$5*336)),0)","v":54.486093483491928},{"$f":"IF(ShowA,IF(ISERROR((U$2*Analyzer!$C$5)/(Analyzer!$I$5*336)),0,SpeedConv*(U$2*Analyzer!$C$5)/(Analyzer!$I$5*336)),0)","v":57.080669363658217},{"$f":"IF(ShowA,IF(ISERROR((V$2*Analyzer!$C$5)/(Analyzer!$I$5*336)),0,SpeedConv*(V$2*Analyzer!$C$5)/(Analyzer!$I$5*336)),0)","v":59.675245243824499},{"$f":"IF(ShowA,IF(ISERROR((W$2*Analyzer!$C$5)/(Analyzer!$I$5*336)),0,SpeedConv*(W$2*Analyzer!$C$5)/(Analyzer!$I$5*336)),0)","v":62.269821123990781},{"$f":"IF(ShowA,IF(ISERROR((X$2*Analyzer!$C$5)/(Analyzer!$I$5*336)),0,SpeedConv*(X$2*Analyzer!$C$5)/(Analyzer!$I$5*336)),0)","v":64.864397004157055},{"$f":"IF(ShowA,IF(ISERROR((Y$2*Analyzer!$C$5)/(Analyzer!$I$5*336)),0,SpeedConv*(Y$2*Analyzer!$C$5)/(Analyzer!$I$5*336)),0)","v":67.458972884323344},{"$f":"IF(ShowA,IF(ISERROR((Z$2*Analyzer!$C$5)/(Analyzer!$I$5*336)),0,SpeedConv*(Z$2*Analyzer!$C$5)/(Analyzer!$I$5*336)),0)","v":70.053548764489619},{"$f":"IF(ShowA,IF(ISERROR((AA$2*Analyzer!$C$5)/(Analyzer!$I$5*336)),0,SpeedConv*(AA$2*Analyzer!$C$5)/(Analyzer!$I$5*336)),0)","v":72.648124644655908},{"$f":"IF(ShowA,IF(ISERROR((AB$2*Analyzer!$C$5)/(Analyzer!$I$5*336)),0,SpeedConv*(AB$2*Analyzer!$C$5)/(Analyzer!$I$5*336)),0)","v":75.242700524822197},{"$f":"IF(ShowA,IF(ISERROR((AC$2*Analyzer!$C$5)/(Analyzer!$I$5*336)),0,SpeedConv*(AC$2*Analyzer!$C$5)/(Analyzer!$I$5*336)),0)","v":77.837276404988472},{"$f":"IF(ShowA,IF(ISERROR((AD$2*Analyzer!$C$5)/(Analyzer!$I$5*336)),0,SpeedConv*(AD$2*Analyzer!$C$5)/(Analyzer!$I$5*336)),0)","v":80.431852285154761},{"$f":"IF(ShowA,IF(ISERROR((AE$2*Analyzer!$C$5)/(Analyzer!$I$5*336)),0,SpeedConv*(AE$2*Analyzer!$C$5)/(Analyzer!$I$5*336)),0)","v":83.026428165321036},{"$f":"IF(ShowA,IF(ISERROR((AF$2*Analyzer!$C$5)/(Analyzer!$I$5*336)),0,SpeedConv*(AF$2*Analyzer!$C$5)/(Analyzer!$I$5*336)),0)","v":85.621004045487325},{"$f":"IF(ShowA,IF(ISERROR((AG$2*Analyzer!$C$5)/(Analyzer!$I$5*336)),0,SpeedConv*(AG$2*Analyzer!$C$5)/(Analyzer!$I$5*336)),0)","v":88.2155799256536},{"$f":"IF(ShowA,IF(ISERROR((AH$2*Analyzer!$C$5)/(Analyzer!$I$5*336)),0,SpeedConv*(AH$2*Analyzer!$C$5)/(Analyzer!$I$5*336)),0)","v":90.810155805819889},{"$f":"IF(ShowA,IF(ISERROR((AI$2*Analyzer!$C$5)/(Analyzer!$I$5*336)),0,SpeedConv*(AI$2*Analyzer!$C$5)/(Analyzer!$I$5*336)),0)","v":93.404731685986164},{"$f":"IF(ShowA,IF(ISERROR((AJ$2*Analyzer!$C$5)/(Analyzer!$I$5*336)),0,SpeedConv*(AJ$2*Analyzer!$C$5)/(Analyzer!$I$5*336)),0)","v":95.999307566152453},{"$f":"IF(ShowA,IF(ISERROR((AK$2*Analyzer!$C$5)/(Analyzer!$I$5*336)),0,SpeedConv*(AK$2*Analyzer!$C$5)/(Analyzer!$I$5*336)),0)","v":98.593883446318728},{"$f":"IF(ShowA,IF(ISERROR((AL$2*Analyzer!$C$5)/(Analyzer!$I$5*336)),0,SpeedConv*(AL$2*Analyzer!$C$5)/(Analyzer!$I$5*336)),0)","v":101.18845932648502},{"$f":"IF(ShowA,IF(ISERROR((AM$2*Analyzer!$C$5)/(Analyzer!$I$5*336)),0,SpeedConv*(AM$2*Analyzer!$C$5)/(Analyzer!$I$5*336)),0)","v":103.78303520665129},{"$f":"IF(ShowA,IF(ISERROR((AN$2*Analyzer!$C$5)/(Analyzer!$I$5*336)),0,SpeedConv*(AN$2*Analyzer!$C$5)/(Analyzer!$I$5*336)),0)","v":106.37761108681758},{"$f":"IF(ShowA,IF(ISERROR((AO$2*Analyzer!$C$5)/(Analyzer!$I$5*336)),0,SpeedConv*(AO$2*Analyzer!$C$5)/(Analyzer!$I$5*336)),0)","v":108.97218696698386},{"$f":"IF(ShowA,IF(ISERROR((AP$2*Analyzer!$C$5)/(Analyzer!$I$5*336)),0,SpeedConv*(AP$2*Analyzer!$C$5)/(Analyzer!$I$5*336)),0)","v":111.56676284715014},{"$f":"IF(ShowA,IF(ISERROR((AQ$2*Analyzer!$C$5)/(Analyzer!$I$5*336)),0,SpeedConv*(AQ$2*Analyzer!$C$5)/(Analyzer!$I$5*336)),0)","v":114.16133872731643},{"$f":"IF(ShowA,IF(ISERROR((AR$2*Analyzer!$C$5)/(Analyzer!$I$5*336)),0,SpeedConv*(AR$2*Analyzer!$C$5)/(Analyzer!$I$5*336)),0)","v":116.75591460748271},{"$f":"IF(ShowA,IF(ISERROR((AS$2*Analyzer!$C$5)/(Analyzer!$I$5*336)),0,SpeedConv*(AS$2*Analyzer!$C$5)/(Analyzer!$I$5*336)),0)","v":119.350490487649},{"$f":"IF(ShowA,IF(ISERROR((AT$2*Analyzer!$C$5)/(Analyzer!$I$5*336)),0,SpeedConv*(AT$2*Analyzer!$C$5)/(Analyzer!$I$5*336)),0)","v":121.94506636781527},{"$f":"IF(ShowA,IF(ISERROR((AU$2*Analyzer!$C$5)/(Analyzer!$I$5*336)),0,SpeedConv*(AU$2*Analyzer!$C$5)/(Analyzer!$I$5*336)),0)","v":124.53964224798156},{"$f":"IF(ShowA,IF(ISERROR((AV$2*Analyzer!$C$5)/(Analyzer!$I$5*336)),0,SpeedConv*(AV$2*Analyzer!$C$5)/(Analyzer!$I$5*336)),0)","v":127.13421812814784},{"$f":"IF(ShowA,IF(ISERROR((AW$2*Analyzer!$C$5)/(Analyzer!$I$5*336)),0,SpeedConv*(AW$2*Analyzer!$C$5)/(Analyzer!$I$5*336)),0)","v":129.72879400831411},{"$f":"IF(ShowA,IF(ISERROR((AX$2*Analyzer!$C$5)/(Analyzer!$I$5*336)),0,SpeedConv*(AX$2*Analyzer!$C$5)/(Analyzer!$I$5*336)),0)","v":132.32336988848041},{"$f":"IF(ShowA,IF(ISERROR((AY$2*Analyzer!$C$5)/(Analyzer!$I$5*336)),0,SpeedConv*(AY$2*Analyzer!$C$5)/(Analyzer!$I$5*336)),0)","v":134.91794576864669},{"$f":"IF(ShowA,IF(ISERROR((AZ$2*Analyzer!$C$5)/(Analyzer!$I$5*336)),0,SpeedConv*(AZ$2*Analyzer!$C$5)/(Analyzer!$I$5*336)),0)","v":137.51252164881296},{"$f":"IF(ShowA,IF(ISERROR((BA$2*Analyzer!$C$5)/(Analyzer!$I$5*336)),0,SpeedConv*(BA$2*Analyzer!$C$5)/(Analyzer!$I$5*336)),0)","v":140.10709752897924},{"$f":"IF(ShowA,IF(ISERROR((BB$2*Analyzer!$C$5)/(Analyzer!$I$5*336)),0,SpeedConv*(BB$2*Analyzer!$C$5)/(Analyzer!$I$5*336)),0)","v":142.70167340914554},{"$f":"IF(ShowA,IF(ISERROR((BC$2*Analyzer!$C$5)/(Analyzer!$I$5*336)),0,SpeedConv*(BC$2*Analyzer!$C$5)/(Analyzer!$I$5*336)),0)","v":145.29624928931182},{"$f":"IF(ShowA,IF(ISERROR((BD$2*Analyzer!$C$5)/(Analyzer!$I$5*336)),0,SpeedConv*(BD$2*Analyzer!$C$5)/(Analyzer!$I$5*336)),0)","v":147.89082516947809},{"$f":"IF(ShowA,IF(ISERROR((BE$2*Analyzer!$C$5)/(Analyzer!$I$5*336)),0,SpeedConv*(BE$2*Analyzer!$C$5)/(Analyzer!$I$5*336)),0)","v":150.48540104964439},{"$f":"IF(ShowA,IF(ISERROR((BF$2*Analyzer!$C$5)/(Analyzer!$I$5*336)),0,SpeedConv*(BF$2*Analyzer!$C$5)/(Analyzer!$I$5*336)),0)","v":153.07997692981067},{"$f":"IF(ShowA,IF(ISERROR((BG$2*Analyzer!$C$5)/(Analyzer!$I$5*336)),0,SpeedConv*(BG$2*Analyzer!$C$5)/(Analyzer!$I$5*336)),0)","v":155.67455280997694},{"$f":"IF(ShowA,IF(ISERROR((BH$2*Analyzer!$C$5)/(Analyzer!$I$5*336)),0,SpeedConv*(BH$2*Analyzer!$C$5)/(Analyzer!$I$5*336)),0)","v":158.26912869014322},{"$f":"IF(ShowA,IF(ISERROR((BI$2*Analyzer!$C$5)/(Analyzer!$I$5*336)),0,SpeedConv*(BI$2*Analyzer!$C$5)/(Analyzer!$I$5*336)),0)","v":160.86370457030952},{"$f":"IF(ShowA,IF(ISERROR((BJ$2*Analyzer!$C$5)/(Analyzer!$I$5*336)),0,SpeedConv*(BJ$2*Analyzer!$C$5)/(Analyzer!$I$5*336)),0)","v":163.4582804504758},{"$f":"IF(ShowA,IF(ISERROR((BK$2*Analyzer!$C$5)/(Analyzer!$I$5*336)),0,SpeedConv*(BK$2*Analyzer!$C$5)/(Analyzer!$I$5*336)),0)","v":166.05285633064207},{"$f":"IF(ShowA,IF(ISERROR((BL$2*Analyzer!$C$5)/(Analyzer!$I$5*336)),0,SpeedConv*(BL$2*Analyzer!$C$5)/(Analyzer!$I$5*336)),0)","v":168.64743221080835},{"$f":"IF(ShowA,IF(ISERROR((BM$2*Analyzer!$C$5)/(Analyzer!$I$5*336)),0,SpeedConv*(BM$2*Analyzer!$C$5)/(Analyzer!$I$5*336)),0)","v":171.24200809097465},{"$f":"IF(ShowA,IF(ISERROR((BN$2*Analyzer!$C$5)/(Analyzer!$I$5*336)),0,SpeedConv*(BN$2*Analyzer!$C$5)/(Analyzer!$I$5*336)),0)","v":173.83658397114093},{"$f":"IF(ShowA,IF(ISERROR((BO$2*Analyzer!$C$5)/(Analyzer!$I$5*336)),0,SpeedConv*(BO$2*Analyzer!$C$5)/(Analyzer!$I$5*336)),0)","v":176.4311598513072},{"$f":"IF(ShowA,IF(ISERROR((BP$2*Analyzer!$C$5)/(Analyzer!$I$5*336)),0,SpeedConv*(BP$2*Analyzer!$C$5)/(Analyzer!$I$5*336)),0)","v":179.02573573147347},{"$f":"IF(ShowA,IF(ISERROR((BQ$2*Analyzer!$C$5)/(Analyzer!$I$5*336)),0,SpeedConv*(BQ$2*Analyzer!$C$5)/(Analyzer!$I$5*336)),0)","v":181.62031161163978},{"$f":"IF(ShowA,IF(ISERROR((BR$2*Analyzer!$C$5)/(Analyzer!$I$5*336)),0,SpeedConv*(BR$2*Analyzer!$C$5)/(Analyzer!$I$5*336)),0)","v":184.21488749180605},{"$f":"IF(ShowA,IF(ISERROR((BS$2*Analyzer!$C$5)/(Analyzer!$I$5*336)),0,SpeedConv*(BS$2*Analyzer!$C$5)/(Analyzer!$I$5*336)),0)","v":186.80946337197233},{"$f":"IF(ShowA,IF(ISERROR((BT$2*Analyzer!$C$5)/(Analyzer!$I$5*336)),0,SpeedConv*(BT$2*Analyzer!$C$5)/(Analyzer!$I$5*336)),0)","v":189.40403925213863},{"$f":"IF(ShowA,IF(ISERROR((BU$2*Analyzer!$C$5)/(Analyzer!$I$5*336)),0,SpeedConv*(BU$2*Analyzer!$C$5)/(Analyzer!$I$5*336)),0)","v":191.99861513230491},{"$f":"IF(ShowA,IF(ISERROR((BV$2*Analyzer!$C$5)/(Analyzer!$I$5*336)),0,SpeedConv*(BV$2*Analyzer!$C$5)/(Analyzer!$I$5*336)),0)","v":194.59319101247118},{"$f":"IF(ShowA,IF(ISERROR((BW$2*Analyzer!$C$5)/(Analyzer!$I$5*336)),0,SpeedConv*(BW$2*Analyzer!$C$5)/(Analyzer!$I$5*336)),0)","v":197.18776689263746},{"$f":"IF(ShowA,IF(ISERROR((BX$2*Analyzer!$C$5)/(Analyzer!$I$5*336)),0,SpeedConv*(BX$2*Analyzer!$C$5)/(Analyzer!$I$5*336)),0)","v":199.78234277280376},{"$f":"IF(ShowA,IF(ISERROR((BY$2*Analyzer!$C$5)/(Analyzer!$I$5*336)),0,SpeedConv*(BY$2*Analyzer!$C$5)/(Analyzer!$I$5*336)),0)","v":202.37691865297003},{"$f":"IF(ShowA,IF(ISERROR((BZ$2*Analyzer!$C$5)/(Analyzer!$I$5*336)),0,SpeedConv*(BZ$2*Analyzer!$C$5)/(Analyzer!$I$5*336)),0)","v":204.97149453313631},{"$f":"IF(ShowA,IF(ISERROR((CA$2*Analyzer!$C$5)/(Analyzer!$I$5*336)),0,SpeedConv*(CA$2*Analyzer!$C$5)/(Analyzer!$I$5*336)),0)","v":207.56607041330258},{"$f":"IF(ShowA,IF(ISERROR((CB$2*Analyzer!$C$5)/(Analyzer!$I$5*336)),0,SpeedConv*(CB$2*Analyzer!$C$5)/(Analyzer!$I$5*336)),0)","v":210.16064629346889},{"$f":"IF(ShowA,IF(ISERROR((CC$2*Analyzer!$C$5)/(Analyzer!$I$5*336)),0,SpeedConv*(CC$2*Analyzer!$C$5)/(Analyzer!$I$5*336)),0)","v":212.75522217363516},{"$f":"IF(ShowA,IF(ISERROR((CD$2*Analyzer!$C$5)/(Analyzer!$I$5*336)),0,SpeedConv*(CD$2*Analyzer!$C$5)/(Analyzer!$I$5*336)),0)","v":215.34979805380144},{"$f":"IF(ShowA,IF(ISERROR((CE$2*Analyzer!$C$5)/(Analyzer!$I$5*336)),0,SpeedConv*(CE$2*Analyzer!$C$5)/(Analyzer!$I$5*336)),0)","v":217.94437393396771},{"$f":"IF(ShowA,IF(ISERROR((CF$2*Analyzer!$C$5)/(Analyzer!$I$5*336)),0,SpeedConv*(CF$2*Analyzer!$C$5)/(Analyzer!$I$5*336)),0)","v":220.53894981413401},{"$f":"IF(ShowA,IF(ISERROR((CG$2*Analyzer!$C$5)/(Analyzer!$I$5*336)),0,SpeedConv*(CG$2*Analyzer!$C$5)/(Analyzer!$I$5*336)),0)","v":223.13352569430029},{"$f":"IF(ShowA,IF(ISERROR((CH$2*Analyzer!$C$5)/(Analyzer!$I$5*336)),0,SpeedConv*(CH$2*Analyzer!$C$5)/(Analyzer!$I$5*336)),0)","v":225.72810157446656},{"$f":"IF(ShowA,IF(ISERROR((CI$2*Analyzer!$C$5)/(Analyzer!$I$5*336)),0,SpeedConv*(CI$2*Analyzer!$C$5)/(Analyzer!$I$5*336)),0)","v":228.32267745463287},{"$f":"IF(ShowA,IF(ISERROR((CJ$2*Analyzer!$C$5)/(Analyzer!$I$5*336)),0,SpeedConv*(CJ$2*Analyzer!$C$5)/(Analyzer!$I$5*336)),0)","v":230.91725333479914},{"$f":"IF(ShowA,IF(ISERROR((CK$2*Analyzer!$C$5)/(Analyzer!$I$5*336)),0,SpeedConv*(CK$2*Analyzer!$C$5)/(Analyzer!$I$5*336)),0)","v":233.51182921496542},{"$f":"IF(ShowA,IF(ISERROR((CL$2*Analyzer!$C$5)/(Analyzer!$I$5*336)),0,SpeedConv*(CL$2*Analyzer!$C$5)/(Analyzer!$I$5*336)),0)","v":236.10640509513169},{"$f":"IF(ShowA,IF(ISERROR((CM$2*Analyzer!$C$5)/(Analyzer!$I$5*336)),0,SpeedConv*(CM$2*Analyzer!$C$5)/(Analyzer!$I$5*336)),0)","v":238.70098097529799},{"$f":"IF(ShowA,IF(ISERROR((CN$2*Analyzer!$C$5)/(Analyzer!$I$5*336)),0,SpeedConv*(CN$2*Analyzer!$C$5)/(Analyzer!$I$5*336)),0)","v":241.29555685546427},{"$f":"IF(ShowA,IF(ISERROR((CO$2*Analyzer!$C$5)/(Analyzer!$I$5*336)),0,SpeedConv*(CO$2*Analyzer!$C$5)/(Analyzer!$I$5*336)),0)","v":243.89013273563054},{"$f":"IF(ShowA,IF(ISERROR((CP$2*Analyzer!$C$5)/(Analyzer!$I$5*336)),0,SpeedConv*(CP$2*Analyzer!$C$5)/(Analyzer!$I$5*336)),0)","v":246.48470861579682},{"$f":"IF(ShowA,IF(ISERROR((CQ$2*Analyzer!$C$5)/(Analyzer!$I$5*336)),0,SpeedConv*(CQ$2*Analyzer!$C$5)/(Analyzer!$I$5*336)),0)","v":249.07928449596312},{"$f":"IF(ShowA,IF(ISERROR((CR$2*Analyzer!$C$5)/(Analyzer!$I$5*336)),0,SpeedConv*(CR$2*Analyzer!$C$5)/(Analyzer!$I$5*336)),0)","v":251.6738603761294},{"$f":"IF(ShowA,IF(ISERROR((CS$2*Analyzer!$C$5)/(Analyzer!$I$5*336)),0,SpeedConv*(CS$2*Analyzer!$C$5)/(Analyzer!$I$5*336)),0)","v":254.26843625629567},{"$f":"IF(ShowA,IF(ISERROR((CT$2*Analyzer!$C$5)/(Analyzer!$I$5*336)),0,SpeedConv*(CT$2*Analyzer!$C$5)/(Analyzer!$I$5*336)),0)","v":256.86301213646198},{"$f":"IF(ShowA,IF(ISERROR((CU$2*Analyzer!$C$5)/(Analyzer!$I$5*336)),0,SpeedConv*(CU$2*Analyzer!$C$5)/(Analyzer!$I$5*336)),0)","v":259.45758801662822}]
["A-4th",{"$f":"IF(ShowA,IF(ISERROR((B$2*Analyzer!$C$5)/(Analyzer!$I$6*336)),0,SpeedConv*(B$2*Analyzer!$C$5)/(Analyzer!$I$6*336)),0)","v":10.333049290197115},{"$f":"IF(ShowA,IF(ISERROR((C$2*Analyzer!$C$5)/(Analyzer!$I$6*336)),0,SpeedConv*(C$2*Analyzer!$C$5)/(Analyzer!$I$6*336)),0)","v":13.777399053596152},{"$f":"IF(ShowA,IF(ISERROR((D$2*Analyzer!$C$5)/(Analyzer!$I$6*336)),0,SpeedConv*(D$2*Analyzer!$C$5)/(Analyzer!$I$6*336)),0)","v":17.221748816995191},{"$f":"IF(ShowA,IF(ISERROR((E$2*Analyzer!$C$5)/(Analyzer!$I$6*336)),0,SpeedConv*(E$2*Analyzer!$C$5)/(Analyzer!$I$6*336)),0)","v":20.66609858039423},{"$f":"IF(ShowA,IF(ISERROR((F$2*Analyzer!$C$5)/(Analyzer!$I$6*336)),0,SpeedConv*(F$2*Analyzer!$C$5)/(Analyzer!$I$6*336)),0)","v":24.110448343793266},{"$f":"IF(ShowA,IF(ISERROR((G$2*Analyzer!$C$5)/(Analyzer!$I$6*336)),0,SpeedConv*(G$2*Analyzer!$C$5)/(Analyzer!$I$6*336)),0)","v":27.554798107192305},{"$f":"IF(ShowA,IF(ISERROR((H$2*Analyzer!$C$5)/(Analyzer!$I$6*336)),0,SpeedConv*(H$2*Analyzer!$C$5)/(Analyzer!$I$6*336)),0)","v":30.999147870591344},{"$f":"IF(ShowA,IF(ISERROR((I$2*Analyzer!$C$5)/(Analyzer!$I$6*336)),0,SpeedConv*(I$2*Analyzer!$C$5)/(Analyzer!$I$6*336)),0)","v":34.443497633990383},{"$f":"IF(ShowA,IF(ISERROR((J$2*Analyzer!$C$5)/(Analyzer!$I$6*336)),0,SpeedConv*(J$2*Analyzer!$C$5)/(Analyzer!$I$6*336)),0)","v":37.887847397389422},{"$f":"IF(ShowA,IF(ISERROR((K$2*Analyzer!$C$5)/(Analyzer!$I$6*336)),0,SpeedConv*(K$2*Analyzer!$C$5)/(Analyzer!$I$6*336)),0)","v":41.332197160788461},{"$f":"IF(ShowA,IF(ISERROR((L$2*Analyzer!$C$5)/(Analyzer!$I$6*336)),0,SpeedConv*(L$2*Analyzer!$C$5)/(Analyzer!$I$6*336)),0)","v":44.776546924187492},{"$f":"IF(ShowA,IF(ISERROR((M$2*Analyzer!$C$5)/(Analyzer!$I$6*336)),0,SpeedConv*(M$2*Analyzer!$C$5)/(Analyzer!$I$6*336)),0)","v":48.220896687586531},{"$f":"IF(ShowA,IF(ISERROR((N$2*Analyzer!$C$5)/(Analyzer!$I$6*336)),0,SpeedConv*(N$2*Analyzer!$C$5)/(Analyzer!$I$6*336)),0)","v":51.66524645098557},{"$f":"IF(ShowA,IF(ISERROR((O$2*Analyzer!$C$5)/(Analyzer!$I$6*336)),0,SpeedConv*(O$2*Analyzer!$C$5)/(Analyzer!$I$6*336)),0)","v":55.109596214384609},{"$f":"IF(ShowA,IF(ISERROR((P$2*Analyzer!$C$5)/(Analyzer!$I$6*336)),0,SpeedConv*(P$2*Analyzer!$C$5)/(Analyzer!$I$6*336)),0)","v":58.553945977783648},{"$f":"IF(ShowA,IF(ISERROR((Q$2*Analyzer!$C$5)/(Analyzer!$I$6*336)),0,SpeedConv*(Q$2*Analyzer!$C$5)/(Analyzer!$I$6*336)),0)","v":61.998295741182687},{"$f":"IF(ShowA,IF(ISERROR((R$2*Analyzer!$C$5)/(Analyzer!$I$6*336)),0,SpeedConv*(R$2*Analyzer!$C$5)/(Analyzer!$I$6*336)),0)","v":65.442645504581719},{"$f":"IF(ShowA,IF(ISERROR((S$2*Analyzer!$C$5)/(Analyzer!$I$6*336)),0,SpeedConv*(S$2*Analyzer!$C$5)/(Analyzer!$I$6*336)),0)","v":68.886995267980765},{"$f":"IF(ShowA,IF(ISERROR((T$2*Analyzer!$C$5)/(Analyzer!$I$6*336)),0,SpeedConv*(T$2*Analyzer!$C$5)/(Analyzer!$I$6*336)),0)","v":72.331345031379797},{"$f":"IF(ShowA,IF(ISERROR((U$2*Analyzer!$C$5)/(Analyzer!$I$6*336)),0,SpeedConv*(U$2*Analyzer!$C$5)/(Analyzer!$I$6*336)),0)","v":75.775694794778843},{"$f":"IF(ShowA,IF(ISERROR((V$2*Analyzer!$C$5)/(Analyzer!$I$6*336)),0,SpeedConv*(V$2*Analyzer!$C$5)/(Analyzer!$I$6*336)),0)","v":79.220044558177875},{"$f":"IF(ShowA,IF(ISERROR((W$2*Analyzer!$C$5)/(Analyzer!$I$6*336)),0,SpeedConv*(W$2*Analyzer!$C$5)/(Analyzer!$I$6*336)),0)","v":82.664394321576921},{"$f":"IF(ShowA,IF(ISERROR((X$2*Analyzer!$C$5)/(Analyzer!$I$6*336)),0,SpeedConv*(X$2*Analyzer!$C$5)/(Analyzer!$I$6*336)),0)","v":86.108744084975953},{"$f":"IF(ShowA,IF(ISERROR((Y$2*Analyzer!$C$5)/(Analyzer!$I$6*336)),0,SpeedConv*(Y$2*Analyzer!$C$5)/(Analyzer!$I$6*336)),0)","v":89.553093848374985},{"$f":"IF(ShowA,IF(ISERROR((Z$2*Analyzer!$C$5)/(Analyzer!$I$6*336)),0,SpeedConv*(Z$2*Analyzer!$C$5)/(Analyzer!$I$6*336)),0)","v":92.997443611774031},{"$f":"IF(ShowA,IF(ISERROR((AA$2*Analyzer!$C$5)/(Analyzer!$I$6*336)),0,SpeedConv*(AA$2*Analyzer!$C$5)/(Analyzer!$I$6*336)),0)","v":96.441793375173063},{"$f":"IF(ShowA,IF(ISERROR((AB$2*Analyzer!$C$5)/(Analyzer!$I$6*336)),0,SpeedConv*(AB$2*Analyzer!$C$5)/(Analyzer!$I$6*336)),0)","v":99.886143138572109},{"$f":"IF(ShowA,IF(ISERROR((AC$2*Analyzer!$C$5)/(Analyzer!$I$6*336)),0,SpeedConv*(AC$2*Analyzer!$C$5)/(Analyzer!$I$6*336)),0)","v":103.33049290197114},{"$f":"IF(ShowA,IF(ISERROR((AD$2*Analyzer!$C$5)/(Analyzer!$I$6*336)),0,SpeedConv*(AD$2*Analyzer!$C$5)/(Analyzer!$I$6*336)),0)","v":106.77484266537019},{"$f":"IF(ShowA,IF(ISERROR((AE$2*Analyzer!$C$5)/(Analyzer!$I$6*336)),0,SpeedConv*(AE$2*Analyzer!$C$5)/(Analyzer!$I$6*336)),0)","v":110.21919242876922},{"$f":"IF(ShowA,IF(ISERROR((AF$2*Analyzer!$C$5)/(Analyzer!$I$6*336)),0,SpeedConv*(AF$2*Analyzer!$C$5)/(Analyzer!$I$6*336)),0)","v":113.66354219216825},{"$f":"IF(ShowA,IF(ISERROR((AG$2*Analyzer!$C$5)/(Analyzer!$I$6*336)),0,SpeedConv*(AG$2*Analyzer!$C$5)/(Analyzer!$I$6*336)),0)","v":117.1078919555673},{"$f":"IF(ShowA,IF(ISERROR((AH$2*Analyzer!$C$5)/(Analyzer!$I$6*336)),0,SpeedConv*(AH$2*Analyzer!$C$5)/(Analyzer!$I$6*336)),0)","v":120.55224171896633},{"$f":"IF(ShowA,IF(ISERROR((AI$2*Analyzer!$C$5)/(Analyzer!$I$6*336)),0,SpeedConv*(AI$2*Analyzer!$C$5)/(Analyzer!$I$6*336)),0)","v":123.99659148236537},{"$f":"IF(ShowA,IF(ISERROR((AJ$2*Analyzer!$C$5)/(Analyzer!$I$6*336)),0,SpeedConv*(AJ$2*Analyzer!$C$5)/(Analyzer!$I$6*336)),0)","v":127.44094124576441},{"$f":"IF(ShowA,IF(ISERROR((AK$2*Analyzer!$C$5)/(Analyzer!$I$6*336)),0,SpeedConv*(AK$2*Analyzer!$C$5)/(Analyzer!$I$6*336)),0)","v":130.88529100916344},{"$f":"IF(ShowA,IF(ISERROR((AL$2*Analyzer!$C$5)/(Analyzer!$I$6*336)),0,SpeedConv*(AL$2*Analyzer!$C$5)/(Analyzer!$I$6*336)),0)","v":134.3296407725625},{"$f":"IF(ShowA,IF(ISERROR((AM$2*Analyzer!$C$5)/(Analyzer!$I$6*336)),0,SpeedConv*(AM$2*Analyzer!$C$5)/(Analyzer!$I$6*336)),0)","v":137.77399053596153},{"$f":"IF(ShowA,IF(ISERROR((AN$2*Analyzer!$C$5)/(Analyzer!$I$6*336)),0,SpeedConv*(AN$2*Analyzer!$C$5)/(Analyzer!$I$6*336)),0)","v":141.21834029936056},{"$f":"IF(ShowA,IF(ISERROR((AO$2*Analyzer!$C$5)/(Analyzer!$I$6*336)),0,SpeedConv*(AO$2*Analyzer!$C$5)/(Analyzer!$I$6*336)),0)","v":144.66269006275959},{"$f":"IF(ShowA,IF(ISERROR((AP$2*Analyzer!$C$5)/(Analyzer!$I$6*336)),0,SpeedConv*(AP$2*Analyzer!$C$5)/(Analyzer!$I$6*336)),0)","v":148.10703982615863},{"$f":"IF(ShowA,IF(ISERROR((AQ$2*Analyzer!$C$5)/(Analyzer!$I$6*336)),0,SpeedConv*(AQ$2*Analyzer!$C$5)/(Analyzer!$I$6*336)),0)","v":151.55138958955769},{"$f":"IF(ShowA,IF(ISERROR((AR$2*Analyzer!$C$5)/(Analyzer!$I$6*336)),0,SpeedConv*(AR$2*Analyzer!$C$5)/(Analyzer!$I$6*336)),0)","v":154.99573935295672},{"$f":"IF(ShowA,IF(ISERROR((AS$2*Analyzer!$C$5)/(Analyzer!$I$6*336)),0,SpeedConv*(AS$2*Analyzer!$C$5)/(Analyzer!$I$6*336)),0)","v":158.44008911635575},{"$f":"IF(ShowA,IF(ISERROR((AT$2*Analyzer!$C$5)/(Analyzer!$I$6*336)),0,SpeedConv*(AT$2*Analyzer!$C$5)/(Analyzer!$I$6*336)),0)","v":161.88443887975478},{"$f":"IF(ShowA,IF(ISERROR((AU$2*Analyzer!$C$5)/(Analyzer!$I$6*336)),0,SpeedConv*(AU$2*Analyzer!$C$5)/(Analyzer!$I$6*336)),0)","v":165.32878864315384},{"$f":"IF(ShowA,IF(ISERROR((AV$2*Analyzer!$C$5)/(Analyzer!$I$6*336)),0,SpeedConv*(AV$2*Analyzer!$C$5)/(Analyzer!$I$6*336)),0)","v":168.77313840655287},{"$f":"IF(ShowA,IF(ISERROR((AW$2*Analyzer!$C$5)/(Analyzer!$I$6*336)),0,SpeedConv*(AW$2*Analyzer!$C$5)/(Analyzer!$I$6*336)),0)","v":172.21748816995191},{"$f":"IF(ShowA,IF(ISERROR((AX$2*Analyzer!$C$5)/(Analyzer!$I$6*336)),0,SpeedConv*(AX$2*Analyzer!$C$5)/(Analyzer!$I$6*336)),0)","v":175.66183793335094},{"$f":"IF(ShowA,IF(ISERROR((AY$2*Analyzer!$C$5)/(Analyzer!$I$6*336)),0,SpeedConv*(AY$2*Analyzer!$C$5)/(Analyzer!$I$6*336)),0)","v":179.10618769674997},{"$f":"IF(ShowA,IF(ISERROR((AZ$2*Analyzer!$C$5)/(Analyzer!$I$6*336)),0,SpeedConv*(AZ$2*Analyzer!$C$5)/(Analyzer!$I$6*336)),0)","v":182.55053746014903},{"$f":"IF(ShowA,IF(ISERROR((BA$2*Analyzer!$C$5)/(Analyzer!$I$6*336)),0,SpeedConv*(BA$2*Analyzer!$C$5)/(Analyzer!$I$6*336)),0)","v":185.99488722354806},{"$f":"IF(ShowA,IF(ISERROR((BB$2*Analyzer!$C$5)/(Analyzer!$I$6*336)),0,SpeedConv*(BB$2*Analyzer!$C$5)/(Analyzer!$I$6*336)),0)","v":189.43923698694709},{"$f":"IF(ShowA,IF(ISERROR((BC$2*Analyzer!$C$5)/(Analyzer!$I$6*336)),0,SpeedConv*(BC$2*Analyzer!$C$5)/(Analyzer!$I$6*336)),0)","v":192.88358675034613},{"$f":"IF(ShowA,IF(ISERROR((BD$2*Analyzer!$C$5)/(Analyzer!$I$6*336)),0,SpeedConv*(BD$2*Analyzer!$C$5)/(Analyzer!$I$6*336)),0)","v":196.32793651374519},{"$f":"IF(ShowA,IF(ISERROR((BE$2*Analyzer!$C$5)/(Analyzer!$I$6*336)),0,SpeedConv*(BE$2*Analyzer!$C$5)/(Analyzer!$I$6*336)),0)","v":199.77228627714422},{"$f":"IF(ShowA,IF(ISERROR((BF$2*Analyzer!$C$5)/(Analyzer!$I$6*336)),0,SpeedConv*(BF$2*Analyzer!$C$5)/(Analyzer!$I$6*336)),0)","v":203.21663604054325},{"$f":"IF(ShowA,IF(ISERROR((BG$2*Analyzer!$C$5)/(Analyzer!$I$6*336)),0,SpeedConv*(BG$2*Analyzer!$C$5)/(Analyzer!$I$6*336)),0)","v":206.66098580394228},{"$f":"IF(ShowA,IF(ISERROR((BH$2*Analyzer!$C$5)/(Analyzer!$I$6*336)),0,SpeedConv*(BH$2*Analyzer!$C$5)/(Analyzer!$I$6*336)),0)","v":210.10533556734131},{"$f":"IF(ShowA,IF(ISERROR((BI$2*Analyzer!$C$5)/(Analyzer!$I$6*336)),0,SpeedConv*(BI$2*Analyzer!$C$5)/(Analyzer!$I$6*336)),0)","v":213.54968533074037},{"$f":"IF(ShowA,IF(ISERROR((BJ$2*Analyzer!$C$5)/(Analyzer!$I$6*336)),0,SpeedConv*(BJ$2*Analyzer!$C$5)/(Analyzer!$I$6*336)),0)","v":216.99403509413941},{"$f":"IF(ShowA,IF(ISERROR((BK$2*Analyzer!$C$5)/(Analyzer!$I$6*336)),0,SpeedConv*(BK$2*Analyzer!$C$5)/(Analyzer!$I$6*336)),0)","v":220.43838485753844},{"$f":"IF(ShowA,IF(ISERROR((BL$2*Analyzer!$C$5)/(Analyzer!$I$6*336)),0,SpeedConv*(BL$2*Analyzer!$C$5)/(Analyzer!$I$6*336)),0)","v":223.88273462093747},{"$f":"IF(ShowA,IF(ISERROR((BM$2*Analyzer!$C$5)/(Analyzer!$I$6*336)),0,SpeedConv*(BM$2*Analyzer!$C$5)/(Analyzer!$I$6*336)),0)","v":227.3270843843365},{"$f":"IF(ShowA,IF(ISERROR((BN$2*Analyzer!$C$5)/(Analyzer!$I$6*336)),0,SpeedConv*(BN$2*Analyzer!$C$5)/(Analyzer!$I$6*336)),0)","v":230.77143414773556},{"$f":"IF(ShowA,IF(ISERROR((BO$2*Analyzer!$C$5)/(Analyzer!$I$6*336)),0,SpeedConv*(BO$2*Analyzer!$C$5)/(Analyzer!$I$6*336)),0)","v":234.21578391113459},{"$f":"IF(ShowA,IF(ISERROR((BP$2*Analyzer!$C$5)/(Analyzer!$I$6*336)),0,SpeedConv*(BP$2*Analyzer!$C$5)/(Analyzer!$I$6*336)),0)","v":237.66013367453363},{"$f":"IF(ShowA,IF(ISERROR((BQ$2*Analyzer!$C$5)/(Analyzer!$I$6*336)),0,SpeedConv*(BQ$2*Analyzer!$C$5)/(Analyzer!$I$6*336)),0)","v":241.10448343793266},{"$f":"IF(ShowA,IF(ISERROR((BR$2*Analyzer!$C$5)/(Analyzer!$I$6*336)),0,SpeedConv*(BR$2*Analyzer!$C$5)/(Analyzer!$I$6*336)),0)","v":244.54883320133172},{"$f":"IF(ShowA,IF(ISERROR((BS$2*Analyzer!$C$5)/(Analyzer!$I$6*336)),0,SpeedConv*(BS$2*Analyzer!$C$5)/(Analyzer!$I$6*336)),0)","v":247.99318296473075},{"$f":"IF(ShowA,IF(ISERROR((BT$2*Analyzer!$C$5)/(Analyzer!$I$6*336)),0,SpeedConv*(BT$2*Analyzer!$C$5)/(Analyzer!$I$6*336)),0)","v":251.43753272812978},{"$f":"IF(ShowA,IF(ISERROR((BU$2*Analyzer!$C$5)/(Analyzer!$I$6*336)),0,SpeedConv*(BU$2*Analyzer!$C$5)/(Analyzer!$I$6*336)),0)","v":254.88188249152881},{"$f":"IF(ShowA,IF(ISERROR((BV$2*Analyzer!$C$5)/(Analyzer!$I$6*336)),0,SpeedConv*(BV$2*Analyzer!$C$5)/(Analyzer!$I$6*336)),0)","v":258.32623225492785},{"$f":"IF(ShowA,IF(ISERROR((BW$2*Analyzer!$C$5)/(Analyzer!$I$6*336)),0,SpeedConv*(BW$2*Analyzer!$C$5)/(Analyzer!$I$6*336)),0)","v":261.77058201832688},{"$f":"IF(ShowA,IF(ISERROR((BX$2*Analyzer!$C$5)/(Analyzer!$I$6*336)),0,SpeedConv*(BX$2*Analyzer!$C$5)/(Analyzer!$I$6*336)),0)","v":265.21493178172591},{"$f":"IF(ShowA,IF(ISERROR((BY$2*Analyzer!$C$5)/(Analyzer!$I$6*336)),0,SpeedConv*(BY$2*Analyzer!$C$5)/(Analyzer!$I$6*336)),0)","v":268.659281545125},{"$f":"IF(ShowA,IF(ISERROR((BZ$2*Analyzer!$C$5)/(Analyzer!$I$6*336)),0,SpeedConv*(BZ$2*Analyzer!$C$5)/(Analyzer!$I$6*336)),0)","v":272.10363130852403},{"$f":"IF(ShowA,IF(ISERROR((CA$2*Analyzer!$C$5)/(Analyzer!$I$6*336)),0,SpeedConv*(CA$2*Analyzer!$C$5)/(Analyzer!$I$6*336)),0)","v":275.54798107192306},{"$f":"IF(ShowA,IF(ISERROR((CB$2*Analyzer!$C$5)/(Analyzer!$I$6*336)),0,SpeedConv*(CB$2*Analyzer!$C$5)/(Analyzer!$I$6*336)),0)","v":278.99233083532209},{"$f":"IF(ShowA,IF(ISERROR((CC$2*Analyzer!$C$5)/(Analyzer!$I$6*336)),0,SpeedConv*(CC$2*Analyzer!$C$5)/(Analyzer!$I$6*336)),0)","v":282.43668059872113},{"$f":"IF(ShowA,IF(ISERROR((CD$2*Analyzer!$C$5)/(Analyzer!$I$6*336)),0,SpeedConv*(CD$2*Analyzer!$C$5)/(Analyzer!$I$6*336)),0)","v":285.88103036212016},{"$f":"IF(ShowA,IF(ISERROR((CE$2*Analyzer!$C$5)/(Analyzer!$I$6*336)),0,SpeedConv*(CE$2*Analyzer!$C$5)/(Analyzer!$I$6*336)),0)","v":289.32538012551919},{"$f":"IF(ShowA,IF(ISERROR((CF$2*Analyzer!$C$5)/(Analyzer!$I$6*336)),0,SpeedConv*(CF$2*Analyzer!$C$5)/(Analyzer!$I$6*336)),0)","v":292.76972988891822},{"$f":"IF(ShowA,IF(ISERROR((CG$2*Analyzer!$C$5)/(Analyzer!$I$6*336)),0,SpeedConv*(CG$2*Analyzer!$C$5)/(Analyzer!$I$6*336)),0)","v":296.21407965231725},{"$f":"IF(ShowA,IF(ISERROR((CH$2*Analyzer!$C$5)/(Analyzer!$I$6*336)),0,SpeedConv*(CH$2*Analyzer!$C$5)/(Analyzer!$I$6*336)),0)","v":299.65842941571634},{"$f":"IF(ShowA,IF(ISERROR((CI$2*Analyzer!$C$5)/(Analyzer!$I$6*336)),0,SpeedConv*(CI$2*Analyzer!$C$5)/(Analyzer!$I$6*336)),0)","v":303.10277917911537},{"$f":"IF(ShowA,IF(ISERROR((CJ$2*Analyzer!$C$5)/(Analyzer!$I$6*336)),0,SpeedConv*(CJ$2*Analyzer!$C$5)/(Analyzer!$I$6*336)),0)","v":306.54712894251441},{"$f":"IF(ShowA,IF(ISERROR((CK$2*Analyzer!$C$5)/(Analyzer!$I$6*336)),0,SpeedConv*(CK$2*Analyzer!$C$5)/(Analyzer!$I$6*336)),0)","v":309.99147870591344},{"$f":"IF(ShowA,IF(ISERROR((CL$2*Analyzer!$C$5)/(Analyzer!$I$6*336)),0,SpeedConv*(CL$2*Analyzer!$C$5)/(Analyzer!$I$6*336)),0)","v":313.43582846931247},{"$f":"IF(ShowA,IF(ISERROR((CM$2*Analyzer!$C$5)/(Analyzer!$I$6*336)),0,SpeedConv*(CM$2*Analyzer!$C$5)/(Analyzer!$I$6*336)),0)","v":316.8801782327115},{"$f":"IF(ShowA,IF(ISERROR((CN$2*Analyzer!$C$5)/(Analyzer!$I$6*336)),0,SpeedConv*(CN$2*Analyzer!$C$5)/(Analyzer!$I$6*336)),0)","v":320.32452799611053},{"$f":"IF(ShowA,IF(ISERROR((CO$2*Analyzer!$C$5)/(Analyzer!$I$6*336)),0,SpeedConv*(CO$2*Analyzer!$C$5)/(Analyzer!$I$6*336)),0)","v":323.76887775950956},{"$f":"IF(ShowA,IF(ISERROR((CP$2*Analyzer!$C$5)/(Analyzer!$I$6*336)),0,SpeedConv*(CP$2*Analyzer!$C$5)/(Analyzer!$I$6*336)),0)","v":327.2132275229086},{"$f":"IF(ShowA,IF(ISERROR((CQ$2*Analyzer!$C$5)/(Analyzer!$I$6*336)),0,SpeedConv*(CQ$2*Analyzer!$C$5)/(Analyzer!$I$6*336)),0)","v":330.65757728630768},{"$f":"IF(ShowA,IF(ISERROR((CR$2*Analyzer!$C$5)/(Analyzer!$I$6*336)),0,SpeedConv*(CR$2*Analyzer!$C$5)/(Analyzer!$I$6*336)),0)","v":334.10192704970672},{"$f":"IF(ShowA,IF(ISERROR((CS$2*Analyzer!$C$5)/(Analyzer!$I$6*336)),0,SpeedConv*(CS$2*Analyzer!$C$5)/(Analyzer!$I$6*336)),0)","v":337.54627681310575},{"$f":"IF(ShowA,IF(ISERROR((CT$2*Analyzer!$C$5)/(Analyzer!$I$6*336)),0,SpeedConv*(CT$2*Analyzer!$C$5)/(Analyzer!$I$6*336)),0)","v":340.99062657650478},{"$f":"IF(ShowA,IF(ISERROR((CU$2*Analyzer!$C$5)/(Analyzer!$I$6*336)),0,SpeedConv*(CU$2*Analyzer!$C$5)/(Analyzer!$I$6*336)),0)","v":344.43497633990381}]
["A-5th",{"$f":"IF(ShowA,IF(ISERROR((B$2*Analyzer!$C$5)/(Analyzer!$I$7*336)),0,SpeedConv*(B$2*Analyzer!$C$5)/(Analyzer!$I$7*336)),0)","v":12.545537491156967},{"$f":"IF(ShowA,IF(ISERROR((C$2*Analyzer!$C$5)/(Analyzer!$I$7*336)),0,SpeedConv*(C$2*Analyzer!$C$5)/(Analyzer!$I$7*336)),0)","v":16.727383321542622},{"$f":"IF(ShowA,IF(ISERROR((D$2*Analyzer!$C$5)/(Analyzer!$I$7*336)),0,SpeedConv*(D$2*Analyzer!$C$5)/(Analyzer!$I$7*336)),0)","v":20.909229151928276},{"$f":"IF(ShowA,IF(ISERROR((E$2*Analyzer!$C$5)/(Analyzer!$I$7*336)),0,SpeedConv*(E$2*Analyzer!$C$5)/(Analyzer!$I$7*336)),0)","v":25.091074982313934},{"$f":"IF(ShowA,IF(ISERROR((F$2*Analyzer!$C$5)/(Analyzer!$I$7*336)),0,SpeedConv*(F$2*Analyzer!$C$5)/(Analyzer!$I$7*336)),0)","v":29.272920812699589},{"$f":"IF(ShowA,IF(ISERROR((G$2*Analyzer!$C$5)/(Analyzer!$I$7*336)),0,SpeedConv*(G$2*Analyzer!$C$5)/(Analyzer!$I$7*336)),0)","v":33.454766643085243},{"$f":"IF(ShowA,IF(ISERROR((H$2*Analyzer!$C$5)/(Analyzer!$I$7*336)),0,SpeedConv*(H$2*Analyzer!$C$5)/(Analyzer!$I$7*336)),0)","v":37.636612473470898},{"$f":"IF(ShowA,IF(ISERROR((I$2*Analyzer!$C$5)/(Analyzer!$I$7*336)),0,SpeedConv*(I$2*Analyzer!$C$5)/(Analyzer!$I$7*336)),0)","v":41.818458303856552},{"$f":"IF(ShowA,IF(ISERROR((J$2*Analyzer!$C$5)/(Analyzer!$I$7*336)),0,SpeedConv*(J$2*Analyzer!$C$5)/(Analyzer!$I$7*336)),0)","v":46.000304134242214},{"$f":"IF(ShowA,IF(ISERROR((K$2*Analyzer!$C$5)/(Analyzer!$I$7*336)),0,SpeedConv*(K$2*Analyzer!$C$5)/(Analyzer!$I$7*336)),0)","v":50.182149964627868},{"$f":"IF(ShowA,IF(ISERROR((L$2*Analyzer!$C$5)/(Analyzer!$I$7*336)),0,SpeedConv*(L$2*Analyzer!$C$5)/(Analyzer!$I$7*336)),0)","v":54.363995795013523},{"$f":"IF(ShowA,IF(ISERROR((M$2*Analyzer!$C$5)/(Analyzer!$I$7*336)),0,SpeedConv*(M$2*Analyzer!$C$5)/(Analyzer!$I$7*336)),0)","v":58.545841625399177},{"$f":"IF(ShowA,IF(ISERROR((N$2*Analyzer!$C$5)/(Analyzer!$I$7*336)),0,SpeedConv*(N$2*Analyzer!$C$5)/(Analyzer!$I$7*336)),0)","v":62.727687455784832},{"$f":"IF(ShowA,IF(ISERROR((O$2*Analyzer!$C$5)/(Analyzer!$I$7*336)),0,SpeedConv*(O$2*Analyzer!$C$5)/(Analyzer!$I$7*336)),0)","v":66.909533286170486},{"$f":"IF(ShowA,IF(ISERROR((P$2*Analyzer!$C$5)/(Analyzer!$I$7*336)),0,SpeedConv*(P$2*Analyzer!$C$5)/(Analyzer!$I$7*336)),0)","v":71.091379116556141},{"$f":"IF(ShowA,IF(ISERROR((Q$2*Analyzer!$C$5)/(Analyzer!$I$7*336)),0,SpeedConv*(Q$2*Analyzer!$C$5)/(Analyzer!$I$7*336)),0)","v":75.273224946941795},{"$f":"IF(ShowA,IF(ISERROR((R$2*Analyzer!$C$5)/(Analyzer!$I$7*336)),0,SpeedConv*(R$2*Analyzer!$C$5)/(Analyzer!$I$7*336)),0)","v":79.45507077732745},{"$f":"IF(ShowA,IF(ISERROR((S$2*Analyzer!$C$5)/(Analyzer!$I$7*336)),0,SpeedConv*(S$2*Analyzer!$C$5)/(Analyzer!$I$7*336)),0)","v":83.636916607713104},{"$f":"IF(ShowA,IF(ISERROR((T$2*Analyzer!$C$5)/(Analyzer!$I$7*336)),0,SpeedConv*(T$2*Analyzer!$C$5)/(Analyzer!$I$7*336)),0)","v":87.818762438098759},{"$f":"IF(ShowA,IF(ISERROR((U$2*Analyzer!$C$5)/(Analyzer!$I$7*336)),0,SpeedConv*(U$2*Analyzer!$C$5)/(Analyzer!$I$7*336)),0)","v":92.000608268484427},{"$f":"IF(ShowA,IF(ISERROR((V$2*Analyzer!$C$5)/(Analyzer!$I$7*336)),0,SpeedConv*(V$2*Analyzer!$C$5)/(Analyzer!$I$7*336)),0)","v":96.182454098870082},{"$f":"IF(ShowA,IF(ISERROR((W$2*Analyzer!$C$5)/(Analyzer!$I$7*336)),0,SpeedConv*(W$2*Analyzer!$C$5)/(Analyzer!$I$7*336)),0)","v":100.36429992925574},{"$f":"IF(ShowA,IF(ISERROR((X$2*Analyzer!$C$5)/(Analyzer!$I$7*336)),0,SpeedConv*(X$2*Analyzer!$C$5)/(Analyzer!$I$7*336)),0)","v":104.54614575964139},{"$f":"IF(ShowA,IF(ISERROR((Y$2*Analyzer!$C$5)/(Analyzer!$I$7*336)),0,SpeedConv*(Y$2*Analyzer!$C$5)/(Analyzer!$I$7*336)),0)","v":108.72799159002705},{"$f":"IF(ShowA,IF(ISERROR((Z$2*Analyzer!$C$5)/(Analyzer!$I$7*336)),0,SpeedConv*(Z$2*Analyzer!$C$5)/(Analyzer!$I$7*336)),0)","v":112.9098374204127},{"$f":"IF(ShowA,IF(ISERROR((AA$2*Analyzer!$C$5)/(Analyzer!$I$7*336)),0,SpeedConv*(AA$2*Analyzer!$C$5)/(Analyzer!$I$7*336)),0)","v":117.09168325079835},{"$f":"IF(ShowA,IF(ISERROR((AB$2*Analyzer!$C$5)/(Analyzer!$I$7*336)),0,SpeedConv*(AB$2*Analyzer!$C$5)/(Analyzer!$I$7*336)),0)","v":121.27352908118401},{"$f":"IF(ShowA,IF(ISERROR((AC$2*Analyzer!$C$5)/(Analyzer!$I$7*336)),0,SpeedConv*(AC$2*Analyzer!$C$5)/(Analyzer!$I$7*336)),0)","v":125.45537491156966},{"$f":"IF(ShowA,IF(ISERROR((AD$2*Analyzer!$C$5)/(Analyzer!$I$7*336)),0,SpeedConv*(AD$2*Analyzer!$C$5)/(Analyzer!$I$7*336)),0)","v":129.63722074195533},{"$f":"IF(ShowA,IF(ISERROR((AE$2*Analyzer!$C$5)/(Analyzer!$I$7*336)),0,SpeedConv*(AE$2*Analyzer!$C$5)/(Analyzer!$I$7*336)),0)","v":133.81906657234097},{"$f":"IF(ShowA,IF(ISERROR((AF$2*Analyzer!$C$5)/(Analyzer!$I$7*336)),0,SpeedConv*(AF$2*Analyzer!$C$5)/(Analyzer!$I$7*336)),0)","v":138.00091240272664},{"$f":"IF(ShowA,IF(ISERROR((AG$2*Analyzer!$C$5)/(Analyzer!$I$7*336)),0,SpeedConv*(AG$2*Analyzer!$C$5)/(Analyzer!$I$7*336)),0)","v":142.18275823311228},{"$f":"IF(ShowA,IF(ISERROR((AH$2*Analyzer!$C$5)/(Analyzer!$I$7*336)),0,SpeedConv*(AH$2*Analyzer!$C$5)/(Analyzer!$I$7*336)),0)","v":146.36460406349795},{"$f":"IF(ShowA,IF(ISERROR((AI$2*Analyzer!$C$5)/(Analyzer!$I$7*336)),0,SpeedConv*(AI$2*Analyzer!$C$5)/(Analyzer!$I$7*336)),0)","v":150.54644989388359},{"$f":"IF(ShowA,IF(ISERROR((AJ$2*Analyzer!$C$5)/(Analyzer!$I$7*336)),0,SpeedConv*(AJ$2*Analyzer!$C$5)/(Analyzer!$I$7*336)),0)","v":154.72829572426926},{"$f":"IF(ShowA,IF(ISERROR((AK$2*Analyzer!$C$5)/(Analyzer!$I$7*336)),0,SpeedConv*(AK$2*Analyzer!$C$5)/(Analyzer!$I$7*336)),0)","v":158.9101415546549},{"$f":"IF(ShowA,IF(ISERROR((AL$2*Analyzer!$C$5)/(Analyzer!$I$7*336)),0,SpeedConv*(AL$2*Analyzer!$C$5)/(Analyzer!$I$7*336)),0)","v":163.09198738504057},{"$f":"IF(ShowA,IF(ISERROR((AM$2*Analyzer!$C$5)/(Analyzer!$I$7*336)),0,SpeedConv*(AM$2*Analyzer!$C$5)/(Analyzer!$I$7*336)),0)","v":167.27383321542621},{"$f":"IF(ShowA,IF(ISERROR((AN$2*Analyzer!$C$5)/(Analyzer!$I$7*336)),0,SpeedConv*(AN$2*Analyzer!$C$5)/(Analyzer!$I$7*336)),0)","v":171.45567904581188},{"$f":"IF(ShowA,IF(ISERROR((AO$2*Analyzer!$C$5)/(Analyzer!$I$7*336)),0,SpeedConv*(AO$2*Analyzer!$C$5)/(Analyzer!$I$7*336)),0)","v":175.63752487619752},{"$f":"IF(ShowA,IF(ISERROR((AP$2*Analyzer!$C$5)/(Analyzer!$I$7*336)),0,SpeedConv*(AP$2*Analyzer!$C$5)/(Analyzer!$I$7*336)),0)","v":179.81937070658319},{"$f":"IF(ShowA,IF(ISERROR((AQ$2*Analyzer!$C$5)/(Analyzer!$I$7*336)),0,SpeedConv*(AQ$2*Analyzer!$C$5)/(Analyzer!$I$7*336)),0)","v":184.00121653696885},{"$f":"IF(ShowA,IF(ISERROR((AR$2*Analyzer!$C$5)/(Analyzer!$I$7*336)),0,SpeedConv*(AR$2*Analyzer!$C$5)/(Analyzer!$I$7*336)),0)","v":188.18306236735449},{"$f":"IF(ShowA,IF(ISERROR((AS$2*Analyzer!$C$5)/(Analyzer!$I$7*336)),0,SpeedConv*(AS$2*Analyzer!$C$5)/(Analyzer!$I$7*336)),0)","v":192.36490819774016},{"$f":"IF(ShowA,IF(ISERROR((AT$2*Analyzer!$C$5)/(Analyzer!$I$7*336)),0,SpeedConv*(AT$2*Analyzer!$C$5)/(Analyzer!$I$7*336)),0)","v":196.5467540281258},{"$f":"IF(ShowA,IF(ISERROR((AU$2*Analyzer!$C$5)/(Analyzer!$I$7*336)),0,SpeedConv*(AU$2*Analyzer!$C$5)/(Analyzer!$I$7*336)),0)","v":200.72859985851147},{"$f":"IF(ShowA,IF(ISERROR((AV$2*Analyzer!$C$5)/(Analyzer!$I$7*336)),0,SpeedConv*(AV$2*Analyzer!$C$5)/(Analyzer!$I$7*336)),0)","v":204.91044568889711},{"$f":"IF(ShowA,IF(ISERROR((AW$2*Analyzer!$C$5)/(Analyzer!$I$7*336)),0,SpeedConv*(AW$2*Analyzer!$C$5)/(Analyzer!$I$7*336)),0)","v":209.09229151928278},{"$f":"IF(ShowA,IF(ISERROR((AX$2*Analyzer!$C$5)/(Analyzer!$I$7*336)),0,SpeedConv*(AX$2*Analyzer!$C$5)/(Analyzer!$I$7*336)),0)","v":213.27413734966842},{"$f":"IF(ShowA,IF(ISERROR((AY$2*Analyzer!$C$5)/(Analyzer!$I$7*336)),0,SpeedConv*(AY$2*Analyzer!$C$5)/(Analyzer!$I$7*336)),0)","v":217.45598318005409},{"$f":"IF(ShowA,IF(ISERROR((AZ$2*Analyzer!$C$5)/(Analyzer!$I$7*336)),0,SpeedConv*(AZ$2*Analyzer!$C$5)/(Analyzer!$I$7*336)),0)","v":221.63782901043973},{"$f":"IF(ShowA,IF(ISERROR((BA$2*Analyzer!$C$5)/(Analyzer!$I$7*336)),0,SpeedConv*(BA$2*Analyzer!$C$5)/(Analyzer!$I$7*336)),0)","v":225.8196748408254},{"$f":"IF(ShowA,IF(ISERROR((BB$2*Analyzer!$C$5)/(Analyzer!$I$7*336)),0,SpeedConv*(BB$2*Analyzer!$C$5)/(Analyzer!$I$7*336)),0)","v":230.00152067121104},{"$f":"IF(ShowA,IF(ISERROR((BC$2*Analyzer!$C$5)/(Analyzer!$I$7*336)),0,SpeedConv*(BC$2*Analyzer!$C$5)/(Analyzer!$I$7*336)),0)","v":234.18336650159671},{"$f":"IF(ShowA,IF(ISERROR((BD$2*Analyzer!$C$5)/(Analyzer!$I$7*336)),0,SpeedConv*(BD$2*Analyzer!$C$5)/(Analyzer!$I$7*336)),0)","v":238.36521233198235},{"$f":"IF(ShowA,IF(ISERROR((BE$2*Analyzer!$C$5)/(Analyzer!$I$7*336)),0,SpeedConv*(BE$2*Analyzer!$C$5)/(Analyzer!$I$7*336)),0)","v":242.54705816236802},{"$f":"IF(ShowA,IF(ISERROR((BF$2*Analyzer!$C$5)/(Analyzer!$I$7*336)),0,SpeedConv*(BF$2*Analyzer!$C$5)/(Analyzer!$I$7*336)),0)","v":246.72890399275369},{"$f":"IF(ShowA,IF(ISERROR((BG$2*Analyzer!$C$5)/(Analyzer!$I$7*336)),0,SpeedConv*(BG$2*Analyzer!$C$5)/(Analyzer!$I$7*336)),0)","v":250.91074982313933},{"$f":"IF(ShowA,IF(ISERROR((BH$2*Analyzer!$C$5)/(Analyzer!$I$7*336)),0,SpeedConv*(BH$2*Analyzer!$C$5)/(Analyzer!$I$7*336)),0)","v":255.092595653525},{"$f":"IF(ShowA,IF(ISERROR((BI$2*Analyzer!$C$5)/(Analyzer!$I$7*336)),0,SpeedConv*(BI$2*Analyzer!$C$5)/(Analyzer!$I$7*336)),0)","v":259.27444148391066},{"$f":"IF(ShowA,IF(ISERROR((BJ$2*Analyzer!$C$5)/(Analyzer!$I$7*336)),0,SpeedConv*(BJ$2*Analyzer!$C$5)/(Analyzer!$I$7*336)),0)","v":263.45628731429628},{"$f":"IF(ShowA,IF(ISERROR((BK$2*Analyzer!$C$5)/(Analyzer!$I$7*336)),0,SpeedConv*(BK$2*Analyzer!$C$5)/(Analyzer!$I$7*336)),0)","v":267.63813314468194},{"$f":"IF(ShowA,IF(ISERROR((BL$2*Analyzer!$C$5)/(Analyzer!$I$7*336)),0,SpeedConv*(BL$2*Analyzer!$C$5)/(Analyzer!$I$7*336)),0)","v":271.81997897506761},{"$f":"IF(ShowA,IF(ISERROR((BM$2*Analyzer!$C$5)/(Analyzer!$I$7*336)),0,SpeedConv*(BM$2*Analyzer!$C$5)/(Analyzer!$I$7*336)),0)","v":276.00182480545328},{"$f":"IF(ShowA,IF(ISERROR((BN$2*Analyzer!$C$5)/(Analyzer!$I$7*336)),0,SpeedConv*(BN$2*Analyzer!$C$5)/(Analyzer!$I$7*336)),0)","v":280.18367063583889},{"$f":"IF(ShowA,IF(ISERROR((BO$2*Analyzer!$C$5)/(Analyzer!$I$7*336)),0,SpeedConv*(BO$2*Analyzer!$C$5)/(Analyzer!$I$7*336)),0)","v":284.36551646622456},{"$f":"IF(ShowA,IF(ISERROR((BP$2*Analyzer!$C$5)/(Analyzer!$I$7*336)),0,SpeedConv*(BP$2*Analyzer!$C$5)/(Analyzer!$I$7*336)),0)","v":288.54736229661023},{"$f":"IF(ShowA,IF(ISERROR((BQ$2*Analyzer!$C$5)/(Analyzer!$I$7*336)),0,SpeedConv*(BQ$2*Analyzer!$C$5)/(Analyzer!$I$7*336)),0)","v":292.7292081269959},{"$f":"IF(ShowA,IF(ISERROR((BR$2*Analyzer!$C$5)/(Analyzer!$I$7*336)),0,SpeedConv*(BR$2*Analyzer!$C$5)/(Analyzer!$I$7*336)),0)","v":296.91105395738151},{"$f":"IF(ShowA,IF(ISERROR((BS$2*Analyzer!$C$5)/(Analyzer!$I$7*336)),0,SpeedConv*(BS$2*Analyzer!$C$5)/(Analyzer!$I$7*336)),0)","v":301.09289978776718},{"$f":"IF(ShowA,IF(ISERROR((BT$2*Analyzer!$C$5)/(Analyzer!$I$7*336)),0,SpeedConv*(BT$2*Analyzer!$C$5)/(Analyzer!$I$7*336)),0)","v":305.27474561815285},{"$f":"IF(ShowA,IF(ISERROR((BU$2*Analyzer!$C$5)/(Analyzer!$I$7*336)),0,SpeedConv*(BU$2*Analyzer!$C$5)/(Analyzer!$I$7*336)),0)","v":309.45659144853852},{"$f":"IF(ShowA,IF(ISERROR((BV$2*Analyzer!$C$5)/(Analyzer!$I$7*336)),0,SpeedConv*(BV$2*Analyzer!$C$5)/(Analyzer!$I$7*336)),0)","v":313.63843727892419},{"$f":"IF(ShowA,IF(ISERROR((BW$2*Analyzer!$C$5)/(Analyzer!$I$7*336)),0,SpeedConv*(BW$2*Analyzer!$C$5)/(Analyzer!$I$7*336)),0)","v":317.8202831093098},{"$f":"IF(ShowA,IF(ISERROR((BX$2*Analyzer!$C$5)/(Analyzer!$I$7*336)),0,SpeedConv*(BX$2*Analyzer!$C$5)/(Analyzer!$I$7*336)),0)","v":322.00212893969547},{"$f":"IF(ShowA,IF(ISERROR((BY$2*Analyzer!$C$5)/(Analyzer!$I$7*336)),0,SpeedConv*(BY$2*Analyzer!$C$5)/(Analyzer!$I$7*336)),0)","v":326.18397477008114},{"$f":"IF(ShowA,IF(ISERROR((BZ$2*Analyzer!$C$5)/(Analyzer!$I$7*336)),0,SpeedConv*(BZ$2*Analyzer!$C$5)/(Analyzer!$I$7*336)),0)","v":330.3658206004668},{"$f":"IF(ShowA,IF(ISERROR((CA$2*Analyzer!$C$5)/(Analyzer!$I$7*336)),0,SpeedConv*(CA$2*Analyzer!$C$5)/(Analyzer!$I$7*336)),0)","v":334.54766643085242},{"$f":"IF(ShowA,IF(ISERROR((CB$2*Analyzer!$C$5)/(Analyzer!$I$7*336)),0,SpeedConv*(CB$2*Analyzer!$C$5)/(Analyzer!$I$7*336)),0)","v":338.72951226123809},{"$f":"IF(ShowA,IF(ISERROR((CC$2*Analyzer!$C$5)/(Analyzer!$I$7*336)),0,SpeedConv*(CC$2*Analyzer!$C$5)/(Analyzer!$I$7*336)),0)","v":342.91135809162375},{"$f":"IF(ShowA,IF(ISERROR((CD$2*Analyzer!$C$5)/(Analyzer!$I$7*336)),0,SpeedConv*(CD$2*Analyzer!$C$5)/(Analyzer!$I$7*336)),0)","v":347.09320392200942},{"$f":"IF(ShowA,IF(ISERROR((CE$2*Analyzer!$C$5)/(Analyzer!$I$7*336)),0,SpeedConv*(CE$2*Analyzer!$C$5)/(Analyzer!$I$7*336)),0)","v":351.27504975239503},{"$f":"IF(ShowA,IF(ISERROR((CF$2*Analyzer!$C$5)/(Analyzer!$I$7*336)),0,SpeedConv*(CF$2*Analyzer!$C$5)/(Analyzer!$I$7*336)),0)","v":355.4568955827807},{"$f":"IF(ShowA,IF(ISERROR((CG$2*Analyzer!$C$5)/(Analyzer!$I$7*336)),0,SpeedConv*(CG$2*Analyzer!$C$5)/(Analyzer!$I$7*336)),0)","v":359.63874141316637},{"$f":"IF(ShowA,IF(ISERROR((CH$2*Analyzer!$C$5)/(Analyzer!$I$7*336)),0,SpeedConv*(CH$2*Analyzer!$C$5)/(Analyzer!$I$7*336)),0)","v":363.82058724355204},{"$f":"IF(ShowA,IF(ISERROR((CI$2*Analyzer!$C$5)/(Analyzer!$I$7*336)),0,SpeedConv*(CI$2*Analyzer!$C$5)/(Analyzer!$I$7*336)),0)","v":368.00243307393771},{"$f":"IF(ShowA,IF(ISERROR((CJ$2*Analyzer!$C$5)/(Analyzer!$I$7*336)),0,SpeedConv*(CJ$2*Analyzer!$C$5)/(Analyzer!$I$7*336)),0)","v":372.18427890432332},{"$f":"IF(ShowA,IF(ISERROR((CK$2*Analyzer!$C$5)/(Analyzer!$I$7*336)),0,SpeedConv*(CK$2*Analyzer!$C$5)/(Analyzer!$I$7*336)),0)","v":376.36612473470899},{"$f":"IF(ShowA,IF(ISERROR((CL$2*Analyzer!$C$5)/(Analyzer!$I$7*336)),0,SpeedConv*(CL$2*Analyzer!$C$5)/(Analyzer!$I$7*336)),0)","v":380.54797056509466},{"$f":"IF(ShowA,IF(ISERROR((CM$2*Analyzer!$C$5)/(Analyzer!$I$7*336)),0,SpeedConv*(CM$2*Analyzer!$C$5)/(Analyzer!$I$7*336)),0)","v":384.72981639548033},{"$f":"IF(ShowA,IF(ISERROR((CN$2*Analyzer!$C$5)/(Analyzer!$I$7*336)),0,SpeedConv*(CN$2*Analyzer!$C$5)/(Analyzer!$I$7*336)),0)","v":388.91166222586594},{"$f":"IF(ShowA,IF(ISERROR((CO$2*Analyzer!$C$5)/(Analyzer!$I$7*336)),0,SpeedConv*(CO$2*Analyzer!$C$5)/(Analyzer!$I$7*336)),0)","v":393.09350805625161},{"$f":"IF(ShowA,IF(ISERROR((CP$2*Analyzer!$C$5)/(Analyzer!$I$7*336)),0,SpeedConv*(CP$2*Analyzer!$C$5)/(Analyzer!$I$7*336)),0)","v":397.27535388663728},{"$f":"IF(ShowA,IF(ISERROR((CQ$2*Analyzer!$C$5)/(Analyzer!$I$7*336)),0,SpeedConv*(CQ$2*Analyzer!$C$5)/(Analyzer!$I$7*336)),0)","v":401.45719971702295},{"$f":"IF(ShowA,IF(ISERROR((CR$2*Analyzer!$C$5)/(Analyzer!$I$7*336)),0,SpeedConv*(CR$2*Analyzer!$C$5)/(Analyzer!$I$7*336)),0)","v":405.63904554740856},{"$f":"IF(ShowA,IF(ISERROR((CS$2*Analyzer!$C$5)/(Analyzer!$I$7*336)),0,SpeedConv*(CS$2*Analyzer!$C$5)/(Analyzer!$I$7*336)),0)","v":409.82089137779423},{"$f":"IF(ShowA,IF(ISERROR((CT$2*Analyzer!$C$5)/(Analyzer!$I$7*336)),0,SpeedConv*(CT$2*Analyzer!$C$5)/(Analyzer!$I$7*336)),0)","v":414.00273720817989},{"$f":"IF(ShowA,IF(ISERROR((CU$2*Analyzer!$C$5)/(Analyzer!$I$7*336)),0,SpeedConv*(CU$2*Analyzer!$C$5)/(Analyzer!$I$7*336)),0)","v":418.18458303856556}]
["A-6th",{"$f":"IF(ShowA,IF(ISERROR((B$2*Analyzer!$C$5)/(Analyzer!$I$8*336)),0,SpeedConv*(B$2*Analyzer!$C$5)/(Analyzer!$I$8*336)),0)","v":0},{"$f":"IF(ShowA,IF(ISERROR((C$2*Analyzer!$C$5)/(Analyzer!$I$8*336)),0,SpeedConv*(C$2*Analyzer!$C$5)/(Analyzer!$I$8*336)),0)","v":0},{"$f":"IF(ShowA,IF(ISERROR((D$2*Analyzer!$C$5)/(Analyzer!$I$8*336)),0,SpeedConv*(D$2*Analyzer!$C$5)/(Analyzer!$I$8*336)),0)","v":0},{"$f":"IF(ShowA,IF(ISERROR((E$2*Analyzer!$C$5)/(Analyzer!$I$8*336)),0,SpeedConv*(E$2*Analyzer!$C$5)/(Analyzer!$I$8*336)),0)","v":0},{"$f":"IF(ShowA,IF(ISERROR((F$2*Analyzer!$C$5)/(Analyzer!$I$8*336)),0,SpeedConv*(F$2*Analyzer!$C$5)/(Analyzer!$I$8*336)),0)","v":0},{"$f":"IF(ShowA,IF(ISERROR((G$2*Analyzer!$C$5)/(Analyzer!$I$8*336)),0,SpeedConv*(G$2*Analyzer!$C$5)/(Analyzer!$I$8*336)),0)","v":0},{"$f":"IF(ShowA,IF(ISERROR((H$2*Analyzer!$C$5)/(Analyzer!$I$8*336)),0,SpeedConv*(H$2*Analyzer!$C$5)/(Analyzer!$I$8*336)),0)","v":0},{"$f":"IF(ShowA,IF(ISERROR((I$2*Analyzer!$C$5)/(Analyzer!$I$8*336)),0,SpeedConv*(I$2*Analyzer!$C$5)/(Analyzer!$I$8*336)),0)","v":0},{"$f":"IF(ShowA,IF(ISERROR((J$2*Analyzer!$C$5)/(Analyzer!$I$8*336)),0,SpeedConv*(J$2*Analyzer!$C$5)/(Analyzer!$I$8*336)),0)","v":0},{"$f":"IF(ShowA,IF(ISERROR((K$2*Analyzer!$C$5)/(Analyzer!$I$8*336)),0,SpeedConv*(K$2*Analyzer!$C$5)/(Analyzer!$I$8*336)),0)","v":0},{"$f":"IF(ShowA,IF(ISERROR((L$2*Analyzer!$C$5)/(Analyzer!$I$8*336)),0,SpeedConv*(L$2*Analyzer!$C$5)/(Analyzer!$I$8*336)),0)","v":0},{"$f":"IF(ShowA,IF(ISERROR((M$2*Analyzer!$C$5)/(Analyzer!$I$8*336)),0,SpeedConv*(M$2*Analyzer!$C$5)/(Analyzer!$I$8*336)),0)","v":0},{"$f":"IF(ShowA,IF(ISERROR((N$2*Analyzer!$C$5)/(Analyzer!$I$8*336)),0,SpeedConv*(N$2*Analyzer!$C$5)/(Analyzer!$I$8*336)),0)","v":0},{"$f":"IF(ShowA,IF(ISERROR((O$2*Analyzer!$C$5)/(Analyzer!$I$8*336)),0,SpeedConv*(O$2*Analyzer!$C$5)/(Analyzer!$I$8*336)),0)","v":0},{"$f":"IF(ShowA,IF(ISERROR((P$2*Analyzer!$C$5)/(Analyzer!$I$8*336)),0,SpeedConv*(P$2*Analyzer!$C$5)/(Analyzer!$I$8*336)),0)","v":0},{"$f":"IF(ShowA,IF(ISERROR((Q$2*Analyzer!$C$5)/(Analyzer!$I$8*336)),0,SpeedConv*(Q$2*Analyzer!$C$5)/(Analyzer!$I$8*336)),0)","v":0},{"$f":"IF(ShowA,IF(ISERROR((R$2*Analyzer!$C$5)/(Analyzer!$I$8*336)),0,SpeedConv*(R$2*Analyzer!$C$5)/(Analyzer!$I$8*336)),0)","v":0},{"$f":"IF(ShowA,IF(ISERROR((S$2*Analyzer!$C$5)/(Analyzer!$I$8*336)),0,SpeedConv*(S$2*Analyzer!$C$5)/(Analyzer!$I$8*336)),0)","v":0},{"$f":"IF(ShowA,IF(ISERROR((T$2*Analyzer!$C$5)/(Analyzer!$I$8*336)),0,SpeedConv*(T$2*Analyzer!$C$5)/(Analyzer!$I$8*336)),0)","v":0},{"$f":"IF(ShowA,IF(ISERROR((U$2*Analyzer!$C$5)/(Analyzer!$I$8*336)),0,SpeedConv*(U$2*Analyzer!$C$5)/(Analyzer!$I$8*336)),0)","v":0},{"$f":"IF(ShowA,IF(ISERROR((V$2*Analyzer!$C$5)/(Analyzer!$I$8*336)),0,SpeedConv*(V$2*Analyzer!$C$5)/(Analyzer!$I$8*336)),0)","v":0},{"$f":"IF(ShowA,IF(ISERROR((W$2*Analyzer!$C$5)/(Analyzer!$I$8*336)),0,SpeedConv*(W$2*Analyzer!$C$5)/(Analyzer!$I$8*336)),0)","v":0},{"$f":"IF(ShowA,IF(ISERROR((X$2*Analyzer!$C$5)/(Analyzer!$I$8*336)),0,SpeedConv*(X$2*Analyzer!$C$5)/(Analyzer!$I$8*336)),0)","v":0},{"$f":"IF(ShowA,IF(ISERROR((Y$2*Analyzer!$C$5)/(Analyzer!$I$8*336)),0,SpeedConv*(Y$2*Analyzer!$C$5)/(Analyzer!$I$8*336)),0)","v":0},{"$f":"IF(ShowA,IF(ISERROR((Z$2*Analyzer!$C$5)/(Analyzer!$I$8*336)),0,SpeedConv*(Z$2*Analyzer!$C$5)/(Analyzer!$I$8*336)),0)","v":0},{"$f":"IF(ShowA,IF(ISERROR((AA$2*Analyzer!$C$5)/(Analyzer!$I$8*336)),0,SpeedConv*(AA$2*Analyzer!$C$5)/(Analyzer!$I$8*336)),0)","v":0},{"$f":"IF(ShowA,IF(ISERROR((AB$2*Analyzer!$C$5)/(Analyzer!$I$8*336)),0,SpeedConv*(AB$2*Analyzer!$C$5)/(Analyzer!$I$8*336)),0)","v":0},{"$f":"IF(ShowA,IF(ISERROR((AC$2*Analyzer!$C$5)/(Analyzer!$I$8*336)),0,SpeedConv*(AC$2*Analyzer!$C$5)/(Analyzer!$I$8*336)),0)","v":0},{"$f":"IF(ShowA,IF(ISERROR((AD$2*Analyzer!$C$5)/(Analyzer!$I$8*336)),0,SpeedConv*(AD$2*Analyzer!$C$5)/(Analyzer!$I$8*336)),0)","v":0},{"$f":"IF(ShowA,IF(ISERROR((AE$2*Analyzer!$C$5)/(Analyzer!$I$8*336)),0,SpeedConv*(AE$2*Analyzer!$C$5)/(Analyzer!$I$8*336)),0)","v":0},{"$f":"IF(ShowA,IF(ISERROR((AF$2*Analyzer!$C$5)/(Analyzer!$I$8*336)),0,SpeedConv*(AF$2*Analyzer!$C$5)/(Analyzer!$I$8*336)),0)","v":0},{"$f":"IF(ShowA,IF(ISERROR((AG$2*Analyzer!$C$5)/(Analyzer!$I$8*336)),0,SpeedConv*(AG$2*Analyzer!$C$5)/(Analyzer!$I$8*336)),0)","v":0},{"$f":"IF(ShowA,IF(ISERROR((AH$2*Analyzer!$C$5)/(Analyzer!$I$8*336)),0,SpeedConv*(AH$2*Analyzer!$C$5)/(Analyzer!$I$8*336)),0)","v":0},{"$f":"IF(ShowA,IF(ISERROR((AI$2*Analyzer!$C$5)/(Analyzer!$I$8*336)),0,SpeedConv*(AI$2*Analyzer!$C$5)/(Analyzer!$I$8*336)),0)","v":0},{"$f":"IF(ShowA,IF(ISERROR((AJ$2*Analyzer!$C$5)/(Analyzer!$I$8*336)),0,SpeedConv*(AJ$2*Analyzer!$C$5)/(Analyzer!$I$8*336)),0)","v":0},{"$f":"IF(ShowA,IF(ISERROR((AK$2*Analyzer!$C$5)/(Analyzer!$I$8*336)),0,SpeedConv*(AK$2*Analyzer!$C$5)/(Analyzer!$I$8*336)),0)","v":0},{"$f":"IF(ShowA,IF(ISERROR((AL$2*Analyzer!$C$5)/(Analyzer!$I$8*336)),0,SpeedConv*(AL$2*Analyzer!$C$5)/(Analyzer!$I$8*336)),0)","v":0},{"$f":"IF(ShowA,IF(ISERROR((AM$2*Analyzer!$C$5)/(Analyzer!$I$8*336)),0,SpeedConv*(AM$2*Analyzer!$C$5)/(Analyzer!$I$8*336)),0)","v":0},{"$f":"IF(ShowA,IF(ISERROR((AN$2*Analyzer!$C$5)/(Analyzer!$I$8*336)),0,SpeedConv*(AN$2*Analyzer!$C$5)/(Analyzer!$I$8*336)),0)","v":0},{"$f":"IF(ShowA,IF(ISERROR((AO$2*Analyzer!$C$5)/(Analyzer!$I$8*336)),0,SpeedConv*(AO$2*Analyzer!$C$5)/(Analyzer!$I$8*336)),0)","v":0},{"$f":"IF(ShowA,IF(ISERROR((AP$2*Analyzer!$C$5)/(Analyzer!$I$8*336)),0,SpeedConv*(AP$2*Analyzer!$C$5)/(Analyzer!$I$8*336)),0)","v":0},{"$f":"IF(ShowA,IF(ISERROR((AQ$2*Analyzer!$C$5)/(Analyzer!$I$8*336)),0,SpeedConv*(AQ$2*Analyzer!$C$5)/(Analyzer!$I$8*336)),0)","v":0},{"$f":"IF(ShowA,IF(ISERROR((AR$2*Analyzer!$C$5)/(Analyzer!$I$8*336)),0,SpeedConv*(AR$2*Analyzer!$C$5)/(Analyzer!$I$8*336)),0)","v":0},{"$f":"IF(ShowA,IF(ISERROR((AS$2*Analyzer!$C$5)/(Analyzer!$I$8*336)),0,SpeedConv*(AS$2*Analyzer!$C$5)/(Analyzer!$I$8*336)),0)","v":0},{"$f":"IF(ShowA,IF(ISERROR((AT$2*Analyzer!$C$5)/(Analyzer!$I$8*336)),0,SpeedConv*(AT$2*Analyzer!$C$5)/(Analyzer!$I$8*336)),0)","v":0},{"$f":"IF(ShowA,IF(ISERROR((AU$2*Analyzer!$C$5)/(Analyzer!$I$8*336)),0,SpeedConv*(AU$2*Analyzer!$C$5)/(Analyzer!$I$8*336)),0)","v":0},{"$f":"IF(ShowA,IF(ISERROR((AV$2*Analyzer!$C$5)/(Analyzer!$I$8*336)),0,SpeedConv*(AV$2*Analyzer!$C$5)/(Analyzer!$I$8*336)),0)","v":0},{"$f":"IF(ShowA,IF(ISERROR((AW$2*Analyzer!$C$5)/(Analyzer!$I$8*336)),0,SpeedConv*(AW$2*Analyzer!$C$5)/(Analyzer!$I$8*336)),0)","v":0},{"$f":"IF(ShowA,IF(ISERROR((AX$2*Analyzer!$C$5)/(Analyzer!$I$8*336)),0,SpeedConv*(AX$2*Analyzer!$C$5)/(Analyzer!$I$8*336)),0)","v":0},{"$f":"IF(ShowA,IF(ISERROR((AY$2*Analyzer!$C$5)/(Analyzer!$I$8*336)),0,SpeedConv*(AY$2*Analyzer!$C$5)/(Analyzer!$I$8*336)),0)","v":0},{"$f":"IF(ShowA,IF(ISERROR((AZ$2*Analyzer!$C$5)/(Analyzer!$I$8*336)),0,SpeedConv*(AZ$2*Analyzer!$C$5)/(Analyzer!$I$8*336)),0)","v":0},{"$f":"IF(ShowA,IF(ISERROR((BA$2*Analyzer!$C$5)/(Analyzer!$I$8*336)),0,SpeedConv*(BA$2*Analyzer!$C$5)/(Analyzer!$I$8*336)),0)","v":0},{"$f":"IF(ShowA,IF(ISERROR((BB$2*Analyzer!$C$5)/(Analyzer!$I$8*336)),0,SpeedConv*(BB$2*Analyzer!$C$5)/(Analyzer!$I$8*336)),0)","v":0},{"$f":"IF(ShowA,IF(ISERROR((BC$2*Analyzer!$C$5)/(Analyzer!$I$8*336)),0,SpeedConv*(BC$2*Analyzer!$C$5)/(Analyzer!$I$8*336)),0)","v":0},{"$f":"IF(ShowA,IF(ISERROR((BD$2*Analyzer!$C$5)/(Analyzer!$I$8*336)),0,SpeedConv*(BD$2*Analyzer!$C$5)/(Analyzer!$I$8*336)),0)","v":0},{"$f":"IF(ShowA,IF(ISERROR((BE$2*Analyzer!$C$5)/(Analyzer!$I$8*336)),0,SpeedConv*(BE$2*Analyzer!$C$5)/(Analyzer!$I$8*336)),0)","v":0},{"$f":"IF(ShowA,IF(ISERROR((BF$2*Analyzer!$C$5)/(Analyzer!$I$8*336)),0,SpeedConv*(BF$2*Analyzer!$C$5)/(Analyzer!$I$8*336)),0)","v":0},{"$f":"IF(ShowA,IF(ISERROR((BG$2*Analyzer!$C$5)/(Analyzer!$I$8*336)),0,SpeedConv*(BG$2*Analyzer!$C$5)/(Analyzer!$I$8*336)),0)","v":0},{"$f":"IF(ShowA,IF(ISERROR((BH$2*Analyzer!$C$5)/(Analyzer!$I$8*336)),0,SpeedConv*(BH$2*Analyzer!$C$5)/(Analyzer!$I$8*336)),0)","v":0},{"$f":"IF(ShowA,IF(ISERROR((BI$2*Analyzer!$C$5)/(Analyzer!$I$8*336)),0,SpeedConv*(BI$2*Analyzer!$C$5)/(Analyzer!$I$8*336)),0)","v":0},{"$f":"IF(ShowA,IF(ISERROR((BJ$2*Analyzer!$C$5)/(Analyzer!$I$8*336)),0,SpeedConv*(BJ$2*Analyzer!$C$5)/(Analyzer!$I$8*336)),0)","v":0},{"$f":"IF(ShowA,IF(ISERROR((BK$2*Analyzer!$C$5)/(Analyzer!$I$8*336)),0,SpeedConv*(BK$2*Analyzer!$C$5)/(Analyzer!$I$8*336)),0)","v":0},{"$f":"IF(ShowA,IF(ISERROR((BL$2*Analyzer!$C$5)/(Analyzer!$I$8*336)),0,SpeedConv*(BL$2*Analyzer!$C$5)/(Analyzer!$I$8*336)),0)","v":0},{"$f":"IF(ShowA,IF(ISERROR((BM$2*Analyzer!$C$5)/(Analyzer!$I$8*336)),0,SpeedConv*(BM$2*Analyzer!$C$5)/(Analyzer!$I$8*336)),0)","v":0},{"$f":"IF(ShowA,IF(ISERROR((BN$2*Analyzer!$C$5)/(Analyzer!$I$8*336)),0,SpeedConv*(BN$2*Analyzer!$C$5)/(Analyzer!$I$8*336)),0)","v":0},{"$f":"IF(ShowA,IF(ISERROR((BO$2*Analyzer!$C$5)/(Analyzer!$I$8*336)),0,SpeedConv*(BO$2*Analyzer!$C$5)/(Analyzer!$I$8*336)),0)","v":0},{"$f":"IF(ShowA,IF(ISERROR((BP$2*Analyzer!$C$5)/(Analyzer!$I$8*336)),0,SpeedConv*(BP$2*Analyzer!$C$5)/(Analyzer!$I$8*336)),0)","v":0},{"$f":"IF(ShowA,IF(ISERROR((BQ$2*Analyzer!$C$5)/(Analyzer!$I$8*336)),0,SpeedConv*(BQ$2*Analyzer!$C$5)/(Analyzer!$I$8*336)),0)","v":0},{"$f":"IF(ShowA,IF(ISERROR((BR$2*Analyzer!$C$5)/(Analyzer!$I$8*336)),0,SpeedConv*(BR$2*Analyzer!$C$5)/(Analyzer!$I$8*336)),0)","v":0},{"$f":"IF(ShowA,IF(ISERROR((BS$2*Analyzer!$C$5)/(Analyzer!$I$8*336)),0,SpeedConv*(BS$2*Analyzer!$C$5)/(Analyzer!$I$8*336)),0)","v":0},{"$f":"IF(ShowA,IF(ISERROR((BT$2*Analyzer!$C$5)/(Analyzer!$I$8*336)),0,SpeedConv*(BT$2*Analyzer!$C$5)/(Analyzer!$I$8*336)),0)","v":0},{"$f":"IF(ShowA,IF(ISERROR((BU$2*Analyzer!$C$5)/(Analyzer!$I$8*336)),0,SpeedConv*(BU$2*Analyzer!$C$5)/(Analyzer!$I$8*336)),0)","v":0},{"$f":"IF(ShowA,IF(ISERROR((BV$2*Analyzer!$C$5)/(Analyzer!$I$8*336)),0,SpeedConv*(BV$2*Analyzer!$C$5)/(Analyzer!$I$8*336)),0)","v":0},{"$f":"IF(ShowA,IF(ISERROR((BW$2*Analyzer!$C$5)/(Analyzer!$I$8*336)),0,SpeedConv*(BW$2*Analyzer!$C$5)/(Analyzer!$I$8*336)),0)","v":0},{"$f":"IF(ShowA,IF(ISERROR((BX$2*Analyzer!$C$5)/(Analyzer!$I$8*336)),0,SpeedConv*(BX$2*Analyzer!$C$5)/(Analyzer!$I$8*336)),0)","v":0},{"$f":"IF(ShowA,IF(ISERROR((BY$2*Analyzer!$C$5)/(Analyzer!$I$8*336)),0,SpeedConv*(BY$2*Analyzer!$C$5)/(Analyzer!$I$8*336)),0)","v":0},{"$f":"IF(ShowA,IF(ISERROR((BZ$2*Analyzer!$C$5)/(Analyzer!$I$8*336)),0,SpeedConv*(BZ$2*Analyzer!$C$5)/(Analyzer!$I$8*336)),0)","v":0},{"$f":"IF(ShowA,IF(ISERROR((CA$2*Analyzer!$C$5)/(Analyzer!$I$8*336)),0,SpeedConv*(CA$2*Analyzer!$C$5)/(Analyzer!$I$8*336)),0)","v":0},{"$f":"IF(ShowA,IF(ISERROR((CB$2*Analyzer!$C$5)/(Analyzer!$I$8*336)),0,SpeedConv*(CB$2*Analyzer!$C$5)/(Analyzer!$I$8*336)),0)","v":0},{"$f":"IF(ShowA,IF(ISERROR((CC$2*Analyzer!$C$5)/(Analyzer!$I$8*336)),0,SpeedConv*(CC$2*Analyzer!$C$5)/(Analyzer!$I$8*336)),0)","v":0},{"$f":"IF(ShowA,IF(ISERROR((CD$2*Analyzer!$C$5)/(Analyzer!$I$8*336)),0,SpeedConv*(CD$2*Analyzer!$C$5)/(Analyzer!$I$8*336)),0)","v":0},{"$f":"IF(ShowA,IF(ISERROR((CE$2*Analyzer!$C$5)/(Analyzer!$I$8*336)),0,SpeedConv*(CE$2*Analyzer!$C$5)/(Analyzer!$I$8*336)),0)","v":0},{"$f":"IF(ShowA,IF(ISERROR((CF$2*Analyzer!$C$5)/(Analyzer!$I$8*336)),0,SpeedConv*(CF$2*Analyzer!$C$5)/(Analyzer!$I$8*336)),0)","v":0},{"$f":"IF(ShowA,IF(ISERROR((CG$2*Analyzer!$C$5)/(Analyzer!$I$8*336)),0,SpeedConv*(CG$2*Analyzer!$C$5)/(Analyzer!$I$8*336)),0)","v":0},{"$f":"IF(ShowA,IF(ISERROR((CH$2*Analyzer!$C$5)/(Analyzer!$I$8*336)),0,SpeedConv*(CH$2*Analyzer!$C$5)/(Analyzer!$I$8*336)),0)","v":0},{"$f":"IF(ShowA,IF(ISERROR((CI$2*Analyzer!$C$5)/(Analyzer!$I$8*336)),0,SpeedConv*(CI$2*Analyzer!$C$5)/(Analyzer!$I$8*336)),0)","v":0},{"$f":"IF(ShowA,IF(ISERROR((CJ$2*Analyzer!$C$5)/(Analyzer!$I$8*336)),0,SpeedConv*(CJ$2*Analyzer!$C$5)/(Analyzer!$I$8*336)),0)","v":0},{"$f":"IF(ShowA,IF(ISERROR((CK$2*Analyzer!$C$5)/(Analyzer!$I$8*336)),0,SpeedConv*(CK$2*Analyzer!$C$5)/(Analyzer!$I$8*336)),0)","v":0},{"$f":"IF(ShowA,IF(ISERROR((CL$2*Analyzer!$C$5)/(Analyzer!$I$8*336)),0,SpeedConv*(CL$2*Analyzer!$C$5)/(Analyzer!$I$8*336)),0)","v":0},{"$f":"IF(ShowA,IF(ISERROR((CM$2*Analyzer!$C$5)/(Analyzer!$I$8*336)),0,SpeedConv*(CM$2*Analyzer!$C$5)/(Analyzer!$I$8*336)),0)","v":0},{"$f":"IF(ShowA,IF(ISERROR((CN$2*Analyzer!$C$5)/(Analyzer!$I$8*336)),0,SpeedConv*(CN$2*Analyzer!$C$5)/(Analyzer!$I$8*336)),0)","v":0},{"$f":"IF(ShowA,IF(ISERROR((CO$2*Analyzer!$C$5)/(Analyzer!$I$8*336)),0,SpeedConv*(CO$2*Analyzer!$C$5)/(Analyzer!$I$8*336)),0)","v":0},{"$f":"IF(ShowA,IF(ISERROR((CP$2*Analyzer!$C$5)/(Analyzer!$I$8*336)),0,SpeedConv*(CP$2*Analyzer!$C$5)/(Analyzer!$I$8*336)),0)","v":0},{"$f":"IF(ShowA,IF(ISERROR((CQ$2*Analyzer!$C$5)/(Analyzer!$I$8*336)),0,SpeedConv*(CQ$2*Analyzer!$C$5)/(Analyzer!$I$8*336)),0)","v":0},{"$f":"IF(ShowA,IF(ISERROR((CR$2*Analyzer!$C$5)/(Analyzer!$I$8*336)),0,SpeedConv*(CR$2*Analyzer!$C$5)/(Analyzer!$I$8*336)),0)","v":0},{"$f":"IF(ShowA,IF(ISERROR((CS$2*Analyzer!$C$5)/(Analyzer!$I$8*336)),0,SpeedConv*(CS$2*Analyzer!$C$5)/(Analyzer!$I$8*336)),0)","v":0},{"$f":"IF(ShowA,IF(ISERROR((CT$2*Analyzer!$C$5)/(Analyzer!$I$8*336)),0,SpeedConv*(CT$2*Analyzer!$C$5)/(Analyzer!$I$8*336)),0)","v":0},{"$f":"IF(ShowA,IF(ISERROR((CU$2*Analyzer!$C$5)/(Analyzer!$I$8*336)),0,SpeedConv*(CU$2*Analyzer!$C$5)/(Analyzer!$I$8*336)),0)","v":0}]
["Gearing B",true]
[null,600,800,1000,1200,1400,1600,1800,2000,2200,2400,2600,2800,3000,3200,3400,3600,3800,4000,4200,4400,4600,4800,5000,5200,5400,5600,5800,6000,6200,6400,6600,6800,7000,7200,7400,7600,7800,8000,8200,8400,8600,8800,9000,9200,9400,9600,9800,10000,10200,10400,10600,10800,11000,11200,11400,11600,11800,12000,12200,12400,12600,12800,13000,13200,13400,13600,13800,14000,14200,14400,14600,14800,15000,15200,15400,15600,15800,16000,16200,16400,16600,16800,17000,17200,17400,17600,17800,18000,18200,18400,18600,18800,19000,19200,19400,19600,19800,20000]
["B-1st",{"$f":"IF(ShowB,IF(ISERROR((B$10*Analyzer!$E$5)/(Analyzer!$J$3*336)),0,SpeedConv*(B$10*Analyzer!$E$5)/(Analyzer!$J$3*336)),0)","v":3.2093423123129536},{"$f":"IF(ShowB,IF(ISERROR((C$10*Analyzer!$E$5)/(Analyzer!$J$3*336)),0,SpeedConv*(C$10*Analyzer!$E$5)/(Analyzer!$J$3*336)),0)","v":4.2791230830839382},{"$f":"IF(ShowB,IF(ISERROR((D$10*Analyzer!$E$5)/(Analyzer!$J$3*336)),0,SpeedConv*(D$10*Analyzer!$E$5)/(Analyzer!$J$3*336)),0)","v":5.3489038538549227},{"$f":"IF(ShowB,IF(ISERROR((E$10*Analyzer!$E$5)/(Analyzer!$J$3*336)),0,SpeedConv*(E$10*Analyzer!$E$5)/(Analyzer!$J$3*336)),0)","v":6.4186846246259073},{"$f":"IF(ShowB,IF(ISERROR((F$10*Analyzer!$E$5)/(Analyzer!$J$3*336)),0,SpeedConv*(F$10*Analyzer!$E$5)/(Analyzer!$J$3*336)),0)","v":7.4884653953968918},{"$f":"IF(ShowB,IF(ISERROR((G$10*Analyzer!$E$5)/(Analyzer!$J$3*336)),0,SpeedConv*(G$10*Analyzer!$E$5)/(Analyzer!$J$3*336)),0)","v":8.5582461661678764},{"$f":"IF(ShowB,IF(ISERROR((H$10*Analyzer!$E$5)/(Analyzer!$J$3*336)),0,SpeedConv*(H$10*Analyzer!$E$5)/(Analyzer!$J$3*336)),0)","v":9.6280269369388609},{"$f":"IF(ShowB,IF(ISERROR((I$10*Analyzer!$E$5)/(Analyzer!$J$3*336)),0,SpeedConv*(I$10*Analyzer!$E$5)/(Analyzer!$J$3*336)),0)","v":10.697807707709845},{"$f":"IF(ShowB,IF(ISERROR((J$10*Analyzer!$E$5)/(Analyzer!$J$3*336)),0,SpeedConv*(J$10*Analyzer!$E$5)/(Analyzer!$J$3*336)),0)","v":11.76758847848083},{"$f":"IF(ShowB,IF(ISERROR((K$10*Analyzer!$E$5)/(Analyzer!$J$3*336)),0,SpeedConv*(K$10*Analyzer!$E$5)/(Analyzer!$J$3*336)),0)","v":12.837369249251815},{"$f":"IF(ShowB,IF(ISERROR((L$10*Analyzer!$E$5)/(Analyzer!$J$3*336)),0,SpeedConv*(L$10*Analyzer!$E$5)/(Analyzer!$J$3*336)),0)","v":13.907150020022799},{"$f":"IF(ShowB,IF(ISERROR((M$10*Analyzer!$E$5)/(Analyzer!$J$3*336)),0,SpeedConv*(M$10*Analyzer!$E$5)/(Analyzer!$J$3*336)),0)","v":14.976930790793784},{"$f":"IF(ShowB,IF(ISERROR((N$10*Analyzer!$E$5)/(Analyzer!$J$3*336)),0,SpeedConv*(N$10*Analyzer!$E$5)/(Analyzer!$J$3*336)),0)","v":16.04671156156477},{"$f":"IF(ShowB,IF(ISERROR((O$10*Analyzer!$E$5)/(Analyzer!$J$3*336)),0,SpeedConv*(O$10*Analyzer!$E$5)/(Analyzer!$J$3*336)),0)","v":17.116492332335753},{"$f":"IF(ShowB,IF(ISERROR((P$10*Analyzer!$E$5)/(Analyzer!$J$3*336)),0,SpeedConv*(P$10*Analyzer!$E$5)/(Analyzer!$J$3*336)),0)","v":18.186273103106739},{"$f":"IF(ShowB,IF(ISERROR((Q$10*Analyzer!$E$5)/(Analyzer!$J$3*336)),0,SpeedConv*(Q$10*Analyzer!$E$5)/(Analyzer!$J$3*336)),0)","v":19.256053873877722},{"$f":"IF(ShowB,IF(ISERROR((R$10*Analyzer!$E$5)/(Analyzer!$J$3*336)),0,SpeedConv*(R$10*Analyzer!$E$5)/(Analyzer!$J$3*336)),0)","v":20.325834644648708},{"$f":"IF(ShowB,IF(ISERROR((S$10*Analyzer!$E$5)/(Analyzer!$J$3*336)),0,SpeedConv*(S$10*Analyzer!$E$5)/(Analyzer!$J$3*336)),0)","v":21.395615415419691},{"$f":"IF(ShowB,IF(ISERROR((T$10*Analyzer!$E$5)/(Analyzer!$J$3*336)),0,SpeedConv*(T$10*Analyzer!$E$5)/(Analyzer!$J$3*336)),0)","v":22.465396186190677},{"$f":"IF(ShowB,IF(ISERROR((U$10*Analyzer!$E$5)/(Analyzer!$J$3*336)),0,SpeedConv*(U$10*Analyzer!$E$5)/(Analyzer!$J$3*336)),0)","v":23.53517695696166},{"$f":"IF(ShowB,IF(ISERROR((V$10*Analyzer!$E$5)/(Analyzer!$J$3*336)),0,SpeedConv*(V$10*Analyzer!$E$5)/(Analyzer!$J$3*336)),0)","v":24.604957727732646},{"$f":"IF(ShowB,IF(ISERROR((W$10*Analyzer!$E$5)/(Analyzer!$J$3*336)),0,SpeedConv*(W$10*Analyzer!$E$5)/(Analyzer!$J$3*336)),0)","v":25.674738498503629},{"$f":"IF(ShowB,IF(ISERROR((X$10*Analyzer!$E$5)/(Analyzer!$J$3*336)),0,SpeedConv*(X$10*Analyzer!$E$5)/(Analyzer!$J$3*336)),0)","v":26.744519269274615},{"$f":"IF(ShowB,IF(ISERROR((Y$10*Analyzer!$E$5)/(Analyzer!$J$3*336)),0,SpeedConv*(Y$10*Analyzer!$E$5)/(Analyzer!$J$3*336)),0)","v":27.814300040045598},{"$f":"IF(ShowB,IF(ISERROR((Z$10*Analyzer!$E$5)/(Analyzer!$J$3*336)),0,SpeedConv*(Z$10*Analyzer!$E$5)/(Analyzer!$J$3*336)),0)","v":28.884080810816585},{"$f":"IF(ShowB,IF(ISERROR((AA$10*Analyzer!$E$5)/(Analyzer!$J$3*336)),0,SpeedConv*(AA$10*Analyzer!$E$5)/(Analyzer!$J$3*336)),0)","v":29.953861581587567},{"$f":"IF(ShowB,IF(ISERROR((AB$10*Analyzer!$E$5)/(Analyzer!$J$3*336)),0,SpeedConv*(AB$10*Analyzer!$E$5)/(Analyzer!$J$3*336)),0)","v":31.023642352358554},{"$f":"IF(ShowB,IF(ISERROR((AC$10*Analyzer!$E$5)/(Analyzer!$J$3*336)),0,SpeedConv*(AC$10*Analyzer!$E$5)/(Analyzer!$J$3*336)),0)","v":32.09342312312954},{"$f":"IF(ShowB,IF(ISERROR((AD$10*Analyzer!$E$5)/(Analyzer!$J$3*336)),0,SpeedConv*(AD$10*Analyzer!$E$5)/(Analyzer!$J$3*336)),0)","v":33.163203893900523},{"$f":"IF(ShowB,IF(ISERROR((AE$10*Analyzer!$E$5)/(Analyzer!$J$3*336)),0,SpeedConv*(AE$10*Analyzer!$E$5)/(Analyzer!$J$3*336)),0)","v":34.232984664671505},{"$f":"IF(ShowB,IF(ISERROR((AF$10*Analyzer!$E$5)/(Analyzer!$J$3*336)),0,SpeedConv*(AF$10*Analyzer!$E$5)/(Analyzer!$J$3*336)),0)","v":35.302765435442495},{"$f":"IF(ShowB,IF(ISERROR((AG$10*Analyzer!$E$5)/(Analyzer!$J$3*336)),0,SpeedConv*(AG$10*Analyzer!$E$5)/(Analyzer!$J$3*336)),0)","v":36.372546206213478},{"$f":"IF(ShowB,IF(ISERROR((AH$10*Analyzer!$E$5)/(Analyzer!$J$3*336)),0,SpeedConv*(AH$10*Analyzer!$E$5)/(Analyzer!$J$3*336)),0)","v":37.442326976984461},{"$f":"IF(ShowB,IF(ISERROR((AI$10*Analyzer!$E$5)/(Analyzer!$J$3*336)),0,SpeedConv*(AI$10*Analyzer!$E$5)/(Analyzer!$J$3*336)),0)","v":38.512107747755444},{"$f":"IF(ShowB,IF(ISERROR((AJ$10*Analyzer!$E$5)/(Analyzer!$J$3*336)),0,SpeedConv*(AJ$10*Analyzer!$E$5)/(Analyzer!$J$3*336)),0)","v":39.581888518526434},{"$f":"IF(ShowB,IF(ISERROR((AK$10*Analyzer!$E$5)/(Analyzer!$J$3*336)),0,SpeedConv*(AK$10*Analyzer!$E$5)/(Analyzer!$J$3*336)),0)","v":40.651669289297416},{"$f":"IF(ShowB,IF(ISERROR((AL$10*Analyzer!$E$5)/(Analyzer!$J$3*336)),0,SpeedConv*(AL$10*Analyzer!$E$5)/(Analyzer!$J$3*336)),0)","v":41.721450060068399},{"$f":"IF(ShowB,IF(ISERROR((AM$10*Analyzer!$E$5)/(Analyzer!$J$3*336)),0,SpeedConv*(AM$10*Analyzer!$E$5)/(Analyzer!$J$3*336)),0)","v":42.791230830839382},{"$f":"IF(ShowB,IF(ISERROR((AN$10*Analyzer!$E$5)/(Analyzer!$J$3*336)),0,SpeedConv*(AN$10*Analyzer!$E$5)/(Analyzer!$J$3*336)),0)","v":43.861011601610372},{"$f":"IF(ShowB,IF(ISERROR((AO$10*Analyzer!$E$5)/(Analyzer!$J$3*336)),0,SpeedConv*(AO$10*Analyzer!$E$5)/(Analyzer!$J$3*336)),0)","v":44.930792372381354},{"$f":"IF(ShowB,IF(ISERROR((AP$10*Analyzer!$E$5)/(Analyzer!$J$3*336)),0,SpeedConv*(AP$10*Analyzer!$E$5)/(Analyzer!$J$3*336)),0)","v":46.000573143152337},{"$f":"IF(ShowB,IF(ISERROR((AQ$10*Analyzer!$E$5)/(Analyzer!$J$3*336)),0,SpeedConv*(AQ$10*Analyzer!$E$5)/(Analyzer!$J$3*336)),0)","v":47.07035391392332},{"$f":"IF(ShowB,IF(ISERROR((AR$10*Analyzer!$E$5)/(Analyzer!$J$3*336)),0,SpeedConv*(AR$10*Analyzer!$E$5)/(Analyzer!$J$3*336)),0)","v":48.14013468469431},{"$f":"IF(ShowB,IF(ISERROR((AS$10*Analyzer!$E$5)/(Analyzer!$J$3*336)),0,SpeedConv*(AS$10*Analyzer!$E$5)/(Analyzer!$J$3*336)),0)","v":49.209915455465293},{"$f":"IF(ShowB,IF(ISERROR((AT$10*Analyzer!$E$5)/(Analyzer!$J$3*336)),0,SpeedConv*(AT$10*Analyzer!$E$5)/(Analyzer!$J$3*336)),0)","v":50.279696226236275},{"$f":"IF(ShowB,IF(ISERROR((AU$10*Analyzer!$E$5)/(Analyzer!$J$3*336)),0,SpeedConv*(AU$10*Analyzer!$E$5)/(Analyzer!$J$3*336)),0)","v":51.349476997007258},{"$f":"IF(ShowB,IF(ISERROR((AV$10*Analyzer!$E$5)/(Analyzer!$J$3*336)),0,SpeedConv*(AV$10*Analyzer!$E$5)/(Analyzer!$J$3*336)),0)","v":52.419257767778248},{"$f":"IF(ShowB,IF(ISERROR((AW$10*Analyzer!$E$5)/(Analyzer!$J$3*336)),0,SpeedConv*(AW$10*Analyzer!$E$5)/(Analyzer!$J$3*336)),0)","v":53.489038538549231},{"$f":"IF(ShowB,IF(ISERROR((AX$10*Analyzer!$E$5)/(Analyzer!$J$3*336)),0,SpeedConv*(AX$10*Analyzer!$E$5)/(Analyzer!$J$3*336)),0)","v":54.558819309320214},{"$f":"IF(ShowB,IF(ISERROR((AY$10*Analyzer!$E$5)/(Analyzer!$J$3*336)),0,SpeedConv*(AY$10*Analyzer!$E$5)/(Analyzer!$J$3*336)),0)","v":55.628600080091196},{"$f":"IF(ShowB,IF(ISERROR((AZ$10*Analyzer!$E$5)/(Analyzer!$J$3*336)),0,SpeedConv*(AZ$10*Analyzer!$E$5)/(Analyzer!$J$3*336)),0)","v":56.698380850862186},{"$f":"IF(ShowB,IF(ISERROR((BA$10*Analyzer!$E$5)/(Analyzer!$J$3*336)),0,SpeedConv*(BA$10*Analyzer!$E$5)/(Analyzer!$J$3*336)),0)","v":57.768161621633169},{"$f":"IF(ShowB,IF(ISERROR((BB$10*Analyzer!$E$5)/(Analyzer!$J$3*336)),0,SpeedConv*(BB$10*Analyzer!$E$5)/(Analyzer!$J$3*336)),0)","v":58.837942392404152},{"$f":"IF(ShowB,IF(ISERROR((BC$10*Analyzer!$E$5)/(Analyzer!$J$3*336)),0,SpeedConv*(BC$10*Analyzer!$E$5)/(Analyzer!$J$3*336)),0)","v":59.907723163175135},{"$f":"IF(ShowB,IF(ISERROR((BD$10*Analyzer!$E$5)/(Analyzer!$J$3*336)),0,SpeedConv*(BD$10*Analyzer!$E$5)/(Analyzer!$J$3*336)),0)","v":60.977503933946124},{"$f":"IF(ShowB,IF(ISERROR((BE$10*Analyzer!$E$5)/(Analyzer!$J$3*336)),0,SpeedConv*(BE$10*Analyzer!$E$5)/(Analyzer!$J$3*336)),0)","v":62.047284704717107},{"$f":"IF(ShowB,IF(ISERROR((BF$10*Analyzer!$E$5)/(Analyzer!$J$3*336)),0,SpeedConv*(BF$10*Analyzer!$E$5)/(Analyzer!$J$3*336)),0)","v":63.11706547548809},{"$f":"IF(ShowB,IF(ISERROR((BG$10*Analyzer!$E$5)/(Analyzer!$J$3*336)),0,SpeedConv*(BG$10*Analyzer!$E$5)/(Analyzer!$J$3*336)),0)","v":64.18684624625908},{"$f":"IF(ShowB,IF(ISERROR((BH$10*Analyzer!$E$5)/(Analyzer!$J$3*336)),0,SpeedConv*(BH$10*Analyzer!$E$5)/(Analyzer!$J$3*336)),0)","v":65.256627017030056},{"$f":"IF(ShowB,IF(ISERROR((BI$10*Analyzer!$E$5)/(Analyzer!$J$3*336)),0,SpeedConv*(BI$10*Analyzer!$E$5)/(Analyzer!$J$3*336)),0)","v":66.326407787801045},{"$f":"IF(ShowB,IF(ISERROR((BJ$10*Analyzer!$E$5)/(Analyzer!$J$3*336)),0,SpeedConv*(BJ$10*Analyzer!$E$5)/(Analyzer!$J$3*336)),0)","v":67.396188558572035},{"$f":"IF(ShowB,IF(ISERROR((BK$10*Analyzer!$E$5)/(Analyzer!$J$3*336)),0,SpeedConv*(BK$10*Analyzer!$E$5)/(Analyzer!$J$3*336)),0)","v":68.465969329343011},{"$f":"IF(ShowB,IF(ISERROR((BL$10*Analyzer!$E$5)/(Analyzer!$J$3*336)),0,SpeedConv*(BL$10*Analyzer!$E$5)/(Analyzer!$J$3*336)),0)","v":69.535750100114001},{"$f":"IF(ShowB,IF(ISERROR((BM$10*Analyzer!$E$5)/(Analyzer!$J$3*336)),0,SpeedConv*(BM$10*Analyzer!$E$5)/(Analyzer!$J$3*336)),0)","v":70.605530870884991},{"$f":"IF(ShowB,IF(ISERROR((BN$10*Analyzer!$E$5)/(Analyzer!$J$3*336)),0,SpeedConv*(BN$10*Analyzer!$E$5)/(Analyzer!$J$3*336)),0)","v":71.675311641655966},{"$f":"IF(ShowB,IF(ISERROR((BO$10*Analyzer!$E$5)/(Analyzer!$J$3*336)),0,SpeedConv*(BO$10*Analyzer!$E$5)/(Analyzer!$J$3*336)),0)","v":72.745092412426956},{"$f":"IF(ShowB,IF(ISERROR((BP$10*Analyzer!$E$5)/(Analyzer!$J$3*336)),0,SpeedConv*(BP$10*Analyzer!$E$5)/(Analyzer!$J$3*336)),0)","v":73.814873183197932},{"$f":"IF(ShowB,IF(ISERROR((BQ$10*Analyzer!$E$5)/(Analyzer!$J$3*336)),0,SpeedConv*(BQ$10*Analyzer!$E$5)/(Analyzer!$J$3*336)),0)","v":74.884653953968922},{"$f":"IF(ShowB,IF(ISERROR((BR$10*Analyzer!$E$5)/(Analyzer!$J$3*336)),0,SpeedConv*(BR$10*Analyzer!$E$5)/(Analyzer!$J$3*336)),0)","v":75.954434724739912},{"$f":"IF(ShowB,IF(ISERROR((BS$10*Analyzer!$E$5)/(Analyzer!$J$3*336)),0,SpeedConv*(BS$10*Analyzer!$E$5)/(Analyzer!$J$3*336)),0)","v":77.024215495510887},{"$f":"IF(ShowB,IF(ISERROR((BT$10*Analyzer!$E$5)/(Analyzer!$J$3*336)),0,SpeedConv*(BT$10*Analyzer!$E$5)/(Analyzer!$J$3*336)),0)","v":78.093996266281877},{"$f":"IF(ShowB,IF(ISERROR((BU$10*Analyzer!$E$5)/(Analyzer!$J$3*336)),0,SpeedConv*(BU$10*Analyzer!$E$5)/(Analyzer!$J$3*336)),0)","v":79.163777037052867},{"$f":"IF(ShowB,IF(ISERROR((BV$10*Analyzer!$E$5)/(Analyzer!$J$3*336)),0,SpeedConv*(BV$10*Analyzer!$E$5)/(Analyzer!$J$3*336)),0)","v":80.233557807823843},{"$f":"IF(ShowB,IF(ISERROR((BW$10*Analyzer!$E$5)/(Analyzer!$J$3*336)),0,SpeedConv*(BW$10*Analyzer!$E$5)/(Analyzer!$J$3*336)),0)","v":81.303338578594833},{"$f":"IF(ShowB,IF(ISERROR((BX$10*Analyzer!$E$5)/(Analyzer!$J$3*336)),0,SpeedConv*(BX$10*Analyzer!$E$5)/(Analyzer!$J$3*336)),0)","v":82.373119349365808},{"$f":"IF(ShowB,IF(ISERROR((BY$10*Analyzer!$E$5)/(Analyzer!$J$3*336)),0,SpeedConv*(BY$10*Analyzer!$E$5)/(Analyzer!$J$3*336)),0)","v":83.442900120136798},{"$f":"IF(ShowB,IF(ISERROR((BZ$10*Analyzer!$E$5)/(Analyzer!$J$3*336)),0,SpeedConv*(BZ$10*Analyzer!$E$5)/(Analyzer!$J$3*336)),0)","v":84.512680890907788},{"$f":"IF(ShowB,IF(ISERROR((CA$10*Analyzer!$E$5)/(Analyzer!$J$3*336)),0,SpeedConv*(CA$10*Analyzer!$E$5)/(Analyzer!$J$3*336)),0)","v":85.582461661678764},{"$f":"IF(ShowB,IF(ISERROR((CB$10*Analyzer!$E$5)/(Analyzer!$J$3*336)),0,SpeedConv*(CB$10*Analyzer!$E$5)/(Analyzer!$J$3*336)),0)","v":86.652242432449754},{"$f":"IF(ShowB,IF(ISERROR((CC$10*Analyzer!$E$5)/(Analyzer!$J$3*336)),0,SpeedConv*(CC$10*Analyzer!$E$5)/(Analyzer!$J$3*336)),0)","v":87.722023203220743},{"$f":"IF(ShowB,IF(ISERROR((CD$10*Analyzer!$E$5)/(Analyzer!$J$3*336)),0,SpeedConv*(CD$10*Analyzer!$E$5)/(Analyzer!$J$3*336)),0)","v":88.791803973991719},{"$f":"IF(ShowB,IF(ISERROR((CE$10*Analyzer!$E$5)/(Analyzer!$J$3*336)),0,SpeedConv*(CE$10*Analyzer!$E$5)/(Analyzer!$J$3*336)),0)","v":89.861584744762709},{"$f":"IF(ShowB,IF(ISERROR((CF$10*Analyzer!$E$5)/(Analyzer!$J$3*336)),0,SpeedConv*(CF$10*Analyzer!$E$5)/(Analyzer!$J$3*336)),0)","v":90.931365515533685},{"$f":"IF(ShowB,IF(ISERROR((CG$10*Analyzer!$E$5)/(Analyzer!$J$3*336)),0,SpeedConv*(CG$10*Analyzer!$E$5)/(Analyzer!$J$3*336)),0)","v":92.001146286304675},{"$f":"IF(ShowB,IF(ISERROR((CH$10*Analyzer!$E$5)/(Analyzer!$J$3*336)),0,SpeedConv*(CH$10*Analyzer!$E$5)/(Analyzer!$J$3*336)),0)","v":93.070927057075664},{"$f":"IF(ShowB,IF(ISERROR((CI$10*Analyzer!$E$5)/(Analyzer!$J$3*336)),0,SpeedConv*(CI$10*Analyzer!$E$5)/(Analyzer!$J$3*336)),0)","v":94.14070782784664},{"$f":"IF(ShowB,IF(ISERROR((CJ$10*Analyzer!$E$5)/(Analyzer!$J$3*336)),0,SpeedConv*(CJ$10*Analyzer!$E$5)/(Analyzer!$J$3*336)),0)","v":95.21048859861763},{"$f":"IF(ShowB,IF(ISERROR((CK$10*Analyzer!$E$5)/(Analyzer!$J$3*336)),0,SpeedConv*(CK$10*Analyzer!$E$5)/(Analyzer!$J$3*336)),0)","v":96.28026936938862},{"$f":"IF(ShowB,IF(ISERROR((CL$10*Analyzer!$E$5)/(Analyzer!$J$3*336)),0,SpeedConv*(CL$10*Analyzer!$E$5)/(Analyzer!$J$3*336)),0)","v":97.350050140159595},{"$f":"IF(ShowB,IF(ISERROR((CM$10*Analyzer!$E$5)/(Analyzer!$J$3*336)),0,SpeedConv*(CM$10*Analyzer!$E$5)/(Analyzer!$J$3*336)),0)","v":98.419830910930585},{"$f":"IF(ShowB,IF(ISERROR((CN$10*Analyzer!$E$5)/(Analyzer!$J$3*336)),0,SpeedConv*(CN$10*Analyzer!$E$5)/(Analyzer!$J$3*336)),0)","v":99.489611681701575},{"$f":"IF(ShowB,IF(ISERROR((CO$10*Analyzer!$E$5)/(Analyzer!$J$3*336)),0,SpeedConv*(CO$10*Analyzer!$E$5)/(Analyzer!$J$3*336)),0)","v":100.55939245247255},{"$f":"IF(ShowB,IF(ISERROR((CP$10*Analyzer!$E$5)/(Analyzer!$J$3*336)),0,SpeedConv*(CP$10*Analyzer!$E$5)/(Analyzer!$J$3*336)),0)","v":101.62917322324354},{"$f":"IF(ShowB,IF(ISERROR((CQ$10*Analyzer!$E$5)/(Analyzer!$J$3*336)),0,SpeedConv*(CQ$10*Analyzer!$E$5)/(Analyzer!$J$3*336)),0)","v":102.69895399401452},{"$f":"IF(ShowB,IF(ISERROR((CR$10*Analyzer!$E$5)/(Analyzer!$J$3*336)),0,SpeedConv*(CR$10*Analyzer!$E$5)/(Analyzer!$J$3*336)),0)","v":103.76873476478551},{"$f":"IF(ShowB,IF(ISERROR((CS$10*Analyzer!$E$5)/(Analyzer!$J$3*336)),0,SpeedConv*(CS$10*Analyzer!$E$5)/(Analyzer!$J$3*336)),0)","v":104.8385155355565},{"$f":"IF(ShowB,IF(ISERROR((CT$10*Analyzer!$E$5)/(Analyzer!$J$3*336)),0,SpeedConv*(CT$10*Analyzer!$E$5)/(Analyzer!$J$3*336)),0)","v":105.90829630632747},{"$f":"IF(ShowB,IF(ISERROR((CU$10*Analyzer!$E$5)/(Analyzer!$J$3*336)),0,SpeedConv*(CU$10*Analyzer!$E$5)/(Analyzer!$J$3*336)),0)","v":106.97807707709846}]
["B-2nd",{"$f":"IF(ShowB,IF(ISERROR((B$10*Analyzer!$E$5)/(Analyzer!$J$4*336)),0,SpeedConv*(B$10*Analyzer!$E$5)/(Analyzer!$J$4*336)),0)","v":5.2352585878381763},{"$f":"IF(ShowB,IF(ISERROR((C$10*Analyzer!$E$5)/(Analyzer!$J$4*336)),0,SpeedConv*(C$10*Analyzer!$E$5)/(Analyzer!$J$4*336)),0)","v":6.9803447837842345},{"$f":"IF(ShowB,IF(ISERROR((D$10*Analyzer!$E$5)/(Analyzer!$J$4*336)),0,SpeedConv*(D$10*Analyzer!$E$5)/(Analyzer!$J$4*336)),0)","v":8.7254309797302945},{"$f":"IF(ShowB,IF(ISERROR((E$10*Analyzer!$E$5)/(Analyzer!$J$4*336)),0,SpeedConv*(E$10*Analyzer!$E$5)/(Analyzer!$J$4*336)),0)","v":10.470517175676353},{"$f":"IF(ShowB,IF(ISERROR((F$10*Analyzer!$E$5)/(Analyzer!$J$4*336)),0,SpeedConv*(F$10*Analyzer!$E$5)/(Analyzer!$J$4*336)),0)","v":12.215603371622411},{"$f":"IF(ShowB,IF(ISERROR((G$10*Analyzer!$E$5)/(Analyzer!$J$4*336)),0,SpeedConv*(G$10*Analyzer!$E$5)/(Analyzer!$J$4*336)),0)","v":13.960689567568469},{"$f":"IF(ShowB,IF(ISERROR((H$10*Analyzer!$E$5)/(Analyzer!$J$4*336)),0,SpeedConv*(H$10*Analyzer!$E$5)/(Analyzer!$J$4*336)),0)","v":15.705775763514529},{"$f":"IF(ShowB,IF(ISERROR((I$10*Analyzer!$E$5)/(Analyzer!$J$4*336)),0,SpeedConv*(I$10*Analyzer!$E$5)/(Analyzer!$J$4*336)),0)","v":17.450861959460589},{"$f":"IF(ShowB,IF(ISERROR((J$10*Analyzer!$E$5)/(Analyzer!$J$4*336)),0,SpeedConv*(J$10*Analyzer!$E$5)/(Analyzer!$J$4*336)),0)","v":19.195948155406647},{"$f":"IF(ShowB,IF(ISERROR((K$10*Analyzer!$E$5)/(Analyzer!$J$4*336)),0,SpeedConv*(K$10*Analyzer!$E$5)/(Analyzer!$J$4*336)),0)","v":20.941034351352705},{"$f":"IF(ShowB,IF(ISERROR((L$10*Analyzer!$E$5)/(Analyzer!$J$4*336)),0,SpeedConv*(L$10*Analyzer!$E$5)/(Analyzer!$J$4*336)),0)","v":22.686120547298763},{"$f":"IF(ShowB,IF(ISERROR((M$10*Analyzer!$E$5)/(Analyzer!$J$4*336)),0,SpeedConv*(M$10*Analyzer!$E$5)/(Analyzer!$J$4*336)),0)","v":24.431206743244822},{"$f":"IF(ShowB,IF(ISERROR((N$10*Analyzer!$E$5)/(Analyzer!$J$4*336)),0,SpeedConv*(N$10*Analyzer!$E$5)/(Analyzer!$J$4*336)),0)","v":26.17629293919088},{"$f":"IF(ShowB,IF(ISERROR((O$10*Analyzer!$E$5)/(Analyzer!$J$4*336)),0,SpeedConv*(O$10*Analyzer!$E$5)/(Analyzer!$J$4*336)),0)","v":27.921379135136938},{"$f":"IF(ShowB,IF(ISERROR((P$10*Analyzer!$E$5)/(Analyzer!$J$4*336)),0,SpeedConv*(P$10*Analyzer!$E$5)/(Analyzer!$J$4*336)),0)","v":29.666465331083},{"$f":"IF(ShowB,IF(ISERROR((Q$10*Analyzer!$E$5)/(Analyzer!$J$4*336)),0,SpeedConv*(Q$10*Analyzer!$E$5)/(Analyzer!$J$4*336)),0)","v":31.411551527029058},{"$f":"IF(ShowB,IF(ISERROR((R$10*Analyzer!$E$5)/(Analyzer!$J$4*336)),0,SpeedConv*(R$10*Analyzer!$E$5)/(Analyzer!$J$4*336)),0)","v":33.156637722975113},{"$f":"IF(ShowB,IF(ISERROR((S$10*Analyzer!$E$5)/(Analyzer!$J$4*336)),0,SpeedConv*(S$10*Analyzer!$E$5)/(Analyzer!$J$4*336)),0)","v":34.901723918921178},{"$f":"IF(ShowB,IF(ISERROR((T$10*Analyzer!$E$5)/(Analyzer!$J$4*336)),0,SpeedConv*(T$10*Analyzer!$E$5)/(Analyzer!$J$4*336)),0)","v":36.646810114867236},{"$f":"IF(ShowB,IF(ISERROR((U$10*Analyzer!$E$5)/(Analyzer!$J$4*336)),0,SpeedConv*(U$10*Analyzer!$E$5)/(Analyzer!$J$4*336)),0)","v":38.391896310813294},{"$f":"IF(ShowB,IF(ISERROR((V$10*Analyzer!$E$5)/(Analyzer!$J$4*336)),0,SpeedConv*(V$10*Analyzer!$E$5)/(Analyzer!$J$4*336)),0)","v":40.136982506759352},{"$f":"IF(ShowB,IF(ISERROR((W$10*Analyzer!$E$5)/(Analyzer!$J$4*336)),0,SpeedConv*(W$10*Analyzer!$E$5)/(Analyzer!$J$4*336)),0)","v":41.882068702705411},{"$f":"IF(ShowB,IF(ISERROR((X$10*Analyzer!$E$5)/(Analyzer!$J$4*336)),0,SpeedConv*(X$10*Analyzer!$E$5)/(Analyzer!$J$4*336)),0)","v":43.627154898651469},{"$f":"IF(ShowB,IF(ISERROR((Y$10*Analyzer!$E$5)/(Analyzer!$J$4*336)),0,SpeedConv*(Y$10*Analyzer!$E$5)/(Analyzer!$J$4*336)),0)","v":45.372241094597527},{"$f":"IF(ShowB,IF(ISERROR((Z$10*Analyzer!$E$5)/(Analyzer!$J$4*336)),0,SpeedConv*(Z$10*Analyzer!$E$5)/(Analyzer!$J$4*336)),0)","v":47.117327290543585},{"$f":"IF(ShowB,IF(ISERROR((AA$10*Analyzer!$E$5)/(Analyzer!$J$4*336)),0,SpeedConv*(AA$10*Analyzer!$E$5)/(Analyzer!$J$4*336)),0)","v":48.862413486489643},{"$f":"IF(ShowB,IF(ISERROR((AB$10*Analyzer!$E$5)/(Analyzer!$J$4*336)),0,SpeedConv*(AB$10*Analyzer!$E$5)/(Analyzer!$J$4*336)),0)","v":50.607499682435702},{"$f":"IF(ShowB,IF(ISERROR((AC$10*Analyzer!$E$5)/(Analyzer!$J$4*336)),0,SpeedConv*(AC$10*Analyzer!$E$5)/(Analyzer!$J$4*336)),0)","v":52.35258587838176},{"$f":"IF(ShowB,IF(ISERROR((AD$10*Analyzer!$E$5)/(Analyzer!$J$4*336)),0,SpeedConv*(AD$10*Analyzer!$E$5)/(Analyzer!$J$4*336)),0)","v":54.097672074327818},{"$f":"IF(ShowB,IF(ISERROR((AE$10*Analyzer!$E$5)/(Analyzer!$J$4*336)),0,SpeedConv*(AE$10*Analyzer!$E$5)/(Analyzer!$J$4*336)),0)","v":55.842758270273876},{"$f":"IF(ShowB,IF(ISERROR((AF$10*Analyzer!$E$5)/(Analyzer!$J$4*336)),0,SpeedConv*(AF$10*Analyzer!$E$5)/(Analyzer!$J$4*336)),0)","v":57.587844466219934},{"$f":"IF(ShowB,IF(ISERROR((AG$10*Analyzer!$E$5)/(Analyzer!$J$4*336)),0,SpeedConv*(AG$10*Analyzer!$E$5)/(Analyzer!$J$4*336)),0)","v":59.332930662166},{"$f":"IF(ShowB,IF(ISERROR((AH$10*Analyzer!$E$5)/(Analyzer!$J$4*336)),0,SpeedConv*(AH$10*Analyzer!$E$5)/(Analyzer!$J$4*336)),0)","v":61.078016858112058},{"$f":"IF(ShowB,IF(ISERROR((AI$10*Analyzer!$E$5)/(Analyzer!$J$4*336)),0,SpeedConv*(AI$10*Analyzer!$E$5)/(Analyzer!$J$4*336)),0)","v":62.823103054058116},{"$f":"IF(ShowB,IF(ISERROR((AJ$10*Analyzer!$E$5)/(Analyzer!$J$4*336)),0,SpeedConv*(AJ$10*Analyzer!$E$5)/(Analyzer!$J$4*336)),0)","v":64.568189250004167},{"$f":"IF(ShowB,IF(ISERROR((AK$10*Analyzer!$E$5)/(Analyzer!$J$4*336)),0,SpeedConv*(AK$10*Analyzer!$E$5)/(Analyzer!$J$4*336)),0)","v":66.313275445950225},{"$f":"IF(ShowB,IF(ISERROR((AL$10*Analyzer!$E$5)/(Analyzer!$J$4*336)),0,SpeedConv*(AL$10*Analyzer!$E$5)/(Analyzer!$J$4*336)),0)","v":68.058361641896283},{"$f":"IF(ShowB,IF(ISERROR((AM$10*Analyzer!$E$5)/(Analyzer!$J$4*336)),0,SpeedConv*(AM$10*Analyzer!$E$5)/(Analyzer!$J$4*336)),0)","v":69.803447837842356},{"$f":"IF(ShowB,IF(ISERROR((AN$10*Analyzer!$E$5)/(Analyzer!$J$4*336)),0,SpeedConv*(AN$10*Analyzer!$E$5)/(Analyzer!$J$4*336)),0)","v":71.548534033788414},{"$f":"IF(ShowB,IF(ISERROR((AO$10*Analyzer!$E$5)/(Analyzer!$J$4*336)),0,SpeedConv*(AO$10*Analyzer!$E$5)/(Analyzer!$J$4*336)),0)","v":73.293620229734472},{"$f":"IF(ShowB,IF(ISERROR((AP$10*Analyzer!$E$5)/(Analyzer!$J$4*336)),0,SpeedConv*(AP$10*Analyzer!$E$5)/(Analyzer!$J$4*336)),0)","v":75.03870642568053},{"$f":"IF(ShowB,IF(ISERROR((AQ$10*Analyzer!$E$5)/(Analyzer!$J$4*336)),0,SpeedConv*(AQ$10*Analyzer!$E$5)/(Analyzer!$J$4*336)),0)","v":76.783792621626588},{"$f":"IF(ShowB,IF(ISERROR((AR$10*Analyzer!$E$5)/(Analyzer!$J$4*336)),0,SpeedConv*(AR$10*Analyzer!$E$5)/(Analyzer!$J$4*336)),0)","v":78.528878817572647},{"$f":"IF(ShowB,IF(ISERROR((AS$10*Analyzer!$E$5)/(Analyzer!$J$4*336)),0,SpeedConv*(AS$10*Analyzer!$E$5)/(Analyzer!$J$4*336)),0)","v":80.273965013518705},{"$f":"IF(ShowB,IF(ISERROR((AT$10*Analyzer!$E$5)/(Analyzer!$J$4*336)),0,SpeedConv*(AT$10*Analyzer!$E$5)/(Analyzer!$J$4*336)),0)","v":82.019051209464763},{"$f":"IF(ShowB,IF(ISERROR((AU$10*Analyzer!$E$5)/(Analyzer!$J$4*336)),0,SpeedConv*(AU$10*Analyzer!$E$5)/(Analyzer!$J$4*336)),0)","v":83.764137405410821},{"$f":"IF(ShowB,IF(ISERROR((AV$10*Analyzer!$E$5)/(Analyzer!$J$4*336)),0,SpeedConv*(AV$10*Analyzer!$E$5)/(Analyzer!$J$4*336)),0)","v":85.509223601356879},{"$f":"IF(ShowB,IF(ISERROR((AW$10*Analyzer!$E$5)/(Analyzer!$J$4*336)),0,SpeedConv*(AW$10*Analyzer!$E$5)/(Analyzer!$J$4*336)),0)","v":87.254309797302938},{"$f":"IF(ShowB,IF(ISERROR((AX$10*Analyzer!$E$5)/(Analyzer!$J$4*336)),0,SpeedConv*(AX$10*Analyzer!$E$5)/(Analyzer!$J$4*336)),0)","v":88.999395993248996},{"$f":"IF(ShowB,IF(ISERROR((AY$10*Analyzer!$E$5)/(Analyzer!$J$4*336)),0,SpeedConv*(AY$10*Analyzer!$E$5)/(Analyzer!$J$4*336)),0)","v":90.744482189195054},{"$f":"IF(ShowB,IF(ISERROR((AZ$10*Analyzer!$E$5)/(Analyzer!$J$4*336)),0,SpeedConv*(AZ$10*Analyzer!$E$5)/(Analyzer!$J$4*336)),0)","v":92.489568385141112},{"$f":"IF(ShowB,IF(ISERROR((BA$10*Analyzer!$E$5)/(Analyzer!$J$4*336)),0,SpeedConv*(BA$10*Analyzer!$E$5)/(Analyzer!$J$4*336)),0)","v":94.23465458108717},{"$f":"IF(ShowB,IF(ISERROR((BB$10*Analyzer!$E$5)/(Analyzer!$J$4*336)),0,SpeedConv*(BB$10*Analyzer!$E$5)/(Analyzer!$J$4*336)),0)","v":95.979740777033228},{"$f":"IF(ShowB,IF(ISERROR((BC$10*Analyzer!$E$5)/(Analyzer!$J$4*336)),0,SpeedConv*(BC$10*Analyzer!$E$5)/(Analyzer!$J$4*336)),0)","v":97.724826972979287},{"$f":"IF(ShowB,IF(ISERROR((BD$10*Analyzer!$E$5)/(Analyzer!$J$4*336)),0,SpeedConv*(BD$10*Analyzer!$E$5)/(Analyzer!$J$4*336)),0)","v":99.469913168925345},{"$f":"IF(ShowB,IF(ISERROR((BE$10*Analyzer!$E$5)/(Analyzer!$J$4*336)),0,SpeedConv*(BE$10*Analyzer!$E$5)/(Analyzer!$J$4*336)),0)","v":101.2149993648714},{"$f":"IF(ShowB,IF(ISERROR((BF$10*Analyzer!$E$5)/(Analyzer!$J$4*336)),0,SpeedConv*(BF$10*Analyzer!$E$5)/(Analyzer!$J$4*336)),0)","v":102.96008556081746},{"$f":"IF(ShowB,IF(ISERROR((BG$10*Analyzer!$E$5)/(Analyzer!$J$4*336)),0,SpeedConv*(BG$10*Analyzer!$E$5)/(Analyzer!$J$4*336)),0)","v":104.70517175676352},{"$f":"IF(ShowB,IF(ISERROR((BH$10*Analyzer!$E$5)/(Analyzer!$J$4*336)),0,SpeedConv*(BH$10*Analyzer!$E$5)/(Analyzer!$J$4*336)),0)","v":106.45025795270958},{"$f":"IF(ShowB,IF(ISERROR((BI$10*Analyzer!$E$5)/(Analyzer!$J$4*336)),0,SpeedConv*(BI$10*Analyzer!$E$5)/(Analyzer!$J$4*336)),0)","v":108.19534414865564},{"$f":"IF(ShowB,IF(ISERROR((BJ$10*Analyzer!$E$5)/(Analyzer!$J$4*336)),0,SpeedConv*(BJ$10*Analyzer!$E$5)/(Analyzer!$J$4*336)),0)","v":109.94043034460169},{"$f":"IF(ShowB,IF(ISERROR((BK$10*Analyzer!$E$5)/(Analyzer!$J$4*336)),0,SpeedConv*(BK$10*Analyzer!$E$5)/(Analyzer!$J$4*336)),0)","v":111.68551654054775},{"$f":"IF(ShowB,IF(ISERROR((BL$10*Analyzer!$E$5)/(Analyzer!$J$4*336)),0,SpeedConv*(BL$10*Analyzer!$E$5)/(Analyzer!$J$4*336)),0)","v":113.43060273649381},{"$f":"IF(ShowB,IF(ISERROR((BM$10*Analyzer!$E$5)/(Analyzer!$J$4*336)),0,SpeedConv*(BM$10*Analyzer!$E$5)/(Analyzer!$J$4*336)),0)","v":115.17568893243987},{"$f":"IF(ShowB,IF(ISERROR((BN$10*Analyzer!$E$5)/(Analyzer!$J$4*336)),0,SpeedConv*(BN$10*Analyzer!$E$5)/(Analyzer!$J$4*336)),0)","v":116.92077512838594},{"$f":"IF(ShowB,IF(ISERROR((BO$10*Analyzer!$E$5)/(Analyzer!$J$4*336)),0,SpeedConv*(BO$10*Analyzer!$E$5)/(Analyzer!$J$4*336)),0)","v":118.665861324332},{"$f":"IF(ShowB,IF(ISERROR((BP$10*Analyzer!$E$5)/(Analyzer!$J$4*336)),0,SpeedConv*(BP$10*Analyzer!$E$5)/(Analyzer!$J$4*336)),0)","v":120.41094752027806},{"$f":"IF(ShowB,IF(ISERROR((BQ$10*Analyzer!$E$5)/(Analyzer!$J$4*336)),0,SpeedConv*(BQ$10*Analyzer!$E$5)/(Analyzer!$J$4*336)),0)","v":122.15603371622412},{"$f":"IF(ShowB,IF(ISERROR((BR$10*Analyzer!$E$5)/(Analyzer!$J$4*336)),0,SpeedConv*(BR$10*Analyzer!$E$5)/(Analyzer!$J$4*336)),0)","v":123.90111991217017},{"$f":"IF(ShowB,IF(ISERROR((BS$10*Analyzer!$E$5)/(Analyzer!$J$4*336)),0,SpeedConv*(BS$10*Analyzer!$E$5)/(Analyzer!$J$4*336)),0)","v":125.64620610811623},{"$f":"IF(ShowB,IF(ISERROR((BT$10*Analyzer!$E$5)/(Analyzer!$J$4*336)),0,SpeedConv*(BT$10*Analyzer!$E$5)/(Analyzer!$J$4*336)),0)","v":127.39129230406229},{"$f":"IF(ShowB,IF(ISERROR((BU$10*Analyzer!$E$5)/(Analyzer!$J$4*336)),0,SpeedConv*(BU$10*Analyzer!$E$5)/(Analyzer!$J$4*336)),0)","v":129.13637850000833},{"$f":"IF(ShowB,IF(ISERROR((BV$10*Analyzer!$E$5)/(Analyzer!$J$4*336)),0,SpeedConv*(BV$10*Analyzer!$E$5)/(Analyzer!$J$4*336)),0)","v":130.88146469595441},{"$f":"IF(ShowB,IF(ISERROR((BW$10*Analyzer!$E$5)/(Analyzer!$J$4*336)),0,SpeedConv*(BW$10*Analyzer!$E$5)/(Analyzer!$J$4*336)),0)","v":132.62655089190045},{"$f":"IF(ShowB,IF(ISERROR((BX$10*Analyzer!$E$5)/(Analyzer!$J$4*336)),0,SpeedConv*(BX$10*Analyzer!$E$5)/(Analyzer!$J$4*336)),0)","v":134.37163708784652},{"$f":"IF(ShowB,IF(ISERROR((BY$10*Analyzer!$E$5)/(Analyzer!$J$4*336)),0,SpeedConv*(BY$10*Analyzer!$E$5)/(Analyzer!$J$4*336)),0)","v":136.11672328379257},{"$f":"IF(ShowB,IF(ISERROR((BZ$10*Analyzer!$E$5)/(Analyzer!$J$4*336)),0,SpeedConv*(BZ$10*Analyzer!$E$5)/(Analyzer!$J$4*336)),0)","v":137.86180947973864},{"$f":"IF(ShowB,IF(ISERROR((CA$10*Analyzer!$E$5)/(Analyzer!$J$4*336)),0,SpeedConv*(CA$10*Analyzer!$E$5)/(Analyzer!$J$4*336)),0)","v":139.60689567568471},{"$f":"IF(ShowB,IF(ISERROR((CB$10*Analyzer!$E$5)/(Analyzer!$J$4*336)),0,SpeedConv*(CB$10*Analyzer!$E$5)/(Analyzer!$J$4*336)),0)","v":141.35198187163076},{"$f":"IF(ShowB,IF(ISERROR((CC$10*Analyzer!$E$5)/(Analyzer!$J$4*336)),0,SpeedConv*(CC$10*Analyzer!$E$5)/(Analyzer!$J$4*336)),0)","v":143.09706806757683},{"$f":"IF(ShowB,IF(ISERROR((CD$10*Analyzer!$E$5)/(Analyzer!$J$4*336)),0,SpeedConv*(CD$10*Analyzer!$E$5)/(Analyzer!$J$4*336)),0)","v":144.84215426352287},{"$f":"IF(ShowB,IF(ISERROR((CE$10*Analyzer!$E$5)/(Analyzer!$J$4*336)),0,SpeedConv*(CE$10*Analyzer!$E$5)/(Analyzer!$J$4*336)),0)","v":146.58724045946894},{"$f":"IF(ShowB,IF(ISERROR((CF$10*Analyzer!$E$5)/(Analyzer!$J$4*336)),0,SpeedConv*(CF$10*Analyzer!$E$5)/(Analyzer!$J$4*336)),0)","v":148.33232665541499},{"$f":"IF(ShowB,IF(ISERROR((CG$10*Analyzer!$E$5)/(Analyzer!$J$4*336)),0,SpeedConv*(CG$10*Analyzer!$E$5)/(Analyzer!$J$4*336)),0)","v":150.07741285136106},{"$f":"IF(ShowB,IF(ISERROR((CH$10*Analyzer!$E$5)/(Analyzer!$J$4*336)),0,SpeedConv*(CH$10*Analyzer!$E$5)/(Analyzer!$J$4*336)),0)","v":151.8224990473071},{"$f":"IF(ShowB,IF(ISERROR((CI$10*Analyzer!$E$5)/(Analyzer!$J$4*336)),0,SpeedConv*(CI$10*Analyzer!$E$5)/(Analyzer!$J$4*336)),0)","v":153.56758524325318},{"$f":"IF(ShowB,IF(ISERROR((CJ$10*Analyzer!$E$5)/(Analyzer!$J$4*336)),0,SpeedConv*(CJ$10*Analyzer!$E$5)/(Analyzer!$J$4*336)),0)","v":155.31267143919922},{"$f":"IF(ShowB,IF(ISERROR((CK$10*Analyzer!$E$5)/(Analyzer!$J$4*336)),0,SpeedConv*(CK$10*Analyzer!$E$5)/(Analyzer!$J$4*336)),0)","v":157.05775763514529},{"$f":"IF(ShowB,IF(ISERROR((CL$10*Analyzer!$E$5)/(Analyzer!$J$4*336)),0,SpeedConv*(CL$10*Analyzer!$E$5)/(Analyzer!$J$4*336)),0)","v":158.80284383109134},{"$f":"IF(ShowB,IF(ISERROR((CM$10*Analyzer!$E$5)/(Analyzer!$J$4*336)),0,SpeedConv*(CM$10*Analyzer!$E$5)/(Analyzer!$J$4*336)),0)","v":160.54793002703741},{"$f":"IF(ShowB,IF(ISERROR((CN$10*Analyzer!$E$5)/(Analyzer!$J$4*336)),0,SpeedConv*(CN$10*Analyzer!$E$5)/(Analyzer!$J$4*336)),0)","v":162.29301622298345},{"$f":"IF(ShowB,IF(ISERROR((CO$10*Analyzer!$E$5)/(Analyzer!$J$4*336)),0,SpeedConv*(CO$10*Analyzer!$E$5)/(Analyzer!$J$4*336)),0)","v":164.03810241892953},{"$f":"IF(ShowB,IF(ISERROR((CP$10*Analyzer!$E$5)/(Analyzer!$J$4*336)),0,SpeedConv*(CP$10*Analyzer!$E$5)/(Analyzer!$J$4*336)),0)","v":165.78318861487557},{"$f":"IF(ShowB,IF(ISERROR((CQ$10*Analyzer!$E$5)/(Analyzer!$J$4*336)),0,SpeedConv*(CQ$10*Analyzer!$E$5)/(Analyzer!$J$4*336)),0)","v":167.52827481082164},{"$f":"IF(ShowB,IF(ISERROR((CR$10*Analyzer!$E$5)/(Analyzer!$J$4*336)),0,SpeedConv*(CR$10*Analyzer!$E$5)/(Analyzer!$J$4*336)),0)","v":169.27336100676769},{"$f":"IF(ShowB,IF(ISERROR((CS$10*Analyzer!$E$5)/(Analyzer!$J$4*336)),0,SpeedConv*(CS$10*Analyzer!$E$5)/(Analyzer!$J$4*336)),0)","v":171.01844720271376},{"$f":"IF(ShowB,IF(ISERROR((CT$10*Analyzer!$E$5)/(Analyzer!$J$4*336)),0,SpeedConv*(CT$10*Analyzer!$E$5)/(Analyzer!$J$4*336)),0)","v":172.7635333986598},{"$f":"IF(ShowB,IF(ISERROR((CU$10*Analyzer!$E$5)/(Analyzer!$J$4*336)),0,SpeedConv*(CU$10*Analyzer!$E$5)/(Analyzer!$J$4*336)),0)","v":174.50861959460588}]
["B-3rd",{"$f":"IF(ShowB,IF(ISERROR((B$10*Analyzer!$E$5)/(Analyzer!$J$5*336)),0,SpeedConv*(B$10*Analyzer!$E$5)/(Analyzer!$J$5*336)),0)","v":7.678862665541037},{"$f":"IF(ShowB,IF(ISERROR((C$10*Analyzer!$E$5)/(Analyzer!$J$5*336)),0,SpeedConv*(C$10*Analyzer!$E$5)/(Analyzer!$J$5*336)),0)","v":10.238483554054715},{"$f":"IF(ShowB,IF(ISERROR((D$10*Analyzer!$E$5)/(Analyzer!$J$5*336)),0,SpeedConv*(D$10*Analyzer!$E$5)/(Analyzer!$J$5*336)),0)","v":12.798104442568395},{"$f":"IF(ShowB,IF(ISERROR((E$10*Analyzer!$E$5)/(Analyzer!$J$5*336)),0,SpeedConv*(E$10*Analyzer!$E$5)/(Analyzer!$J$5*336)),0)","v":15.357725331082074},{"$f":"IF(ShowB,IF(ISERROR((F$10*Analyzer!$E$5)/(Analyzer!$J$5*336)),0,SpeedConv*(F$10*Analyzer!$E$5)/(Analyzer!$J$5*336)),0)","v":17.917346219595753},{"$f":"IF(ShowB,IF(ISERROR((G$10*Analyzer!$E$5)/(Analyzer!$J$5*336)),0,SpeedConv*(G$10*Analyzer!$E$5)/(Analyzer!$J$5*336)),0)","v":20.476967108109431},{"$f":"IF(ShowB,IF(ISERROR((H$10*Analyzer!$E$5)/(Analyzer!$J$5*336)),0,SpeedConv*(H$10*Analyzer!$E$5)/(Analyzer!$J$5*336)),0)","v":23.036587996623108},{"$f":"IF(ShowB,IF(ISERROR((I$10*Analyzer!$E$5)/(Analyzer!$J$5*336)),0,SpeedConv*(I$10*Analyzer!$E$5)/(Analyzer!$J$5*336)),0)","v":25.596208885136789},{"$f":"IF(ShowB,IF(ISERROR((J$10*Analyzer!$E$5)/(Analyzer!$J$5*336)),0,SpeedConv*(J$10*Analyzer!$E$5)/(Analyzer!$J$5*336)),0)","v":28.155829773650467},{"$f":"IF(ShowB,IF(ISERROR((K$10*Analyzer!$E$5)/(Analyzer!$J$5*336)),0,SpeedConv*(K$10*Analyzer!$E$5)/(Analyzer!$J$5*336)),0)","v":30.715450662164148},{"$f":"IF(ShowB,IF(ISERROR((L$10*Analyzer!$E$5)/(Analyzer!$J$5*336)),0,SpeedConv*(L$10*Analyzer!$E$5)/(Analyzer!$J$5*336)),0)","v":33.275071550677822},{"$f":"IF(ShowB,IF(ISERROR((M$10*Analyzer!$E$5)/(Analyzer!$J$5*336)),0,SpeedConv*(M$10*Analyzer!$E$5)/(Analyzer!$J$5*336)),0)","v":35.834692439191507},{"$f":"IF(ShowB,IF(ISERROR((N$10*Analyzer!$E$5)/(Analyzer!$J$5*336)),0,SpeedConv*(N$10*Analyzer!$E$5)/(Analyzer!$J$5*336)),0)","v":38.394313327705184},{"$f":"IF(ShowB,IF(ISERROR((O$10*Analyzer!$E$5)/(Analyzer!$J$5*336)),0,SpeedConv*(O$10*Analyzer!$E$5)/(Analyzer!$J$5*336)),0)","v":40.953934216218862},{"$f":"IF(ShowB,IF(ISERROR((P$10*Analyzer!$E$5)/(Analyzer!$J$5*336)),0,SpeedConv*(P$10*Analyzer!$E$5)/(Analyzer!$J$5*336)),0)","v":43.513555104732539},{"$f":"IF(ShowB,IF(ISERROR((Q$10*Analyzer!$E$5)/(Analyzer!$J$5*336)),0,SpeedConv*(Q$10*Analyzer!$E$5)/(Analyzer!$J$5*336)),0)","v":46.073175993246217},{"$f":"IF(ShowB,IF(ISERROR((R$10*Analyzer!$E$5)/(Analyzer!$J$5*336)),0,SpeedConv*(R$10*Analyzer!$E$5)/(Analyzer!$J$5*336)),0)","v":48.632796881759901},{"$f":"IF(ShowB,IF(ISERROR((S$10*Analyzer!$E$5)/(Analyzer!$J$5*336)),0,SpeedConv*(S$10*Analyzer!$E$5)/(Analyzer!$J$5*336)),0)","v":51.192417770273579},{"$f":"IF(ShowB,IF(ISERROR((T$10*Analyzer!$E$5)/(Analyzer!$J$5*336)),0,SpeedConv*(T$10*Analyzer!$E$5)/(Analyzer!$J$5*336)),0)","v":53.752038658787257},{"$f":"IF(ShowB,IF(ISERROR((U$10*Analyzer!$E$5)/(Analyzer!$J$5*336)),0,SpeedConv*(U$10*Analyzer!$E$5)/(Analyzer!$J$5*336)),0)","v":56.311659547300934},{"$f":"IF(ShowB,IF(ISERROR((V$10*Analyzer!$E$5)/(Analyzer!$J$5*336)),0,SpeedConv*(V$10*Analyzer!$E$5)/(Analyzer!$J$5*336)),0)","v":58.871280435814612},{"$f":"IF(ShowB,IF(ISERROR((W$10*Analyzer!$E$5)/(Analyzer!$J$5*336)),0,SpeedConv*(W$10*Analyzer!$E$5)/(Analyzer!$J$5*336)),0)","v":61.430901324328296},{"$f":"IF(ShowB,IF(ISERROR((X$10*Analyzer!$E$5)/(Analyzer!$J$5*336)),0,SpeedConv*(X$10*Analyzer!$E$5)/(Analyzer!$J$5*336)),0)","v":63.990522212841974},{"$f":"IF(ShowB,IF(ISERROR((Y$10*Analyzer!$E$5)/(Analyzer!$J$5*336)),0,SpeedConv*(Y$10*Analyzer!$E$5)/(Analyzer!$J$5*336)),0)","v":66.550143101355644},{"$f":"IF(ShowB,IF(ISERROR((Z$10*Analyzer!$E$5)/(Analyzer!$J$5*336)),0,SpeedConv*(Z$10*Analyzer!$E$5)/(Analyzer!$J$5*336)),0)","v":69.109763989869336},{"$f":"IF(ShowB,IF(ISERROR((AA$10*Analyzer!$E$5)/(Analyzer!$J$5*336)),0,SpeedConv*(AA$10*Analyzer!$E$5)/(Analyzer!$J$5*336)),0)","v":71.669384878383013},{"$f":"IF(ShowB,IF(ISERROR((AB$10*Analyzer!$E$5)/(Analyzer!$J$5*336)),0,SpeedConv*(AB$10*Analyzer!$E$5)/(Analyzer!$J$5*336)),0)","v":74.229005766896691},{"$f":"IF(ShowB,IF(ISERROR((AC$10*Analyzer!$E$5)/(Analyzer!$J$5*336)),0,SpeedConv*(AC$10*Analyzer!$E$5)/(Analyzer!$J$5*336)),0)","v":76.788626655410368},{"$f":"IF(ShowB,IF(ISERROR((AD$10*Analyzer!$E$5)/(Analyzer!$J$5*336)),0,SpeedConv*(AD$10*Analyzer!$E$5)/(Analyzer!$J$5*336)),0)","v":79.348247543924046},{"$f":"IF(ShowB,IF(ISERROR((AE$10*Analyzer!$E$5)/(Analyzer!$J$5*336)),0,SpeedConv*(AE$10*Analyzer!$E$5)/(Analyzer!$J$5*336)),0)","v":81.907868432437724},{"$f":"IF(ShowB,IF(ISERROR((AF$10*Analyzer!$E$5)/(Analyzer!$J$5*336)),0,SpeedConv*(AF$10*Analyzer!$E$5)/(Analyzer!$J$5*336)),0)","v":84.467489320951401},{"$f":"IF(ShowB,IF(ISERROR((AG$10*Analyzer!$E$5)/(Analyzer!$J$5*336)),0,SpeedConv*(AG$10*Analyzer!$E$5)/(Analyzer!$J$5*336)),0)","v":87.027110209465079},{"$f":"IF(ShowB,IF(ISERROR((AH$10*Analyzer!$E$5)/(Analyzer!$J$5*336)),0,SpeedConv*(AH$10*Analyzer!$E$5)/(Analyzer!$J$5*336)),0)","v":89.586731097978756},{"$f":"IF(ShowB,IF(ISERROR((AI$10*Analyzer!$E$5)/(Analyzer!$J$5*336)),0,SpeedConv*(AI$10*Analyzer!$E$5)/(Analyzer!$J$5*336)),0)","v":92.146351986492434},{"$f":"IF(ShowB,IF(ISERROR((AJ$10*Analyzer!$E$5)/(Analyzer!$J$5*336)),0,SpeedConv*(AJ$10*Analyzer!$E$5)/(Analyzer!$J$5*336)),0)","v":94.705972875006125},{"$f":"IF(ShowB,IF(ISERROR((AK$10*Analyzer!$E$5)/(Analyzer!$J$5*336)),0,SpeedConv*(AK$10*Analyzer!$E$5)/(Analyzer!$J$5*336)),0)","v":97.265593763519803},{"$f":"IF(ShowB,IF(ISERROR((AL$10*Analyzer!$E$5)/(Analyzer!$J$5*336)),0,SpeedConv*(AL$10*Analyzer!$E$5)/(Analyzer!$J$5*336)),0)","v":99.82521465203348},{"$f":"IF(ShowB,IF(ISERROR((AM$10*Analyzer!$E$5)/(Analyzer!$J$5*336)),0,SpeedConv*(AM$10*Analyzer!$E$5)/(Analyzer!$J$5*336)),0)","v":102.38483554054716},{"$f":"IF(ShowB,IF(ISERROR((AN$10*Analyzer!$E$5)/(Analyzer!$J$5*336)),0,SpeedConv*(AN$10*Analyzer!$E$5)/(Analyzer!$J$5*336)),0)","v":104.94445642906084},{"$f":"IF(ShowB,IF(ISERROR((AO$10*Analyzer!$E$5)/(Analyzer!$J$5*336)),0,SpeedConv*(AO$10*Analyzer!$E$5)/(Analyzer!$J$5*336)),0)","v":107.50407731757451},{"$f":"IF(ShowB,IF(ISERROR((AP$10*Analyzer!$E$5)/(Analyzer!$J$5*336)),0,SpeedConv*(AP$10*Analyzer!$E$5)/(Analyzer!$J$5*336)),0)","v":110.06369820608819},{"$f":"IF(ShowB,IF(ISERROR((AQ$10*Analyzer!$E$5)/(Analyzer!$J$5*336)),0,SpeedConv*(AQ$10*Analyzer!$E$5)/(Analyzer!$J$5*336)),0)","v":112.62331909460187},{"$f":"IF(ShowB,IF(ISERROR((AR$10*Analyzer!$E$5)/(Analyzer!$J$5*336)),0,SpeedConv*(AR$10*Analyzer!$E$5)/(Analyzer!$J$5*336)),0)","v":115.18293998311555},{"$f":"IF(ShowB,IF(ISERROR((AS$10*Analyzer!$E$5)/(Analyzer!$J$5*336)),0,SpeedConv*(AS$10*Analyzer!$E$5)/(Analyzer!$J$5*336)),0)","v":117.74256087162922},{"$f":"IF(ShowB,IF(ISERROR((AT$10*Analyzer!$E$5)/(Analyzer!$J$5*336)),0,SpeedConv*(AT$10*Analyzer!$E$5)/(Analyzer!$J$5*336)),0)","v":120.3021817601429},{"$f":"IF(ShowB,IF(ISERROR((AU$10*Analyzer!$E$5)/(Analyzer!$J$5*336)),0,SpeedConv*(AU$10*Analyzer!$E$5)/(Analyzer!$J$5*336)),0)","v":122.86180264865659},{"$f":"IF(ShowB,IF(ISERROR((AV$10*Analyzer!$E$5)/(Analyzer!$J$5*336)),0,SpeedConv*(AV$10*Analyzer!$E$5)/(Analyzer!$J$5*336)),0)","v":125.42142353717027},{"$f":"IF(ShowB,IF(ISERROR((AW$10*Analyzer!$E$5)/(Analyzer!$J$5*336)),0,SpeedConv*(AW$10*Analyzer!$E$5)/(Analyzer!$J$5*336)),0)","v":127.98104442568395},{"$f":"IF(ShowB,IF(ISERROR((AX$10*Analyzer!$E$5)/(Analyzer!$J$5*336)),0,SpeedConv*(AX$10*Analyzer!$E$5)/(Analyzer!$J$5*336)),0)","v":130.54066531419761},{"$f":"IF(ShowB,IF(ISERROR((AY$10*Analyzer!$E$5)/(Analyzer!$J$5*336)),0,SpeedConv*(AY$10*Analyzer!$E$5)/(Analyzer!$J$5*336)),0)","v":133.10028620271129},{"$f":"IF(ShowB,IF(ISERROR((AZ$10*Analyzer!$E$5)/(Analyzer!$J$5*336)),0,SpeedConv*(AZ$10*Analyzer!$E$5)/(Analyzer!$J$5*336)),0)","v":135.65990709122499},{"$f":"IF(ShowB,IF(ISERROR((BA$10*Analyzer!$E$5)/(Analyzer!$J$5*336)),0,SpeedConv*(BA$10*Analyzer!$E$5)/(Analyzer!$J$5*336)),0)","v":138.21952797973867},{"$f":"IF(ShowB,IF(ISERROR((BB$10*Analyzer!$E$5)/(Analyzer!$J$5*336)),0,SpeedConv*(BB$10*Analyzer!$E$5)/(Analyzer!$J$5*336)),0)","v":140.77914886825235},{"$f":"IF(ShowB,IF(ISERROR((BC$10*Analyzer!$E$5)/(Analyzer!$J$5*336)),0,SpeedConv*(BC$10*Analyzer!$E$5)/(Analyzer!$J$5*336)),0)","v":143.33876975676603},{"$f":"IF(ShowB,IF(ISERROR((BD$10*Analyzer!$E$5)/(Analyzer!$J$5*336)),0,SpeedConv*(BD$10*Analyzer!$E$5)/(Analyzer!$J$5*336)),0)","v":145.8983906452797},{"$f":"IF(ShowB,IF(ISERROR((BE$10*Analyzer!$E$5)/(Analyzer!$J$5*336)),0,SpeedConv*(BE$10*Analyzer!$E$5)/(Analyzer!$J$5*336)),0)","v":148.45801153379338},{"$f":"IF(ShowB,IF(ISERROR((BF$10*Analyzer!$E$5)/(Analyzer!$J$5*336)),0,SpeedConv*(BF$10*Analyzer!$E$5)/(Analyzer!$J$5*336)),0)","v":151.01763242230706},{"$f":"IF(ShowB,IF(ISERROR((BG$10*Analyzer!$E$5)/(Analyzer!$J$5*336)),0,SpeedConv*(BG$10*Analyzer!$E$5)/(Analyzer!$J$5*336)),0)","v":153.57725331082074},{"$f":"IF(ShowB,IF(ISERROR((BH$10*Analyzer!$E$5)/(Analyzer!$J$5*336)),0,SpeedConv*(BH$10*Analyzer!$E$5)/(Analyzer!$J$5*336)),0)","v":156.13687419933441},{"$f":"IF(ShowB,IF(ISERROR((BI$10*Analyzer!$E$5)/(Analyzer!$J$5*336)),0,SpeedConv*(BI$10*Analyzer!$E$5)/(Analyzer!$J$5*336)),0)","v":158.69649508784809},{"$f":"IF(ShowB,IF(ISERROR((BJ$10*Analyzer!$E$5)/(Analyzer!$J$5*336)),0,SpeedConv*(BJ$10*Analyzer!$E$5)/(Analyzer!$J$5*336)),0)","v":161.25611597636177},{"$f":"IF(ShowB,IF(ISERROR((BK$10*Analyzer!$E$5)/(Analyzer!$J$5*336)),0,SpeedConv*(BK$10*Analyzer!$E$5)/(Analyzer!$J$5*336)),0)","v":163.81573686487545},{"$f":"IF(ShowB,IF(ISERROR((BL$10*Analyzer!$E$5)/(Analyzer!$J$5*336)),0,SpeedConv*(BL$10*Analyzer!$E$5)/(Analyzer!$J$5*336)),0)","v":166.37535775338912},{"$f":"IF(ShowB,IF(ISERROR((BM$10*Analyzer!$E$5)/(Analyzer!$J$5*336)),0,SpeedConv*(BM$10*Analyzer!$E$5)/(Analyzer!$J$5*336)),0)","v":168.9349786419028},{"$f":"IF(ShowB,IF(ISERROR((BN$10*Analyzer!$E$5)/(Analyzer!$J$5*336)),0,SpeedConv*(BN$10*Analyzer!$E$5)/(Analyzer!$J$5*336)),0)","v":171.49459953041648},{"$f":"IF(ShowB,IF(ISERROR((BO$10*Analyzer!$E$5)/(Analyzer!$J$5*336)),0,SpeedConv*(BO$10*Analyzer!$E$5)/(Analyzer!$J$5*336)),0)","v":174.05422041893016},{"$f":"IF(ShowB,IF(ISERROR((BP$10*Analyzer!$E$5)/(Analyzer!$J$5*336)),0,SpeedConv*(BP$10*Analyzer!$E$5)/(Analyzer!$J$5*336)),0)","v":176.61384130744383},{"$f":"IF(ShowB,IF(ISERROR((BQ$10*Analyzer!$E$5)/(Analyzer!$J$5*336)),0,SpeedConv*(BQ$10*Analyzer!$E$5)/(Analyzer!$J$5*336)),0)","v":179.17346219595751},{"$f":"IF(ShowB,IF(ISERROR((BR$10*Analyzer!$E$5)/(Analyzer!$J$5*336)),0,SpeedConv*(BR$10*Analyzer!$E$5)/(Analyzer!$J$5*336)),0)","v":181.73308308447119},{"$f":"IF(ShowB,IF(ISERROR((BS$10*Analyzer!$E$5)/(Analyzer!$J$5*336)),0,SpeedConv*(BS$10*Analyzer!$E$5)/(Analyzer!$J$5*336)),0)","v":184.29270397298487},{"$f":"IF(ShowB,IF(ISERROR((BT$10*Analyzer!$E$5)/(Analyzer!$J$5*336)),0,SpeedConv*(BT$10*Analyzer!$E$5)/(Analyzer!$J$5*336)),0)","v":186.85232486149854},{"$f":"IF(ShowB,IF(ISERROR((BU$10*Analyzer!$E$5)/(Analyzer!$J$5*336)),0,SpeedConv*(BU$10*Analyzer!$E$5)/(Analyzer!$J$5*336)),0)","v":189.41194575001225},{"$f":"IF(ShowB,IF(ISERROR((BV$10*Analyzer!$E$5)/(Analyzer!$J$5*336)),0,SpeedConv*(BV$10*Analyzer!$E$5)/(Analyzer!$J$5*336)),0)","v":191.97156663852593},{"$f":"IF(ShowB,IF(ISERROR((BW$10*Analyzer!$E$5)/(Analyzer!$J$5*336)),0,SpeedConv*(BW$10*Analyzer!$E$5)/(Analyzer!$J$5*336)),0)","v":194.53118752703961},{"$f":"IF(ShowB,IF(ISERROR((BX$10*Analyzer!$E$5)/(Analyzer!$J$5*336)),0,SpeedConv*(BX$10*Analyzer!$E$5)/(Analyzer!$J$5*336)),0)","v":197.09080841555328},{"$f":"IF(ShowB,IF(ISERROR((BY$10*Analyzer!$E$5)/(Analyzer!$J$5*336)),0,SpeedConv*(BY$10*Analyzer!$E$5)/(Analyzer!$J$5*336)),0)","v":199.65042930406696},{"$f":"IF(ShowB,IF(ISERROR((BZ$10*Analyzer!$E$5)/(Analyzer!$J$5*336)),0,SpeedConv*(BZ$10*Analyzer!$E$5)/(Analyzer!$J$5*336)),0)","v":202.21005019258064},{"$f":"IF(ShowB,IF(ISERROR((CA$10*Analyzer!$E$5)/(Analyzer!$J$5*336)),0,SpeedConv*(CA$10*Analyzer!$E$5)/(Analyzer!$J$5*336)),0)","v":204.76967108109432},{"$f":"IF(ShowB,IF(ISERROR((CB$10*Analyzer!$E$5)/(Analyzer!$J$5*336)),0,SpeedConv*(CB$10*Analyzer!$E$5)/(Analyzer!$J$5*336)),0)","v":207.32929196960799},{"$f":"IF(ShowB,IF(ISERROR((CC$10*Analyzer!$E$5)/(Analyzer!$J$5*336)),0,SpeedConv*(CC$10*Analyzer!$E$5)/(Analyzer!$J$5*336)),0)","v":209.88891285812167},{"$f":"IF(ShowB,IF(ISERROR((CD$10*Analyzer!$E$5)/(Analyzer!$J$5*336)),0,SpeedConv*(CD$10*Analyzer!$E$5)/(Analyzer!$J$5*336)),0)","v":212.44853374663535},{"$f":"IF(ShowB,IF(ISERROR((CE$10*Analyzer!$E$5)/(Analyzer!$J$5*336)),0,SpeedConv*(CE$10*Analyzer!$E$5)/(Analyzer!$J$5*336)),0)","v":215.00815463514903},{"$f":"IF(ShowB,IF(ISERROR((CF$10*Analyzer!$E$5)/(Analyzer!$J$5*336)),0,SpeedConv*(CF$10*Analyzer!$E$5)/(Analyzer!$J$5*336)),0)","v":217.5677755236627},{"$f":"IF(ShowB,IF(ISERROR((CG$10*Analyzer!$E$5)/(Analyzer!$J$5*336)),0,SpeedConv*(CG$10*Analyzer!$E$5)/(Analyzer!$J$5*336)),0)","v":220.12739641217638},{"$f":"IF(ShowB,IF(ISERROR((CH$10*Analyzer!$E$5)/(Analyzer!$J$5*336)),0,SpeedConv*(CH$10*Analyzer!$E$5)/(Analyzer!$J$5*336)),0)","v":222.68701730069006},{"$f":"IF(ShowB,IF(ISERROR((CI$10*Analyzer!$E$5)/(Analyzer!$J$5*336)),0,SpeedConv*(CI$10*Analyzer!$E$5)/(Analyzer!$J$5*336)),0)","v":225.24663818920374},{"$f":"IF(ShowB,IF(ISERROR((CJ$10*Analyzer!$E$5)/(Analyzer!$J$5*336)),0,SpeedConv*(CJ$10*Analyzer!$E$5)/(Analyzer!$J$5*336)),0)","v":227.80625907771741},{"$f":"IF(ShowB,IF(ISERROR((CK$10*Analyzer!$E$5)/(Analyzer!$J$5*336)),0,SpeedConv*(CK$10*Analyzer!$E$5)/(Analyzer!$J$5*336)),0)","v":230.36587996623109},{"$f":"IF(ShowB,IF(ISERROR((CL$10*Analyzer!$E$5)/(Analyzer!$J$5*336)),0,SpeedConv*(CL$10*Analyzer!$E$5)/(Analyzer!$J$5*336)),0)","v":232.92550085474477},{"$f":"IF(ShowB,IF(ISERROR((CM$10*Analyzer!$E$5)/(Analyzer!$J$5*336)),0,SpeedConv*(CM$10*Analyzer!$E$5)/(Analyzer!$J$5*336)),0)","v":235.48512174325845},{"$f":"IF(ShowB,IF(ISERROR((CN$10*Analyzer!$E$5)/(Analyzer!$J$5*336)),0,SpeedConv*(CN$10*Analyzer!$E$5)/(Analyzer!$J$5*336)),0)","v":238.04474263177212},{"$f":"IF(ShowB,IF(ISERROR((CO$10*Analyzer!$E$5)/(Analyzer!$J$5*336)),0,SpeedConv*(CO$10*Analyzer!$E$5)/(Analyzer!$J$5*336)),0)","v":240.6043635202858},{"$f":"IF(ShowB,IF(ISERROR((CP$10*Analyzer!$E$5)/(Analyzer!$J$5*336)),0,SpeedConv*(CP$10*Analyzer!$E$5)/(Analyzer!$J$5*336)),0)","v":243.16398440879951},{"$f":"IF(ShowB,IF(ISERROR((CQ$10*Analyzer!$E$5)/(Analyzer!$J$5*336)),0,SpeedConv*(CQ$10*Analyzer!$E$5)/(Analyzer!$J$5*336)),0)","v":245.72360529731318},{"$f":"IF(ShowB,IF(ISERROR((CR$10*Analyzer!$E$5)/(Analyzer!$J$5*336)),0,SpeedConv*(CR$10*Analyzer!$E$5)/(Analyzer!$J$5*336)),0)","v":248.28322618582686},{"$f":"IF(ShowB,IF(ISERROR((CS$10*Analyzer!$E$5)/(Analyzer!$J$5*336)),0,SpeedConv*(CS$10*Analyzer!$E$5)/(Analyzer!$J$5*336)),0)","v":250.84284707434054},{"$f":"IF(ShowB,IF(ISERROR((CT$10*Analyzer!$E$5)/(Analyzer!$J$5*336)),0,SpeedConv*(CT$10*Analyzer!$E$5)/(Analyzer!$J$5*336)),0)","v":253.40246796285422},{"$f":"IF(ShowB,IF(ISERROR((CU$10*Analyzer!$E$5)/(Analyzer!$J$5*336)),0,SpeedConv*(CU$10*Analyzer!$E$5)/(Analyzer!$J$5*336)),0)","v":255.96208885136789}]
["B-4th",{"$f":"IF(ShowB,IF(ISERROR((B$10*Analyzer!$E$5)/(Analyzer!$J$6*336)),0,SpeedConv*(B$10*Analyzer!$E$5)/(Analyzer!$J$6*336)),0)","v":9.8213265624811843},{"$f":"IF(ShowB,IF(ISERROR((C$10*Analyzer!$E$5)/(Analyzer!$J$6*336)),0,SpeedConv*(C$10*Analyzer!$E$5)/(Analyzer!$J$6*336)),0)","v":13.095102083308246},{"$f":"IF(ShowB,IF(ISERROR((D$10*Analyzer!$E$5)/(Analyzer!$J$6*336)),0,SpeedConv*(D$10*Analyzer!$E$5)/(Analyzer!$J$6*336)),0)","v":16.368877604135307},{"$f":"IF(ShowB,IF(ISERROR((E$10*Analyzer!$E$5)/(Analyzer!$J$6*336)),0,SpeedConv*(E$10*Analyzer!$E$5)/(Analyzer!$J$6*336)),0)","v":19.642653124962369},{"$f":"IF(ShowB,IF(ISERROR((F$10*Analyzer!$E$5)/(Analyzer!$J$6*336)),0,SpeedConv*(F$10*Analyzer!$E$5)/(Analyzer!$J$6*336)),0)","v":22.916428645789431},{"$f":"IF(ShowB,IF(ISERROR((G$10*Analyzer!$E$5)/(Analyzer!$J$6*336)),0,SpeedConv*(G$10*Analyzer!$E$5)/(Analyzer!$J$6*336)),0)","v":26.190204166616493},{"$f":"IF(ShowB,IF(ISERROR((H$10*Analyzer!$E$5)/(Analyzer!$J$6*336)),0,SpeedConv*(H$10*Analyzer!$E$5)/(Analyzer!$J$6*336)),0)","v":29.463979687443551},{"$f":"IF(ShowB,IF(ISERROR((I$10*Analyzer!$E$5)/(Analyzer!$J$6*336)),0,SpeedConv*(I$10*Analyzer!$E$5)/(Analyzer!$J$6*336)),0)","v":32.737755208270613},{"$f":"IF(ShowB,IF(ISERROR((J$10*Analyzer!$E$5)/(Analyzer!$J$6*336)),0,SpeedConv*(J$10*Analyzer!$E$5)/(Analyzer!$J$6*336)),0)","v":36.011530729097679},{"$f":"IF(ShowB,IF(ISERROR((K$10*Analyzer!$E$5)/(Analyzer!$J$6*336)),0,SpeedConv*(K$10*Analyzer!$E$5)/(Analyzer!$J$6*336)),0)","v":39.285306249924737},{"$f":"IF(ShowB,IF(ISERROR((L$10*Analyzer!$E$5)/(Analyzer!$J$6*336)),0,SpeedConv*(L$10*Analyzer!$E$5)/(Analyzer!$J$6*336)),0)","v":42.559081770751796},{"$f":"IF(ShowB,IF(ISERROR((M$10*Analyzer!$E$5)/(Analyzer!$J$6*336)),0,SpeedConv*(M$10*Analyzer!$E$5)/(Analyzer!$J$6*336)),0)","v":45.832857291578861},{"$f":"IF(ShowB,IF(ISERROR((N$10*Analyzer!$E$5)/(Analyzer!$J$6*336)),0,SpeedConv*(N$10*Analyzer!$E$5)/(Analyzer!$J$6*336)),0)","v":49.10663281240592},{"$f":"IF(ShowB,IF(ISERROR((O$10*Analyzer!$E$5)/(Analyzer!$J$6*336)),0,SpeedConv*(O$10*Analyzer!$E$5)/(Analyzer!$J$6*336)),0)","v":52.380408333232985},{"$f":"IF(ShowB,IF(ISERROR((P$10*Analyzer!$E$5)/(Analyzer!$J$6*336)),0,SpeedConv*(P$10*Analyzer!$E$5)/(Analyzer!$J$6*336)),0)","v":55.654183854060044},{"$f":"IF(ShowB,IF(ISERROR((Q$10*Analyzer!$E$5)/(Analyzer!$J$6*336)),0,SpeedConv*(Q$10*Analyzer!$E$5)/(Analyzer!$J$6*336)),0)","v":58.927959374887102},{"$f":"IF(ShowB,IF(ISERROR((R$10*Analyzer!$E$5)/(Analyzer!$J$6*336)),0,SpeedConv*(R$10*Analyzer!$E$5)/(Analyzer!$J$6*336)),0)","v":62.201734895714168},{"$f":"IF(ShowB,IF(ISERROR((S$10*Analyzer!$E$5)/(Analyzer!$J$6*336)),0,SpeedConv*(S$10*Analyzer!$E$5)/(Analyzer!$J$6*336)),0)","v":65.475510416541226},{"$f":"IF(ShowB,IF(ISERROR((T$10*Analyzer!$E$5)/(Analyzer!$J$6*336)),0,SpeedConv*(T$10*Analyzer!$E$5)/(Analyzer!$J$6*336)),0)","v":68.749285937368285},{"$f":"IF(ShowB,IF(ISERROR((U$10*Analyzer!$E$5)/(Analyzer!$J$6*336)),0,SpeedConv*(U$10*Analyzer!$E$5)/(Analyzer!$J$6*336)),0)","v":72.023061458195357},{"$f":"IF(ShowB,IF(ISERROR((V$10*Analyzer!$E$5)/(Analyzer!$J$6*336)),0,SpeedConv*(V$10*Analyzer!$E$5)/(Analyzer!$J$6*336)),0)","v":75.296836979022416},{"$f":"IF(ShowB,IF(ISERROR((W$10*Analyzer!$E$5)/(Analyzer!$J$6*336)),0,SpeedConv*(W$10*Analyzer!$E$5)/(Analyzer!$J$6*336)),0)","v":78.570612499849474},{"$f":"IF(ShowB,IF(ISERROR((X$10*Analyzer!$E$5)/(Analyzer!$J$6*336)),0,SpeedConv*(X$10*Analyzer!$E$5)/(Analyzer!$J$6*336)),0)","v":81.844388020676533},{"$f":"IF(ShowB,IF(ISERROR((Y$10*Analyzer!$E$5)/(Analyzer!$J$6*336)),0,SpeedConv*(Y$10*Analyzer!$E$5)/(Analyzer!$J$6*336)),0)","v":85.118163541503591},{"$f":"IF(ShowB,IF(ISERROR((Z$10*Analyzer!$E$5)/(Analyzer!$J$6*336)),0,SpeedConv*(Z$10*Analyzer!$E$5)/(Analyzer!$J$6*336)),0)","v":88.391939062330664},{"$f":"IF(ShowB,IF(ISERROR((AA$10*Analyzer!$E$5)/(Analyzer!$J$6*336)),0,SpeedConv*(AA$10*Analyzer!$E$5)/(Analyzer!$J$6*336)),0)","v":91.665714583157722},{"$f":"IF(ShowB,IF(ISERROR((AB$10*Analyzer!$E$5)/(Analyzer!$J$6*336)),0,SpeedConv*(AB$10*Analyzer!$E$5)/(Analyzer!$J$6*336)),0)","v":94.939490103984781},{"$f":"IF(ShowB,IF(ISERROR((AC$10*Analyzer!$E$5)/(Analyzer!$J$6*336)),0,SpeedConv*(AC$10*Analyzer!$E$5)/(Analyzer!$J$6*336)),0)","v":98.213265624811839},{"$f":"IF(ShowB,IF(ISERROR((AD$10*Analyzer!$E$5)/(Analyzer!$J$6*336)),0,SpeedConv*(AD$10*Analyzer!$E$5)/(Analyzer!$J$6*336)),0)","v":101.4870411456389},{"$f":"IF(ShowB,IF(ISERROR((AE$10*Analyzer!$E$5)/(Analyzer!$J$6*336)),0,SpeedConv*(AE$10*Analyzer!$E$5)/(Analyzer!$J$6*336)),0)","v":104.76081666646597},{"$f":"IF(ShowB,IF(ISERROR((AF$10*Analyzer!$E$5)/(Analyzer!$J$6*336)),0,SpeedConv*(AF$10*Analyzer!$E$5)/(Analyzer!$J$6*336)),0)","v":108.03459218729303},{"$f":"IF(ShowB,IF(ISERROR((AG$10*Analyzer!$E$5)/(Analyzer!$J$6*336)),0,SpeedConv*(AG$10*Analyzer!$E$5)/(Analyzer!$J$6*336)),0)","v":111.30836770812009},{"$f":"IF(ShowB,IF(ISERROR((AH$10*Analyzer!$E$5)/(Analyzer!$J$6*336)),0,SpeedConv*(AH$10*Analyzer!$E$5)/(Analyzer!$J$6*336)),0)","v":114.58214322894715},{"$f":"IF(ShowB,IF(ISERROR((AI$10*Analyzer!$E$5)/(Analyzer!$J$6*336)),0,SpeedConv*(AI$10*Analyzer!$E$5)/(Analyzer!$J$6*336)),0)","v":117.8559187497742},{"$f":"IF(ShowB,IF(ISERROR((AJ$10*Analyzer!$E$5)/(Analyzer!$J$6*336)),0,SpeedConv*(AJ$10*Analyzer!$E$5)/(Analyzer!$J$6*336)),0)","v":121.12969427060128},{"$f":"IF(ShowB,IF(ISERROR((AK$10*Analyzer!$E$5)/(Analyzer!$J$6*336)),0,SpeedConv*(AK$10*Analyzer!$E$5)/(Analyzer!$J$6*336)),0)","v":124.40346979142834},{"$f":"IF(ShowB,IF(ISERROR((AL$10*Analyzer!$E$5)/(Analyzer!$J$6*336)),0,SpeedConv*(AL$10*Analyzer!$E$5)/(Analyzer!$J$6*336)),0)","v":127.67724531225539},{"$f":"IF(ShowB,IF(ISERROR((AM$10*Analyzer!$E$5)/(Analyzer!$J$6*336)),0,SpeedConv*(AM$10*Analyzer!$E$5)/(Analyzer!$J$6*336)),0)","v":130.95102083308245},{"$f":"IF(ShowB,IF(ISERROR((AN$10*Analyzer!$E$5)/(Analyzer!$J$6*336)),0,SpeedConv*(AN$10*Analyzer!$E$5)/(Analyzer!$J$6*336)),0)","v":134.22479635390951},{"$f":"IF(ShowB,IF(ISERROR((AO$10*Analyzer!$E$5)/(Analyzer!$J$6*336)),0,SpeedConv*(AO$10*Analyzer!$E$5)/(Analyzer!$J$6*336)),0)","v":137.49857187473657},{"$f":"IF(ShowB,IF(ISERROR((AP$10*Analyzer!$E$5)/(Analyzer!$J$6*336)),0,SpeedConv*(AP$10*Analyzer!$E$5)/(Analyzer!$J$6*336)),0)","v":140.77234739556363},{"$f":"IF(ShowB,IF(ISERROR((AQ$10*Analyzer!$E$5)/(Analyzer!$J$6*336)),0,SpeedConv*(AQ$10*Analyzer!$E$5)/(Analyzer!$J$6*336)),0)","v":144.04612291639071},{"$f":"IF(ShowB,IF(ISERROR((AR$10*Analyzer!$E$5)/(Analyzer!$J$6*336)),0,SpeedConv*(AR$10*Analyzer!$E$5)/(Analyzer!$J$6*336)),0)","v":147.31989843721777},{"$f":"IF(ShowB,IF(ISERROR((AS$10*Analyzer!$E$5)/(Analyzer!$J$6*336)),0,SpeedConv*(AS$10*Analyzer!$E$5)/(Analyzer!$J$6*336)),0)","v":150.59367395804483},{"$f":"IF(ShowB,IF(ISERROR((AT$10*Analyzer!$E$5)/(Analyzer!$J$6*336)),0,SpeedConv*(AT$10*Analyzer!$E$5)/(Analyzer!$J$6*336)),0)","v":153.86744947887189},{"$f":"IF(ShowB,IF(ISERROR((AU$10*Analyzer!$E$5)/(Analyzer!$J$6*336)),0,SpeedConv*(AU$10*Analyzer!$E$5)/(Analyzer!$J$6*336)),0)","v":157.14122499969895},{"$f":"IF(ShowB,IF(ISERROR((AV$10*Analyzer!$E$5)/(Analyzer!$J$6*336)),0,SpeedConv*(AV$10*Analyzer!$E$5)/(Analyzer!$J$6*336)),0)","v":160.41500052052601},{"$f":"IF(ShowB,IF(ISERROR((AW$10*Analyzer!$E$5)/(Analyzer!$J$6*336)),0,SpeedConv*(AW$10*Analyzer!$E$5)/(Analyzer!$J$6*336)),0)","v":163.68877604135307},{"$f":"IF(ShowB,IF(ISERROR((AX$10*Analyzer!$E$5)/(Analyzer!$J$6*336)),0,SpeedConv*(AX$10*Analyzer!$E$5)/(Analyzer!$J$6*336)),0)","v":166.96255156218012},{"$f":"IF(ShowB,IF(ISERROR((AY$10*Analyzer!$E$5)/(Analyzer!$J$6*336)),0,SpeedConv*(AY$10*Analyzer!$E$5)/(Analyzer!$J$6*336)),0)","v":170.23632708300718},{"$f":"IF(ShowB,IF(ISERROR((AZ$10*Analyzer!$E$5)/(Analyzer!$J$6*336)),0,SpeedConv*(AZ$10*Analyzer!$E$5)/(Analyzer!$J$6*336)),0)","v":173.51010260383427},{"$f":"IF(ShowB,IF(ISERROR((BA$10*Analyzer!$E$5)/(Analyzer!$J$6*336)),0,SpeedConv*(BA$10*Analyzer!$E$5)/(Analyzer!$J$6*336)),0)","v":176.78387812466133},{"$f":"IF(ShowB,IF(ISERROR((BB$10*Analyzer!$E$5)/(Analyzer!$J$6*336)),0,SpeedConv*(BB$10*Analyzer!$E$5)/(Analyzer!$J$6*336)),0)","v":180.05765364548839},{"$f":"IF(ShowB,IF(ISERROR((BC$10*Analyzer!$E$5)/(Analyzer!$J$6*336)),0,SpeedConv*(BC$10*Analyzer!$E$5)/(Analyzer!$J$6*336)),0)","v":183.33142916631544},{"$f":"IF(ShowB,IF(ISERROR((BD$10*Analyzer!$E$5)/(Analyzer!$J$6*336)),0,SpeedConv*(BD$10*Analyzer!$E$5)/(Analyzer!$J$6*336)),0)","v":186.6052046871425},{"$f":"IF(ShowB,IF(ISERROR((BE$10*Analyzer!$E$5)/(Analyzer!$J$6*336)),0,SpeedConv*(BE$10*Analyzer!$E$5)/(Analyzer!$J$6*336)),0)","v":189.87898020796956},{"$f":"IF(ShowB,IF(ISERROR((BF$10*Analyzer!$E$5)/(Analyzer!$J$6*336)),0,SpeedConv*(BF$10*Analyzer!$E$5)/(Analyzer!$J$6*336)),0)","v":193.15275572879662},{"$f":"IF(ShowB,IF(ISERROR((BG$10*Analyzer!$E$5)/(Analyzer!$J$6*336)),0,SpeedConv*(BG$10*Analyzer!$E$5)/(Analyzer!$J$6*336)),0)","v":196.42653124962368},{"$f":"IF(ShowB,IF(ISERROR((BH$10*Analyzer!$E$5)/(Analyzer!$J$6*336)),0,SpeedConv*(BH$10*Analyzer!$E$5)/(Analyzer!$J$6*336)),0)","v":199.70030677045074},{"$f":"IF(ShowB,IF(ISERROR((BI$10*Analyzer!$E$5)/(Analyzer!$J$6*336)),0,SpeedConv*(BI$10*Analyzer!$E$5)/(Analyzer!$J$6*336)),0)","v":202.9740822912778},{"$f":"IF(ShowB,IF(ISERROR((BJ$10*Analyzer!$E$5)/(Analyzer!$J$6*336)),0,SpeedConv*(BJ$10*Analyzer!$E$5)/(Analyzer!$J$6*336)),0)","v":206.24785781210488},{"$f":"IF(ShowB,IF(ISERROR((BK$10*Analyzer!$E$5)/(Analyzer!$J$6*336)),0,SpeedConv*(BK$10*Analyzer!$E$5)/(Analyzer!$J$6*336)),0)","v":209.52163333293194},{"$f":"IF(ShowB,IF(ISERROR((BL$10*Analyzer!$E$5)/(Analyzer!$J$6*336)),0,SpeedConv*(BL$10*Analyzer!$E$5)/(Analyzer!$J$6*336)),0)","v":212.795408853759},{"$f":"IF(ShowB,IF(ISERROR((BM$10*Analyzer!$E$5)/(Analyzer!$J$6*336)),0,SpeedConv*(BM$10*Analyzer!$E$5)/(Analyzer!$J$6*336)),0)","v":216.06918437458606},{"$f":"IF(ShowB,IF(ISERROR((BN$10*Analyzer!$E$5)/(Analyzer!$J$6*336)),0,SpeedConv*(BN$10*Analyzer!$E$5)/(Analyzer!$J$6*336)),0)","v":219.34295989541312},{"$f":"IF(ShowB,IF(ISERROR((BO$10*Analyzer!$E$5)/(Analyzer!$J$6*336)),0,SpeedConv*(BO$10*Analyzer!$E$5)/(Analyzer!$J$6*336)),0)","v":222.61673541624018},{"$f":"IF(ShowB,IF(ISERROR((BP$10*Analyzer!$E$5)/(Analyzer!$J$6*336)),0,SpeedConv*(BP$10*Analyzer!$E$5)/(Analyzer!$J$6*336)),0)","v":225.89051093706723},{"$f":"IF(ShowB,IF(ISERROR((BQ$10*Analyzer!$E$5)/(Analyzer!$J$6*336)),0,SpeedConv*(BQ$10*Analyzer!$E$5)/(Analyzer!$J$6*336)),0)","v":229.16428645789429},{"$f":"IF(ShowB,IF(ISERROR((BR$10*Analyzer!$E$5)/(Analyzer!$J$6*336)),0,SpeedConv*(BR$10*Analyzer!$E$5)/(Analyzer!$J$6*336)),0)","v":232.43806197872135},{"$f":"IF(ShowB,IF(ISERROR((BS$10*Analyzer!$E$5)/(Analyzer!$J$6*336)),0,SpeedConv*(BS$10*Analyzer!$E$5)/(Analyzer!$J$6*336)),0)","v":235.71183749954841},{"$f":"IF(ShowB,IF(ISERROR((BT$10*Analyzer!$E$5)/(Analyzer!$J$6*336)),0,SpeedConv*(BT$10*Analyzer!$E$5)/(Analyzer!$J$6*336)),0)","v":238.9856130203755},{"$f":"IF(ShowB,IF(ISERROR((BU$10*Analyzer!$E$5)/(Analyzer!$J$6*336)),0,SpeedConv*(BU$10*Analyzer!$E$5)/(Analyzer!$J$6*336)),0)","v":242.25938854120255},{"$f":"IF(ShowB,IF(ISERROR((BV$10*Analyzer!$E$5)/(Analyzer!$J$6*336)),0,SpeedConv*(BV$10*Analyzer!$E$5)/(Analyzer!$J$6*336)),0)","v":245.53316406202961},{"$f":"IF(ShowB,IF(ISERROR((BW$10*Analyzer!$E$5)/(Analyzer!$J$6*336)),0,SpeedConv*(BW$10*Analyzer!$E$5)/(Analyzer!$J$6*336)),0)","v":248.80693958285667},{"$f":"IF(ShowB,IF(ISERROR((BX$10*Analyzer!$E$5)/(Analyzer!$J$6*336)),0,SpeedConv*(BX$10*Analyzer!$E$5)/(Analyzer!$J$6*336)),0)","v":252.08071510368373},{"$f":"IF(ShowB,IF(ISERROR((BY$10*Analyzer!$E$5)/(Analyzer!$J$6*336)),0,SpeedConv*(BY$10*Analyzer!$E$5)/(Analyzer!$J$6*336)),0)","v":255.35449062451079},{"$f":"IF(ShowB,IF(ISERROR((BZ$10*Analyzer!$E$5)/(Analyzer!$J$6*336)),0,SpeedConv*(BZ$10*Analyzer!$E$5)/(Analyzer!$J$6*336)),0)","v":258.62826614533788},{"$f":"IF(ShowB,IF(ISERROR((CA$10*Analyzer!$E$5)/(Analyzer!$J$6*336)),0,SpeedConv*(CA$10*Analyzer!$E$5)/(Analyzer!$J$6*336)),0)","v":261.90204166616491},{"$f":"IF(ShowB,IF(ISERROR((CB$10*Analyzer!$E$5)/(Analyzer!$J$6*336)),0,SpeedConv*(CB$10*Analyzer!$E$5)/(Analyzer!$J$6*336)),0)","v":265.17581718699199},{"$f":"IF(ShowB,IF(ISERROR((CC$10*Analyzer!$E$5)/(Analyzer!$J$6*336)),0,SpeedConv*(CC$10*Analyzer!$E$5)/(Analyzer!$J$6*336)),0)","v":268.44959270781902},{"$f":"IF(ShowB,IF(ISERROR((CD$10*Analyzer!$E$5)/(Analyzer!$J$6*336)),0,SpeedConv*(CD$10*Analyzer!$E$5)/(Analyzer!$J$6*336)),0)","v":271.72336822864611},{"$f":"IF(ShowB,IF(ISERROR((CE$10*Analyzer!$E$5)/(Analyzer!$J$6*336)),0,SpeedConv*(CE$10*Analyzer!$E$5)/(Analyzer!$J$6*336)),0)","v":274.99714374947314},{"$f":"IF(ShowB,IF(ISERROR((CF$10*Analyzer!$E$5)/(Analyzer!$J$6*336)),0,SpeedConv*(CF$10*Analyzer!$E$5)/(Analyzer!$J$6*336)),0)","v":278.27091927030023},{"$f":"IF(ShowB,IF(ISERROR((CG$10*Analyzer!$E$5)/(Analyzer!$J$6*336)),0,SpeedConv*(CG$10*Analyzer!$E$5)/(Analyzer!$J$6*336)),0)","v":281.54469479112726},{"$f":"IF(ShowB,IF(ISERROR((CH$10*Analyzer!$E$5)/(Analyzer!$J$6*336)),0,SpeedConv*(CH$10*Analyzer!$E$5)/(Analyzer!$J$6*336)),0)","v":284.81847031195434},{"$f":"IF(ShowB,IF(ISERROR((CI$10*Analyzer!$E$5)/(Analyzer!$J$6*336)),0,SpeedConv*(CI$10*Analyzer!$E$5)/(Analyzer!$J$6*336)),0)","v":288.09224583278143},{"$f":"IF(ShowB,IF(ISERROR((CJ$10*Analyzer!$E$5)/(Analyzer!$J$6*336)),0,SpeedConv*(CJ$10*Analyzer!$E$5)/(Analyzer!$J$6*336)),0)","v":291.36602135360846},{"$f":"IF(ShowB,IF(ISERROR((CK$10*Analyzer!$E$5)/(Analyzer!$J$6*336)),0,SpeedConv*(CK$10*Analyzer!$E$5)/(Analyzer!$J$6*336)),0)","v":294.63979687443555},{"$f":"IF(ShowB,IF(ISERROR((CL$10*Analyzer!$E$5)/(Analyzer!$J$6*336)),0,SpeedConv*(CL$10*Analyzer!$E$5)/(Analyzer!$J$6*336)),0)","v":297.91357239526258},{"$f":"IF(ShowB,IF(ISERROR((CM$10*Analyzer!$E$5)/(Analyzer!$J$6*336)),0,SpeedConv*(CM$10*Analyzer!$E$5)/(Analyzer!$J$6*336)),0)","v":301.18734791608966},{"$f":"IF(ShowB,IF(ISERROR((CN$10*Analyzer!$E$5)/(Analyzer!$J$6*336)),0,SpeedConv*(CN$10*Analyzer!$E$5)/(Analyzer!$J$6*336)),0)","v":304.46112343691669},{"$f":"IF(ShowB,IF(ISERROR((CO$10*Analyzer!$E$5)/(Analyzer!$J$6*336)),0,SpeedConv*(CO$10*Analyzer!$E$5)/(Analyzer!$J$6*336)),0)","v":307.73489895774378},{"$f":"IF(ShowB,IF(ISERROR((CP$10*Analyzer!$E$5)/(Analyzer!$J$6*336)),0,SpeedConv*(CP$10*Analyzer!$E$5)/(Analyzer!$J$6*336)),0)","v":311.00867447857081},{"$f":"IF(ShowB,IF(ISERROR((CQ$10*Analyzer!$E$5)/(Analyzer!$J$6*336)),0,SpeedConv*(CQ$10*Analyzer!$E$5)/(Analyzer!$J$6*336)),0)","v":314.2824499993979},{"$f":"IF(ShowB,IF(ISERROR((CR$10*Analyzer!$E$5)/(Analyzer!$J$6*336)),0,SpeedConv*(CR$10*Analyzer!$E$5)/(Analyzer!$J$6*336)),0)","v":317.55622552022498},{"$f":"IF(ShowB,IF(ISERROR((CS$10*Analyzer!$E$5)/(Analyzer!$J$6*336)),0,SpeedConv*(CS$10*Analyzer!$E$5)/(Analyzer!$J$6*336)),0)","v":320.83000104105201},{"$f":"IF(ShowB,IF(ISERROR((CT$10*Analyzer!$E$5)/(Analyzer!$J$6*336)),0,SpeedConv*(CT$10*Analyzer!$E$5)/(Analyzer!$J$6*336)),0)","v":324.1037765618791},{"$f":"IF(ShowB,IF(ISERROR((CU$10*Analyzer!$E$5)/(Analyzer!$J$6*336)),0,SpeedConv*(CU$10*Analyzer!$E$5)/(Analyzer!$J$6*336)),0)","v":327.37755208270613}]
["B-5th",{"$f":"IF(ShowB,IF(ISERROR((B$10*Analyzer!$E$5)/(Analyzer!$J$7*336)),0,SpeedConv*(B$10*Analyzer!$E$5)/(Analyzer!$J$7*336)),0)","v":12.402995177898497},{"$f":"IF(ShowB,IF(ISERROR((C$10*Analyzer!$E$5)/(Analyzer!$J$7*336)),0,SpeedConv*(C$10*Analyzer!$E$5)/(Analyzer!$J$7*336)),0)","v":16.537326903864663},{"$f":"IF(ShowB,IF(ISERROR((D$10*Analyzer!$E$5)/(Analyzer!$J$7*336)),0,SpeedConv*(D$10*Analyzer!$E$5)/(Analyzer!$J$7*336)),0)","v":20.67165862983083},{"$f":"IF(ShowB,IF(ISERROR((E$10*Analyzer!$E$5)/(Analyzer!$J$7*336)),0,SpeedConv*(E$10*Analyzer!$E$5)/(Analyzer!$J$7*336)),0)","v":24.805990355796993},{"$f":"IF(ShowB,IF(ISERROR((F$10*Analyzer!$E$5)/(Analyzer!$J$7*336)),0,SpeedConv*(F$10*Analyzer!$E$5)/(Analyzer!$J$7*336)),0)","v":28.94032208176316},{"$f":"IF(ShowB,IF(ISERROR((G$10*Analyzer!$E$5)/(Analyzer!$J$7*336)),0,SpeedConv*(G$10*Analyzer!$E$5)/(Analyzer!$J$7*336)),0)","v":33.074653807729327},{"$f":"IF(ShowB,IF(ISERROR((H$10*Analyzer!$E$5)/(Analyzer!$J$7*336)),0,SpeedConv*(H$10*Analyzer!$E$5)/(Analyzer!$J$7*336)),0)","v":37.20898553369549},{"$f":"IF(ShowB,IF(ISERROR((I$10*Analyzer!$E$5)/(Analyzer!$J$7*336)),0,SpeedConv*(I$10*Analyzer!$E$5)/(Analyzer!$J$7*336)),0)","v":41.34331725966166},{"$f":"IF(ShowB,IF(ISERROR((J$10*Analyzer!$E$5)/(Analyzer!$J$7*336)),0,SpeedConv*(J$10*Analyzer!$E$5)/(Analyzer!$J$7*336)),0)","v":45.477648985627823},{"$f":"IF(ShowB,IF(ISERROR((K$10*Analyzer!$E$5)/(Analyzer!$J$7*336)),0,SpeedConv*(K$10*Analyzer!$E$5)/(Analyzer!$J$7*336)),0)","v":49.611980711593986},{"$f":"IF(ShowB,IF(ISERROR((L$10*Analyzer!$E$5)/(Analyzer!$J$7*336)),0,SpeedConv*(L$10*Analyzer!$E$5)/(Analyzer!$J$7*336)),0)","v":53.746312437560157},{"$f":"IF(ShowB,IF(ISERROR((M$10*Analyzer!$E$5)/(Analyzer!$J$7*336)),0,SpeedConv*(M$10*Analyzer!$E$5)/(Analyzer!$J$7*336)),0)","v":57.88064416352632},{"$f":"IF(ShowB,IF(ISERROR((N$10*Analyzer!$E$5)/(Analyzer!$J$7*336)),0,SpeedConv*(N$10*Analyzer!$E$5)/(Analyzer!$J$7*336)),0)","v":62.014975889492483},{"$f":"IF(ShowB,IF(ISERROR((O$10*Analyzer!$E$5)/(Analyzer!$J$7*336)),0,SpeedConv*(O$10*Analyzer!$E$5)/(Analyzer!$J$7*336)),0)","v":66.149307615458653},{"$f":"IF(ShowB,IF(ISERROR((P$10*Analyzer!$E$5)/(Analyzer!$J$7*336)),0,SpeedConv*(P$10*Analyzer!$E$5)/(Analyzer!$J$7*336)),0)","v":70.283639341424816},{"$f":"IF(ShowB,IF(ISERROR((Q$10*Analyzer!$E$5)/(Analyzer!$J$7*336)),0,SpeedConv*(Q$10*Analyzer!$E$5)/(Analyzer!$J$7*336)),0)","v":74.41797106739098},{"$f":"IF(ShowB,IF(ISERROR((R$10*Analyzer!$E$5)/(Analyzer!$J$7*336)),0,SpeedConv*(R$10*Analyzer!$E$5)/(Analyzer!$J$7*336)),0)","v":78.552302793357143},{"$f":"IF(ShowB,IF(ISERROR((S$10*Analyzer!$E$5)/(Analyzer!$J$7*336)),0,SpeedConv*(S$10*Analyzer!$E$5)/(Analyzer!$J$7*336)),0)","v":82.68663451932332},{"$f":"IF(ShowB,IF(ISERROR((T$10*Analyzer!$E$5)/(Analyzer!$J$7*336)),0,SpeedConv*(T$10*Analyzer!$E$5)/(Analyzer!$J$7*336)),0)","v":86.820966245289483},{"$f":"IF(ShowB,IF(ISERROR((U$10*Analyzer!$E$5)/(Analyzer!$J$7*336)),0,SpeedConv*(U$10*Analyzer!$E$5)/(Analyzer!$J$7*336)),0)","v":90.955297971255646},{"$f":"IF(ShowB,IF(ISERROR((V$10*Analyzer!$E$5)/(Analyzer!$J$7*336)),0,SpeedConv*(V$10*Analyzer!$E$5)/(Analyzer!$J$7*336)),0)","v":95.08962969722181},{"$f":"IF(ShowB,IF(ISERROR((W$10*Analyzer!$E$5)/(Analyzer!$J$7*336)),0,SpeedConv*(W$10*Analyzer!$E$5)/(Analyzer!$J$7*336)),0)","v":99.223961423187973},{"$f":"IF(ShowB,IF(ISERROR((X$10*Analyzer!$E$5)/(Analyzer!$J$7*336)),0,SpeedConv*(X$10*Analyzer!$E$5)/(Analyzer!$J$7*336)),0)","v":103.35829314915415},{"$f":"IF(ShowB,IF(ISERROR((Y$10*Analyzer!$E$5)/(Analyzer!$J$7*336)),0,SpeedConv*(Y$10*Analyzer!$E$5)/(Analyzer!$J$7*336)),0)","v":107.49262487512031},{"$f":"IF(ShowB,IF(ISERROR((Z$10*Analyzer!$E$5)/(Analyzer!$J$7*336)),0,SpeedConv*(Z$10*Analyzer!$E$5)/(Analyzer!$J$7*336)),0)","v":111.62695660108648},{"$f":"IF(ShowB,IF(ISERROR((AA$10*Analyzer!$E$5)/(Analyzer!$J$7*336)),0,SpeedConv*(AA$10*Analyzer!$E$5)/(Analyzer!$J$7*336)),0)","v":115.76128832705264},{"$f":"IF(ShowB,IF(ISERROR((AB$10*Analyzer!$E$5)/(Analyzer!$J$7*336)),0,SpeedConv*(AB$10*Analyzer!$E$5)/(Analyzer!$J$7*336)),0)","v":119.8956200530188},{"$f":"IF(ShowB,IF(ISERROR((AC$10*Analyzer!$E$5)/(Analyzer!$J$7*336)),0,SpeedConv*(AC$10*Analyzer!$E$5)/(Analyzer!$J$7*336)),0)","v":124.02995177898497},{"$f":"IF(ShowB,IF(ISERROR((AD$10*Analyzer!$E$5)/(Analyzer!$J$7*336)),0,SpeedConv*(AD$10*Analyzer!$E$5)/(Analyzer!$J$7*336)),0)","v":128.16428350495113},{"$f":"IF(ShowB,IF(ISERROR((AE$10*Analyzer!$E$5)/(Analyzer!$J$7*336)),0,SpeedConv*(AE$10*Analyzer!$E$5)/(Analyzer!$J$7*336)),0)","v":132.29861523091731},{"$f":"IF(ShowB,IF(ISERROR((AF$10*Analyzer!$E$5)/(Analyzer!$J$7*336)),0,SpeedConv*(AF$10*Analyzer!$E$5)/(Analyzer!$J$7*336)),0)","v":136.43294695688348},{"$f":"IF(ShowB,IF(ISERROR((AG$10*Analyzer!$E$5)/(Analyzer!$J$7*336)),0,SpeedConv*(AG$10*Analyzer!$E$5)/(Analyzer!$J$7*336)),0)","v":140.56727868284963},{"$f":"IF(ShowB,IF(ISERROR((AH$10*Analyzer!$E$5)/(Analyzer!$J$7*336)),0,SpeedConv*(AH$10*Analyzer!$E$5)/(Analyzer!$J$7*336)),0)","v":144.70161040881581},{"$f":"IF(ShowB,IF(ISERROR((AI$10*Analyzer!$E$5)/(Analyzer!$J$7*336)),0,SpeedConv*(AI$10*Analyzer!$E$5)/(Analyzer!$J$7*336)),0)","v":148.83594213478196},{"$f":"IF(ShowB,IF(ISERROR((AJ$10*Analyzer!$E$5)/(Analyzer!$J$7*336)),0,SpeedConv*(AJ$10*Analyzer!$E$5)/(Analyzer!$J$7*336)),0)","v":152.97027386074814},{"$f":"IF(ShowB,IF(ISERROR((AK$10*Analyzer!$E$5)/(Analyzer!$J$7*336)),0,SpeedConv*(AK$10*Analyzer!$E$5)/(Analyzer!$J$7*336)),0)","v":157.10460558671429},{"$f":"IF(ShowB,IF(ISERROR((AL$10*Analyzer!$E$5)/(Analyzer!$J$7*336)),0,SpeedConv*(AL$10*Analyzer!$E$5)/(Analyzer!$J$7*336)),0)","v":161.23893731268046},{"$f":"IF(ShowB,IF(ISERROR((AM$10*Analyzer!$E$5)/(Analyzer!$J$7*336)),0,SpeedConv*(AM$10*Analyzer!$E$5)/(Analyzer!$J$7*336)),0)","v":165.37326903864664},{"$f":"IF(ShowB,IF(ISERROR((AN$10*Analyzer!$E$5)/(Analyzer!$J$7*336)),0,SpeedConv*(AN$10*Analyzer!$E$5)/(Analyzer!$J$7*336)),0)","v":169.50760076461279},{"$f":"IF(ShowB,IF(ISERROR((AO$10*Analyzer!$E$5)/(Analyzer!$J$7*336)),0,SpeedConv*(AO$10*Analyzer!$E$5)/(Analyzer!$J$7*336)),0)","v":173.64193249057897},{"$f":"IF(ShowB,IF(ISERROR((AP$10*Analyzer!$E$5)/(Analyzer!$J$7*336)),0,SpeedConv*(AP$10*Analyzer!$E$5)/(Analyzer!$J$7*336)),0)","v":177.77626421654512},{"$f":"IF(ShowB,IF(ISERROR((AQ$10*Analyzer!$E$5)/(Analyzer!$J$7*336)),0,SpeedConv*(AQ$10*Analyzer!$E$5)/(Analyzer!$J$7*336)),0)","v":181.91059594251129},{"$f":"IF(ShowB,IF(ISERROR((AR$10*Analyzer!$E$5)/(Analyzer!$J$7*336)),0,SpeedConv*(AR$10*Analyzer!$E$5)/(Analyzer!$J$7*336)),0)","v":186.04492766847747},{"$f":"IF(ShowB,IF(ISERROR((AS$10*Analyzer!$E$5)/(Analyzer!$J$7*336)),0,SpeedConv*(AS$10*Analyzer!$E$5)/(Analyzer!$J$7*336)),0)","v":190.17925939444362},{"$f":"IF(ShowB,IF(ISERROR((AT$10*Analyzer!$E$5)/(Analyzer!$J$7*336)),0,SpeedConv*(AT$10*Analyzer!$E$5)/(Analyzer!$J$7*336)),0)","v":194.3135911204098},{"$f":"IF(ShowB,IF(ISERROR((AU$10*Analyzer!$E$5)/(Analyzer!$J$7*336)),0,SpeedConv*(AU$10*Analyzer!$E$5)/(Analyzer!$J$7*336)),0)","v":198.44792284637595},{"$f":"IF(ShowB,IF(ISERROR((AV$10*Analyzer!$E$5)/(Analyzer!$J$7*336)),0,SpeedConv*(AV$10*Analyzer!$E$5)/(Analyzer!$J$7*336)),0)","v":202.58225457234212},{"$f":"IF(ShowB,IF(ISERROR((AW$10*Analyzer!$E$5)/(Analyzer!$J$7*336)),0,SpeedConv*(AW$10*Analyzer!$E$5)/(Analyzer!$J$7*336)),0)","v":206.7165862983083},{"$f":"IF(ShowB,IF(ISERROR((AX$10*Analyzer!$E$5)/(Analyzer!$J$7*336)),0,SpeedConv*(AX$10*Analyzer!$E$5)/(Analyzer!$J$7*336)),0)","v":210.85091802427445},{"$f":"IF(ShowB,IF(ISERROR((AY$10*Analyzer!$E$5)/(Analyzer!$J$7*336)),0,SpeedConv*(AY$10*Analyzer!$E$5)/(Analyzer!$J$7*336)),0)","v":214.98524975024063},{"$f":"IF(ShowB,IF(ISERROR((AZ$10*Analyzer!$E$5)/(Analyzer!$J$7*336)),0,SpeedConv*(AZ$10*Analyzer!$E$5)/(Analyzer!$J$7*336)),0)","v":219.11958147620678},{"$f":"IF(ShowB,IF(ISERROR((BA$10*Analyzer!$E$5)/(Analyzer!$J$7*336)),0,SpeedConv*(BA$10*Analyzer!$E$5)/(Analyzer!$J$7*336)),0)","v":223.25391320217295},{"$f":"IF(ShowB,IF(ISERROR((BB$10*Analyzer!$E$5)/(Analyzer!$J$7*336)),0,SpeedConv*(BB$10*Analyzer!$E$5)/(Analyzer!$J$7*336)),0)","v":227.38824492813913},{"$f":"IF(ShowB,IF(ISERROR((BC$10*Analyzer!$E$5)/(Analyzer!$J$7*336)),0,SpeedConv*(BC$10*Analyzer!$E$5)/(Analyzer!$J$7*336)),0)","v":231.52257665410528},{"$f":"IF(ShowB,IF(ISERROR((BD$10*Analyzer!$E$5)/(Analyzer!$J$7*336)),0,SpeedConv*(BD$10*Analyzer!$E$5)/(Analyzer!$J$7*336)),0)","v":235.65690838007146},{"$f":"IF(ShowB,IF(ISERROR((BE$10*Analyzer!$E$5)/(Analyzer!$J$7*336)),0,SpeedConv*(BE$10*Analyzer!$E$5)/(Analyzer!$J$7*336)),0)","v":239.79124010603761},{"$f":"IF(ShowB,IF(ISERROR((BF$10*Analyzer!$E$5)/(Analyzer!$J$7*336)),0,SpeedConv*(BF$10*Analyzer!$E$5)/(Analyzer!$J$7*336)),0)","v":243.92557183200378},{"$f":"IF(ShowB,IF(ISERROR((BG$10*Analyzer!$E$5)/(Analyzer!$J$7*336)),0,SpeedConv*(BG$10*Analyzer!$E$5)/(Analyzer!$J$7*336)),0)","v":248.05990355796993},{"$f":"IF(ShowB,IF(ISERROR((BH$10*Analyzer!$E$5)/(Analyzer!$J$7*336)),0,SpeedConv*(BH$10*Analyzer!$E$5)/(Analyzer!$J$7*336)),0)","v":252.19423528393611},{"$f":"IF(ShowB,IF(ISERROR((BI$10*Analyzer!$E$5)/(Analyzer!$J$7*336)),0,SpeedConv*(BI$10*Analyzer!$E$5)/(Analyzer!$J$7*336)),0)","v":256.32856700990226},{"$f":"IF(ShowB,IF(ISERROR((BJ$10*Analyzer!$E$5)/(Analyzer!$J$7*336)),0,SpeedConv*(BJ$10*Analyzer!$E$5)/(Analyzer!$J$7*336)),0)","v":260.46289873586846},{"$f":"IF(ShowB,IF(ISERROR((BK$10*Analyzer!$E$5)/(Analyzer!$J$7*336)),0,SpeedConv*(BK$10*Analyzer!$E$5)/(Analyzer!$J$7*336)),0)","v":264.59723046183461},{"$f":"IF(ShowB,IF(ISERROR((BL$10*Analyzer!$E$5)/(Analyzer!$J$7*336)),0,SpeedConv*(BL$10*Analyzer!$E$5)/(Analyzer!$J$7*336)),0)","v":268.73156218780076},{"$f":"IF(ShowB,IF(ISERROR((BM$10*Analyzer!$E$5)/(Analyzer!$J$7*336)),0,SpeedConv*(BM$10*Analyzer!$E$5)/(Analyzer!$J$7*336)),0)","v":272.86589391376697},{"$f":"IF(ShowB,IF(ISERROR((BN$10*Analyzer!$E$5)/(Analyzer!$J$7*336)),0,SpeedConv*(BN$10*Analyzer!$E$5)/(Analyzer!$J$7*336)),0)","v":277.00022563973312},{"$f":"IF(ShowB,IF(ISERROR((BO$10*Analyzer!$E$5)/(Analyzer!$J$7*336)),0,SpeedConv*(BO$10*Analyzer!$E$5)/(Analyzer!$J$7*336)),0)","v":281.13455736569927},{"$f":"IF(ShowB,IF(ISERROR((BP$10*Analyzer!$E$5)/(Analyzer!$J$7*336)),0,SpeedConv*(BP$10*Analyzer!$E$5)/(Analyzer!$J$7*336)),0)","v":285.26888909166541},{"$f":"IF(ShowB,IF(ISERROR((BQ$10*Analyzer!$E$5)/(Analyzer!$J$7*336)),0,SpeedConv*(BQ$10*Analyzer!$E$5)/(Analyzer!$J$7*336)),0)","v":289.40322081763162},{"$f":"IF(ShowB,IF(ISERROR((BR$10*Analyzer!$E$5)/(Analyzer!$J$7*336)),0,SpeedConv*(BR$10*Analyzer!$E$5)/(Analyzer!$J$7*336)),0)","v":293.53755254359777},{"$f":"IF(ShowB,IF(ISERROR((BS$10*Analyzer!$E$5)/(Analyzer!$J$7*336)),0,SpeedConv*(BS$10*Analyzer!$E$5)/(Analyzer!$J$7*336)),0)","v":297.67188426956392},{"$f":"IF(ShowB,IF(ISERROR((BT$10*Analyzer!$E$5)/(Analyzer!$J$7*336)),0,SpeedConv*(BT$10*Analyzer!$E$5)/(Analyzer!$J$7*336)),0)","v":301.80621599553012},{"$f":"IF(ShowB,IF(ISERROR((BU$10*Analyzer!$E$5)/(Analyzer!$J$7*336)),0,SpeedConv*(BU$10*Analyzer!$E$5)/(Analyzer!$J$7*336)),0)","v":305.94054772149627},{"$f":"IF(ShowB,IF(ISERROR((BV$10*Analyzer!$E$5)/(Analyzer!$J$7*336)),0,SpeedConv*(BV$10*Analyzer!$E$5)/(Analyzer!$J$7*336)),0)","v":310.07487944746242},{"$f":"IF(ShowB,IF(ISERROR((BW$10*Analyzer!$E$5)/(Analyzer!$J$7*336)),0,SpeedConv*(BW$10*Analyzer!$E$5)/(Analyzer!$J$7*336)),0)","v":314.20921117342857},{"$f":"IF(ShowB,IF(ISERROR((BX$10*Analyzer!$E$5)/(Analyzer!$J$7*336)),0,SpeedConv*(BX$10*Analyzer!$E$5)/(Analyzer!$J$7*336)),0)","v":318.34354289939478},{"$f":"IF(ShowB,IF(ISERROR((BY$10*Analyzer!$E$5)/(Analyzer!$J$7*336)),0,SpeedConv*(BY$10*Analyzer!$E$5)/(Analyzer!$J$7*336)),0)","v":322.47787462536093},{"$f":"IF(ShowB,IF(ISERROR((BZ$10*Analyzer!$E$5)/(Analyzer!$J$7*336)),0,SpeedConv*(BZ$10*Analyzer!$E$5)/(Analyzer!$J$7*336)),0)","v":326.61220635132707},{"$f":"IF(ShowB,IF(ISERROR((CA$10*Analyzer!$E$5)/(Analyzer!$J$7*336)),0,SpeedConv*(CA$10*Analyzer!$E$5)/(Analyzer!$J$7*336)),0)","v":330.74653807729328},{"$f":"IF(ShowB,IF(ISERROR((CB$10*Analyzer!$E$5)/(Analyzer!$J$7*336)),0,SpeedConv*(CB$10*Analyzer!$E$5)/(Analyzer!$J$7*336)),0)","v":334.88086980325943},{"$f":"IF(ShowB,IF(ISERROR((CC$10*Analyzer!$E$5)/(Analyzer!$J$7*336)),0,SpeedConv*(CC$10*Analyzer!$E$5)/(Analyzer!$J$7*336)),0)","v":339.01520152922558},{"$f":"IF(ShowB,IF(ISERROR((CD$10*Analyzer!$E$5)/(Analyzer!$J$7*336)),0,SpeedConv*(CD$10*Analyzer!$E$5)/(Analyzer!$J$7*336)),0)","v":343.14953325519178},{"$f":"IF(ShowB,IF(ISERROR((CE$10*Analyzer!$E$5)/(Analyzer!$J$7*336)),0,SpeedConv*(CE$10*Analyzer!$E$5)/(Analyzer!$J$7*336)),0)","v":347.28386498115793},{"$f":"IF(ShowB,IF(ISERROR((CF$10*Analyzer!$E$5)/(Analyzer!$J$7*336)),0,SpeedConv*(CF$10*Analyzer!$E$5)/(Analyzer!$J$7*336)),0)","v":351.41819670712408},{"$f":"IF(ShowB,IF(ISERROR((CG$10*Analyzer!$E$5)/(Analyzer!$J$7*336)),0,SpeedConv*(CG$10*Analyzer!$E$5)/(Analyzer!$J$7*336)),0)","v":355.55252843309023},{"$f":"IF(ShowB,IF(ISERROR((CH$10*Analyzer!$E$5)/(Analyzer!$J$7*336)),0,SpeedConv*(CH$10*Analyzer!$E$5)/(Analyzer!$J$7*336)),0)","v":359.68686015905644},{"$f":"IF(ShowB,IF(ISERROR((CI$10*Analyzer!$E$5)/(Analyzer!$J$7*336)),0,SpeedConv*(CI$10*Analyzer!$E$5)/(Analyzer!$J$7*336)),0)","v":363.82119188502259},{"$f":"IF(ShowB,IF(ISERROR((CJ$10*Analyzer!$E$5)/(Analyzer!$J$7*336)),0,SpeedConv*(CJ$10*Analyzer!$E$5)/(Analyzer!$J$7*336)),0)","v":367.95552361098873},{"$f":"IF(ShowB,IF(ISERROR((CK$10*Analyzer!$E$5)/(Analyzer!$J$7*336)),0,SpeedConv*(CK$10*Analyzer!$E$5)/(Analyzer!$J$7*336)),0)","v":372.08985533695494},{"$f":"IF(ShowB,IF(ISERROR((CL$10*Analyzer!$E$5)/(Analyzer!$J$7*336)),0,SpeedConv*(CL$10*Analyzer!$E$5)/(Analyzer!$J$7*336)),0)","v":376.22418706292109},{"$f":"IF(ShowB,IF(ISERROR((CM$10*Analyzer!$E$5)/(Analyzer!$J$7*336)),0,SpeedConv*(CM$10*Analyzer!$E$5)/(Analyzer!$J$7*336)),0)","v":380.35851878888724},{"$f":"IF(ShowB,IF(ISERROR((CN$10*Analyzer!$E$5)/(Analyzer!$J$7*336)),0,SpeedConv*(CN$10*Analyzer!$E$5)/(Analyzer!$J$7*336)),0)","v":384.49285051485344},{"$f":"IF(ShowB,IF(ISERROR((CO$10*Analyzer!$E$5)/(Analyzer!$J$7*336)),0,SpeedConv*(CO$10*Analyzer!$E$5)/(Analyzer!$J$7*336)),0)","v":388.62718224081959},{"$f":"IF(ShowB,IF(ISERROR((CP$10*Analyzer!$E$5)/(Analyzer!$J$7*336)),0,SpeedConv*(CP$10*Analyzer!$E$5)/(Analyzer!$J$7*336)),0)","v":392.76151396678574},{"$f":"IF(ShowB,IF(ISERROR((CQ$10*Analyzer!$E$5)/(Analyzer!$J$7*336)),0,SpeedConv*(CQ$10*Analyzer!$E$5)/(Analyzer!$J$7*336)),0)","v":396.89584569275189},{"$f":"IF(ShowB,IF(ISERROR((CR$10*Analyzer!$E$5)/(Analyzer!$J$7*336)),0,SpeedConv*(CR$10*Analyzer!$E$5)/(Analyzer!$J$7*336)),0)","v":401.0301774187181},{"$f":"IF(ShowB,IF(ISERROR((CS$10*Analyzer!$E$5)/(Analyzer!$J$7*336)),0,SpeedConv*(CS$10*Analyzer!$E$5)/(Analyzer!$J$7*336)),0)","v":405.16450914468425},{"$f":"IF(ShowB,IF(ISERROR((CT$10*Analyzer!$E$5)/(Analyzer!$J$7*336)),0,SpeedConv*(CT$10*Analyzer!$E$5)/(Analyzer!$J$7*336)),0)","v":409.29884087065039},{"$f":"IF(ShowB,IF(ISERROR((CU$10*Analyzer!$E$5)/(Analyzer!$J$7*336)),0,SpeedConv*(CU$10*Analyzer!$E$5)/(Analyzer!$J$7*336)),0)","v":413.4331725966166}]
["B-6th",{"$f":"IF(ShowB,IF(ISERROR((B$10*Analyzer!$E$5)/(Analyzer!$J$8*336)),0,SpeedConv*(B$10*Analyzer!$E$5)/(Analyzer!$J$8*336)),0)","v":0},{"$f":"IF(ShowB,IF(ISERROR((C$10*Analyzer!$E$5)/(Analyzer!$J$8*336)),0,SpeedConv*(C$10*Analyzer!$E$5)/(Analyzer!$J$8*336)),0)","v":0},{"$f":"IF(ShowB,IF(ISERROR((D$10*Analyzer!$E$5)/(Analyzer!$J$8*336)),0,SpeedConv*(D$10*Analyzer!$E$5)/(Analyzer!$J$8*336)),0)","v":0},{"$f":"IF(ShowB,IF(ISERROR((E$10*Analyzer!$E$5)/(Analyzer!$J$8*336)),0,SpeedConv*(E$10*Analyzer!$E$5)/(Analyzer!$J$8*336)),0)","v":0},{"$f":"IF(ShowB,IF(ISERROR((F$10*Analyzer!$E$5)/(Analyzer!$J$8*336)),0,SpeedConv*(F$10*Analyzer!$E$5)/(Analyzer!$J$8*336)),0)","v":0},{"$f":"IF(ShowB,IF(ISERROR((G$10*Analyzer!$E$5)/(Analyzer!$J$8*336)),0,SpeedConv*(G$10*Analyzer!$E$5)/(Analyzer!$J$8*336)),0)","v":0},{"$f":"IF(ShowB,IF(ISERROR((H$10*Analyzer!$E$5)/(Analyzer!$J$8*336)),0,SpeedConv*(H$10*Analyzer!$E$5)/(Analyzer!$J$8*336)),0)","v":0},{"$f":"IF(ShowB,IF(ISERROR((I$10*Analyzer!$E$5)/(Analyzer!$J$8*336)),0,SpeedConv*(I$10*Analyzer!$E$5)/(Analyzer!$J$8*336)),0)","v":0},{"$f":"IF(ShowB,IF(ISERROR((J$10*Analyzer!$E$5)/(Analyzer!$J$8*336)),0,SpeedConv*(J$10*Analyzer!$E$5)/(Analyzer!$J$8*336)),0)","v":0},{"$f":"IF(ShowB,IF(ISERROR((K$10*Analyzer!$E$5)/(Analyzer!$J$8*336)),0,SpeedConv*(K$10*Analyzer!$E$5)/(Analyzer!$J$8*336)),0)","v":0},{"$f":"IF(ShowB,IF(ISERROR((L$10*Analyzer!$E$5)/(Analyzer!$J$8*336)),0,SpeedConv*(L$10*Analyzer!$E$5)/(Analyzer!$J$8*336)),0)","v":0},{"$f":"IF(ShowB,IF(ISERROR((M$10*Analyzer!$E$5)/(Analyzer!$J$8*336)),0,SpeedConv*(M$10*Analyzer!$E$5)/(Analyzer!$J$8*336)),0)","v":0},{"$f":"IF(ShowB,IF(ISERROR((N$10*Analyzer!$E$5)/(Analyzer!$J$8*336)),0,SpeedConv*(N$10*Analyzer!$E$5)/(Analyzer!$J$8*336)),0)","v":0},{"$f":"IF(ShowB,IF(ISERROR((O$10*Analyzer!$E$5)/(Analyzer!$J$8*336)),0,SpeedConv*(O$10*Analyzer!$E$5)/(Analyzer!$J$8*336)),0)","v":0},{"$f":"IF(ShowB,IF(ISERROR((P$10*Analyzer!$E$5)/(Analyzer!$J$8*336)),0,SpeedConv*(P$10*Analyzer!$E$5)/(Analyzer!$J$8*336)),0)","v":0},{"$f":"IF(ShowB,IF(ISERROR((Q$10*Analyzer!$E$5)/(Analyzer!$J$8*336)),0,SpeedConv*(Q$10*Analyzer!$E$5)/(Analyzer!$J$8*336)),0)","v":0},{"$f":"IF(ShowB,IF(ISERROR((R$10*Analyzer!$E$5)/(Analyzer!$J$8*336)),0,SpeedConv*(R$10*Analyzer!$E$5)/(Analyzer!$J$8*336)),0)","v":0},{"$f":"IF(ShowB,IF(ISERROR((S$10*Analyzer!$E$5)/(Analyzer!$J$8*336)),0,SpeedConv*(S$10*Analyzer!$E$5)/(Analyzer!$J$8*336)),0)","v":0},{"$f":"IF(ShowB,IF(ISERROR((T$10*Analyzer!$E$5)/(Analyzer!$J$8*336)),0,SpeedConv*(T$10*Analyzer!$E$5)/(Analyzer!$J$8*336)),0)","v":0},{"$f":"IF(ShowB,IF(ISERROR((U$10*Analyzer!$E$5)/(Analyzer!$J$8*336)),0,SpeedConv*(U$10*Analyzer!$E$5)/(Analyzer!$J$8*336)),0)","v":0},{"$f":"IF(ShowB,IF(ISERROR((V$10*Analyzer!$E$5)/(Analyzer!$J$8*336)),0,SpeedConv*(V$10*Analyzer!$E$5)/(Analyzer!$J$8*336)),0)","v":0},{"$f":"IF(ShowB,IF(ISERROR((W$10*Analyzer!$E$5)/(Analyzer!$J$8*336)),0,SpeedConv*(W$10*Analyzer!$E$5)/(Analyzer!$J$8*336)),0)","v":0},{"$f":"IF(ShowB,IF(ISERROR((X$10*Analyzer!$E$5)/(Analyzer!$J$8*336)),0,SpeedConv*(X$10*Analyzer!$E$5)/(Analyzer!$J$8*336)),0)","v":0},{"$f":"IF(ShowB,IF(ISERROR((Y$10*Analyzer!$E$5)/(Analyzer!$J$8*336)),0,SpeedConv*(Y$10*Analyzer!$E$5)/(Analyzer!$J$8*336)),0)","v":0},{"$f":"IF(ShowB,IF(ISERROR((Z$10*Analyzer!$E$5)/(Analyzer!$J$8*336)),0,SpeedConv*(Z$10*Analyzer!$E$5)/(Analyzer!$J$8*336)),0)","v":0},{"$f":"IF(ShowB,IF(ISERROR((AA$10*Analyzer!$E$5)/(Analyzer!$J$8*336)),0,SpeedConv*(AA$10*Analyzer!$E$5)/(Analyzer!$J$8*336)),0)","v":0},{"$f":"IF(ShowB,IF(ISERROR((AB$10*Analyzer!$E$5)/(Analyzer!$J$8*336)),0,SpeedConv*(AB$10*Analyzer!$E$5)/(Analyzer!$J$8*336)),0)","v":0},{"$f":"IF(ShowB,IF(ISERROR((AC$10*Analyzer!$E$5)/(Analyzer!$J$8*336)),0,SpeedConv*(AC$10*Analyzer!$E$5)/(Analyzer!$J$8*336)),0)","v":0},{"$f":"IF(ShowB,IF(ISERROR((AD$10*Analyzer!$E$5)/(Analyzer!$J$8*336)),0,SpeedConv*(AD$10*Analyzer!$E$5)/(Analyzer!$J$8*336)),0)","v":0},{"$f":"IF(ShowB,IF(ISERROR((AE$10*Analyzer!$E$5)/(Analyzer!$J$8*336)),0,SpeedConv*(AE$10*Analyzer!$E$5)/(Analyzer!$J$8*336)),0)","v":0},{"$f":"IF(ShowB,IF(ISERROR((AF$10*Analyzer!$E$5)/(Analyzer!$J$8*336)),0,SpeedConv*(AF$10*Analyzer!$E$5)/(Analyzer!$J$8*336)),0)","v":0},{"$f":"IF(ShowB,IF(ISERROR((AG$10*Analyzer!$E$5)/(Analyzer!$J$8*336)),0,SpeedConv*(AG$10*Analyzer!$E$5)/(Analyzer!$J$8*336)),0)","v":0},{"$f":"IF(ShowB,IF(ISERROR((AH$10*Analyzer!$E$5)/(Analyzer!$J$8*336)),0,SpeedConv*(AH$10*Analyzer!$E$5)/(Analyzer!$J$8*336)),0)","v":0},{"$f":"IF(ShowB,IF(ISERROR((AI$10*Analyzer!$E$5)/(Analyzer!$J$8*336)),0,SpeedConv*(AI$10*Analyzer!$E$5)/(Analyzer!$J$8*336)),0)","v":0},{"$f":"IF(ShowB,IF(ISERROR((AJ$10*Analyzer!$E$5)/(Analyzer!$J$8*336)),0,SpeedConv*(AJ$10*Analyzer!$E$5)/(Analyzer!$J$8*336)),0)","v":0},{"$f":"IF(ShowB,IF(ISERROR((AK$10*Analyzer!$E$5)/(Analyzer!$J$8*336)),0,SpeedConv*(AK$10*Analyzer!$E$5)/(Analyzer!$J$8*336)),0)","v":0},{"$f":"IF(ShowB,IF(ISERROR((AL$10*Analyzer!$E$5)/(Analyzer!$J$8*336)),0,SpeedConv*(AL$10*Analyzer!$E$5)/(Analyzer!$J$8*336)),0)","v":0},{"$f":"IF(ShowB,IF(ISERROR((AM$10*Analyzer!$E$5)/(Analyzer!$J$8*336)),0,SpeedConv*(AM$10*Analyzer!$E$5)/(Analyzer!$J$8*336)),0)","v":0},{"$f":"IF(ShowB,IF(ISERROR((AN$10*Analyzer!$E$5)/(Analyzer!$J$8*336)),0,SpeedConv*(AN$10*Analyzer!$E$5)/(Analyzer!$J$8*336)),0)","v":0},{"$f":"IF(ShowB,IF(ISERROR((AO$10*Analyzer!$E$5)/(Analyzer!$J$8*336)),0,SpeedConv*(AO$10*Analyzer!$E$5)/(Analyzer!$J$8*336)),0)","v":0},{"$f":"IF(ShowB,IF(ISERROR((AP$10*Analyzer!$E$5)/(Analyzer!$J$8*336)),0,SpeedConv*(AP$10*Analyzer!$E$5)/(Analyzer!$J$8*336)),0)","v":0},{"$f":"IF(ShowB,IF(ISERROR((AQ$10*Analyzer!$E$5)/(Analyzer!$J$8*336)),0,SpeedConv*(AQ$10*Analyzer!$E$5)/(Analyzer!$J$8*336)),0)","v":0},{"$f":"IF(ShowB,IF(ISERROR((AR$10*Analyzer!$E$5)/(Analyzer!$J$8*336)),0,SpeedConv*(AR$10*Analyzer!$E$5)/(Analyzer!$J$8*336)),0)","v":0},{"$f":"IF(ShowB,IF(ISERROR((AS$10*Analyzer!$E$5)/(Analyzer!$J$8*336)),0,SpeedConv*(AS$10*Analyzer!$E$5)/(Analyzer!$J$8*336)),0)","v":0},{"$f":"IF(ShowB,IF(ISERROR((AT$10*Analyzer!$E$5)/(Analyzer!$J$8*336)),0,SpeedConv*(AT$10*Analyzer!$E$5)/(Analyzer!$J$8*336)),0)","v":0},{"$f":"IF(ShowB,IF(ISERROR((AU$10*Analyzer!$E$5)/(Analyzer!$J$8*336)),0,SpeedConv*(AU$10*Analyzer!$E$5)/(Analyzer!$J$8*336)),0)","v":0},{"$f":"IF(ShowB,IF(ISERROR((AV$10*Analyzer!$E$5)/(Analyzer!$J$8*336)),0,SpeedConv*(AV$10*Analyzer!$E$5)/(Analyzer!$J$8*336)),0)","v":0},{"$f":"IF(ShowB,IF(ISERROR((AW$10*Analyzer!$E$5)/(Analyzer!$J$8*336)),0,SpeedConv*(AW$10*Analyzer!$E$5)/(Analyzer!$J$8*336)),0)","v":0},{"$f":"IF(ShowB,IF(ISERROR((AX$10*Analyzer!$E$5)/(Analyzer!$J$8*336)),0,SpeedConv*(AX$10*Analyzer!$E$5)/(Analyzer!$J$8*336)),0)","v":0},{"$f":"IF(ShowB,IF(ISERROR((AY$10*Analyzer!$E$5)/(Analyzer!$J$8*336)),0,SpeedConv*(AY$10*Analyzer!$E$5)/(Analyzer!$J$8*336)),0)","v":0},{"$f":"IF(ShowB,IF(ISERROR((AZ$10*Analyzer!$E$5)/(Analyzer!$J$8*336)),0,SpeedConv*(AZ$10*Analyzer!$E$5)/(Analyzer!$J$8*336)),0)","v":0},{"$f":"IF(ShowB,IF(ISERROR((BA$10*Analyzer!$E$5)/(Analyzer!$J$8*336)),0,SpeedConv*(BA$10*Analyzer!$E$5)/(Analyzer!$J$8*336)),0)","v":0},{"$f":"IF(ShowB,IF(ISERROR((BB$10*Analyzer!$E$5)/(Analyzer!$J$8*336)),0,SpeedConv*(BB$10*Analyzer!$E$5)/(Analyzer!$J$8*336)),0)","v":0},{"$f":"IF(ShowB,IF(ISERROR((BC$10*Analyzer!$E$5)/(Analyzer!$J$8*336)),0,SpeedConv*(BC$10*Analyzer!$E$5)/(Analyzer!$J$8*336)),0)","v":0},{"$f":"IF(ShowB,IF(ISERROR((BD$10*Analyzer!$E$5)/(Analyzer!$J$8*336)),0,SpeedConv*(BD$10*Analyzer!$E$5)/(Analyzer!$J$8*336)),0)","v":0},{"$f":"IF(ShowB,IF(ISERROR((BE$10*Analyzer!$E$5)/(Analyzer!$J$8*336)),0,SpeedConv*(BE$10*Analyzer!$E$5)/(Analyzer!$J$8*336)),0)","v":0},{"$f":"IF(ShowB,IF(ISERROR((BF$10*Analyzer!$E$5)/(Analyzer!$J$8*336)),0,SpeedConv*(BF$10*Analyzer!$E$5)/(Analyzer!$J$8*336)),0)","v":0},{"$f":"IF(ShowB,IF(ISERROR((BG$10*Analyzer!$E$5)/(Analyzer!$J$8*336)),0,SpeedConv*(BG$10*Analyzer!$E$5)/(Analyzer!$J$8*336)),0)","v":0},{"$f":"IF(ShowB,IF(ISERROR((BH$10*Analyzer!$E$5)/(Analyzer!$J$8*336)),0,SpeedConv*(BH$10*Analyzer!$E$5)/(Analyzer!$J$8*336)),0)","v":0},{"$f":"IF(ShowB,IF(ISERROR((BI$10*Analyzer!$E$5)/(Analyzer!$J$8*336)),0,SpeedConv*(BI$10*Analyzer!$E$5)/(Analyzer!$J$8*336)),0)","v":0},{"$f":"IF(ShowB,IF(ISERROR((BJ$10*Analyzer!$E$5)/(Analyzer!$J$8*336)),0,SpeedConv*(BJ$10*Analyzer!$E$5)/(Analyzer!$J$8*336)),0)","v":0},{"$f":"IF(ShowB,IF(ISERROR((BK$10*Analyzer!$E$5)/(Analyzer!$J$8*336)),0,SpeedConv*(BK$10*Analyzer!$E$5)/(Analyzer!$J$8*336)),0)","v":0},{"$f":"IF(ShowB,IF(ISERROR((BL$10*Analyzer!$E$5)/(Analyzer!$J$8*336)),0,SpeedConv*(BL$10*Analyzer!$E$5)/(Analyzer!$J$8*336)),0)","v":0},{"$f":"IF(ShowB,IF(ISERROR((BM$10*Analyzer!$E$5)/(Analyzer!$J$8*336)),0,SpeedConv*(BM$10*Analyzer!$E$5)/(Analyzer!$J$8*336)),0)","v":0},{"$f":"IF(ShowB,IF(ISERROR((BN$10*Analyzer!$E$5)/(Analyzer!$J$8*336)),0,SpeedConv*(BN$10*Analyzer!$E$5)/(Analyzer!$J$8*336)),0)","v":0},{"$f":"IF(ShowB,IF(ISERROR((BO$10*Analyzer!$E$5)/(Analyzer!$J$8*336)),0,SpeedConv*(BO$10*Analyzer!$E$5)/(Analyzer!$J$8*336)),0)","v":0},{"$f":"IF(ShowB,IF(ISERROR((BP$10*Analyzer!$E$5)/(Analyzer!$J$8*336)),0,SpeedConv*(BP$10*Analyzer!$E$5)/(Analyzer!$J$8*336)),0)","v":0},{"$f":"IF(ShowB,IF(ISERROR((BQ$10*Analyzer!$E$5)/(Analyzer!$J$8*336)),0,SpeedConv*(BQ$10*Analyzer!$E$5)/(Analyzer!$J$8*336)),0)","v":0},{"$f":"IF(ShowB,IF(ISERROR((BR$10*Analyzer!$E$5)/(Analyzer!$J$8*336)),0,SpeedConv*(BR$10*Analyzer!$E$5)/(Analyzer!$J$8*336)),0)","v":0},{"$f":"IF(ShowB,IF(ISERROR((BS$10*Analyzer!$E$5)/(Analyzer!$J$8*336)),0,SpeedConv*(BS$10*Analyzer!$E$5)/(Analyzer!$J$8*336)),0)","v":0},{"$f":"IF(ShowB,IF(ISERROR((BT$10*Analyzer!$E$5)/(Analyzer!$J$8*336)),0,SpeedConv*(BT$10*Analyzer!$E$5)/(Analyzer!$J$8*336)),0)","v":0},{"$f":"IF(ShowB,IF(ISERROR((BU$10*Analyzer!$E$5)/(Analyzer!$J$8*336)),0,SpeedConv*(BU$10*Analyzer!$E$5)/(Analyzer!$J$8*336)),0)","v":0},{"$f":"IF(ShowB,IF(ISERROR((BV$10*Analyzer!$E$5)/(Analyzer!$J$8*336)),0,SpeedConv*(BV$10*Analyzer!$E$5)/(Analyzer!$J$8*336)),0)","v":0},{"$f":"IF(ShowB,IF(ISERROR((BW$10*Analyzer!$E$5)/(Analyzer!$J$8*336)),0,SpeedConv*(BW$10*Analyzer!$E$5)/(Analyzer!$J$8*336)),0)","v":0},{"$f":"IF(ShowB,IF(ISERROR((BX$10*Analyzer!$E$5)/(Analyzer!$J$8*336)),0,SpeedConv*(BX$10*Analyzer!$E$5)/(Analyzer!$J$8*336)),0)","v":0},{"$f":"IF(ShowB,IF(ISERROR((BY$10*Analyzer!$E$5)/(Analyzer!$J$8*336)),0,SpeedConv*(BY$10*Analyzer!$E$5)/(Analyzer!$J$8*336)),0)","v":0},{"$f":"IF(ShowB,IF(ISERROR((BZ$10*Analyzer!$E$5)/(Analyzer!$J$8*336)),0,SpeedConv*(BZ$10*Analyzer!$E$5)/(Analyzer!$J$8*336)),0)","v":0},{"$f":"IF(ShowB,IF(ISERROR((CA$10*Analyzer!$E$5)/(Analyzer!$J$8*336)),0,SpeedConv*(CA$10*Analyzer!$E$5)/(Analyzer!$J$8*336)),0)","v":0},{"$f":"IF(ShowB,IF(ISERROR((CB$10*Analyzer!$E$5)/(Analyzer!$J$8*336)),0,SpeedConv*(CB$10*Analyzer!$E$5)/(Analyzer!$J$8*336)),0)","v":0},{"$f":"IF(ShowB,IF(ISERROR((CC$10*Analyzer!$E$5)/(Analyzer!$J$8*336)),0,SpeedConv*(CC$10*Analyzer!$E$5)/(Analyzer!$J$8*336)),0)","v":0},{"$f":"IF(ShowB,IF(ISERROR((CD$10*Analyzer!$E$5)/(Analyzer!$J$8*336)),0,SpeedConv*(CD$10*Analyzer!$E$5)/(Analyzer!$J$8*336)),0)","v":0},{"$f":"IF(ShowB,IF(ISERROR((CE$10*Analyzer!$E$5)/(Analyzer!$J$8*336)),0,SpeedConv*(CE$10*Analyzer!$E$5)/(Analyzer!$J$8*336)),0)","v":0},{"$f":"IF(ShowB,IF(ISERROR((CF$10*Analyzer!$E$5)/(Analyzer!$J$8*336)),0,SpeedConv*(CF$10*Analyzer!$E$5)/(Analyzer!$J$8*336)),0)","v":0},{"$f":"IF(ShowB,IF(ISERROR((CG$10*Analyzer!$E$5)/(Analyzer!$J$8*336)),0,SpeedConv*(CG$10*Analyzer!$E$5)/(Analyzer!$J$8*336)),0)","v":0},{"$f":"IF(ShowB,IF(ISERROR((CH$10*Analyzer!$E$5)/(Analyzer!$J$8*336)),0,SpeedConv*(CH$10*Analyzer!$E$5)/(Analyzer!$J$8*336)),0)","v":0},{"$f":"IF(ShowB,IF(ISERROR((CI$10*Analyzer!$E$5)/(Analyzer!$J$8*336)),0,SpeedConv*(CI$10*Analyzer!$E$5)/(Analyzer!$J$8*336)),0)","v":0},{"$f":"IF(ShowB,IF(ISERROR((CJ$10*Analyzer!$E$5)/(Analyzer!$J$8*336)),0,SpeedConv*(CJ$10*Analyzer!$E$5)/(Analyzer!$J$8*336)),0)","v":0},{"$f":"IF(ShowB,IF(ISERROR((CK$10*Analyzer!$E$5)/(Analyzer!$J$8*336)),0,SpeedConv*(CK$10*Analyzer!$E$5)/(Analyzer!$J$8*336)),0)","v":0},{"$f":"IF(ShowB,IF(ISERROR((CL$10*Analyzer!$E$5)/(Analyzer!$J$8*336)),0,SpeedConv*(CL$10*Analyzer!$E$5)/(Analyzer!$J$8*336)),0)","v":0},{"$f":"IF(ShowB,IF(ISERROR((CM$10*Analyzer!$E$5)/(Analyzer!$J$8*336)),0,SpeedConv*(CM$10*Analyzer!$E$5)/(Analyzer!$J$8*336)),0)","v":0},{"$f":"IF(ShowB,IF(ISERROR((CN$10*Analyzer!$E$5)/(Analyzer!$J$8*336)),0,SpeedConv*(CN$10*Analyzer!$E$5)/(Analyzer!$J$8*336)),0)","v":0},{"$f":"IF(ShowB,IF(ISERROR((CO$10*Analyzer!$E$5)/(Analyzer!$J$8*336)),0,SpeedConv*(CO$10*Analyzer!$E$5)/(Analyzer!$J$8*336)),0)","v":0},{"$f":"IF(ShowB,IF(ISERROR((CP$10*Analyzer!$E$5)/(Analyzer!$J$8*336)),0,SpeedConv*(CP$10*Analyzer!$E$5)/(Analyzer!$J$8*336)),0)","v":0},{"$f":"IF(ShowB,IF(ISERROR((CQ$10*Analyzer!$E$5)/(Analyzer!$J$8*336)),0,SpeedConv*(CQ$10*Analyzer!$E$5)/(Analyzer!$J$8*336)),0)","v":0},{"$f":"IF(ShowB,IF(ISERROR((CR$10*Analyzer!$E$5)/(Analyzer!$J$8*336)),0,SpeedConv*(CR$10*Analyzer!$E$5)/(Analyzer!$J$8*336)),0)","v":0},{"$f":"IF(ShowB,IF(ISERROR((CS$10*Analyzer!$E$5)/(Analyzer!$J$8*336)),0,SpeedConv*(CS$10*Analyzer!$E$5)/(Analyzer!$J$8*336)),0)","v":0},{"$f":"IF(ShowB,IF(ISERROR((CT$10*Analyzer!$E$5)/(Analyzer!$J$8*336)),0,SpeedConv*(CT$10*Analyzer!$E$5)/(Analyzer!$J$8*336)),0)","v":0},{"$f":"IF(ShowB,IF(ISERROR((CU$10*Analyzer!$E$5)/(Analyzer!$J$8*336)),0,SpeedConv*(CU$10*Analyzer!$E$5)/(Analyzer!$J$8*336)),0)","v":0}]
["Stock",false]
[null,600,800,1000,1200,1400,1600,1800,2000,2200,2400,2600,2800,3000,3200,3400,3600,3800,4000,4200,4400,4600,4800,5000,5200,5400,5600,5800,6000,6200,6400,6600,6800,7000,7200,7400,7600,7800,8000,8200,8400,8600,8800,9000,9200,9400,9600,9800,10000,10200,10400,10600,10800,11000,11200,11400,11600,11800,12000,12200,12400,12600,12800,13000,13200,13400,13600,13800,14000,14200,14400,14600,14800,15000,15200,15400,15600,15800,16000,16200,16400,16600,16800,17000,17200,17400,17600,17800,18000,18200,18400,18600,18800,19000,19200,19400,19600,19800,20000]
["St-1st",{"$f":"IF(ShowStock,IF(ISERROR((B$18*Analyzer!$G$5)/(Analyzer!$K$3*336)),0,SpeedConv*(B$18*Analyzer!$G$5)/(Analyzer!$K$3*336)),0)","v":0},{"$f":"IF(ShowStock,IF(ISERROR((C$18*Analyzer!$G$5)/(Analyzer!$K$3*336)),0,SpeedConv*(C$18*Analyzer!$G$5)/(Analyzer!$K$3*336)),0)","v":0},{"$f":"IF(ShowStock,IF(ISERROR((D$18*Analyzer!$G$5)/(Analyzer!$K$3*336)),0,SpeedConv*(D$18*Analyzer!$G$5)/(Analyzer!$K$3*336)),0)","v":0},{"$f":"IF(ShowStock,IF(ISERROR((E$18*Analyzer!$G$5)/(Analyzer!$K$3*336)),0,SpeedConv*(E$18*Analyzer!$G$5)/(Analyzer!$K$3*336)),0)","v":0},{"$f":"IF(ShowStock,IF(ISERROR((F$18*Analyzer!$G$5)/(Analyzer!$K$3*336)),0,SpeedConv*(F$18*Analyzer!$G$5)/(Analyzer!$K$3*336)),0)","v":0},{"$f":"IF(ShowStock,IF(ISERROR((G$18*Analyzer!$G$5)/(Analyzer!$K$3*336)),0,SpeedConv*(G$18*Analyzer!$G$5)/(Analyzer!$K$3*336)),0)","v":0},{"$f":"IF(ShowStock,IF(ISERROR((H$18*Analyzer!$G$5)/(Analyzer!$K$3*336)),0,SpeedConv*(H$18*Analyzer!$G$5)/(Analyzer!$K$3*336)),0)","v":0},{"$f":"IF(ShowStock,IF(ISERROR((I$18*Analyzer!$G$5)/(Analyzer!$K$3*336)),0,SpeedConv*(I$18*Analyzer!$G$5)/(Analyzer!$K$3*336)),0)","v":0},{"$f":"IF(ShowStock,IF(ISERROR((J$18*Analyzer!$G$5)/(Analyzer!$K$3*336)),0,SpeedConv*(J$18*Analyzer!$G$5)/(Analyzer!$K$3*336)),0)","v":0},{"$f":"IF(ShowStock,IF(ISERROR((K$18*Analyzer!$G$5)/(Analyzer!$K$3*336)),0,SpeedConv*(K$18*Analyzer!$G$5)/(Analyzer!$K$3*336)),0)","v":0},{"$f":"IF(ShowStock,IF(ISERROR((L$18*Analyzer!$G$5)/(Analyzer!$K$3*336)),0,SpeedConv*(L$18*Analyzer!$G$5)/(Analyzer!$K$3*336)),0)","v":0},{"$f":"IF(ShowStock,IF(ISERROR((M$18*Analyzer!$G$5)/(Analyzer!$K$3*336)),0,SpeedConv*(M$18*Analyzer!$G$5)/(Analyzer!$K$3*336)),0)","v":0},{"$f":"IF(ShowStock,IF(ISERROR((N$18*Analyzer!$G$5)/(Analyzer!$K$3*336)),0,SpeedConv*(N$18*Analyzer!$G$5)/(Analyzer!$K$3*336)),0)","v":0},{"$f":"IF(ShowStock,IF(ISERROR((O$18*Analyzer!$G$5)/(Analyzer!$K$3*336)),0,SpeedConv*(O$18*Analyzer!$G$5)/(Analyzer!$K$3*336)),0)","v":0},{"$f":"IF(ShowStock,IF(ISERROR((P$18*Analyzer!$G$5)/(Analyzer!$K$3*336)),0,SpeedConv*(P$18*Analyzer!$G$5)/(Analyzer!$K$3*336)),0)","v":0},{"$f":"IF(ShowStock,IF(ISERROR((Q$18*Analyzer!$G$5)/(Analyzer!$K$3*336)),0,SpeedConv*(Q$18*Analyzer!$G$5)/(Analyzer!$K$3*336)),0)","v":0},{"$f":"IF(ShowStock,IF(ISERROR((R$18*Analyzer!$G$5)/(Analyzer!$K$3*336)),0,SpeedConv*(R$18*Analyzer!$G$5)/(Analyzer!$K$3*336)),0)","v":0},{"$f":"IF(ShowStock,IF(ISERROR((S$18*Analyzer!$G$5)/(Analyzer!$K$3*336)),0,SpeedConv*(S$18*Analyzer!$G$5)/(Analyzer!$K$3*336)),0)","v":0},{"$f":"IF(ShowStock,IF(ISERROR((T$18*Analyzer!$G$5)/(Analyzer!$K$3*336)),0,SpeedConv*(T$18*Analyzer!$G$5)/(Analyzer!$K$3*336)),0)","v":0},{"$f":"IF(ShowStock,IF(ISERROR((U$18*Analyzer!$G$5)/(Analyzer!$K$3*336)),0,SpeedConv*(U$18*Analyzer!$G$5)/(Analyzer!$K$3*336)),0)","v":0},{"$f":"IF(ShowStock,IF(ISERROR((V$18*Analyzer!$G$5)/(Analyzer!$K$3*336)),0,SpeedConv*(V$18*Analyzer!$G$5)/(Analyzer!$K$3*336)),0)","v":0},{"$f":"IF(ShowStock,IF(ISERROR((W$18*Analyzer!$G$5)/(Analyzer!$K$3*336)),0,SpeedConv*(W$18*Analyzer!$G$5)/(Analyzer!$K$3*336)),0)","v":0},{"$f":"IF(ShowStock,IF(ISERROR((X$18*Analyzer!$G$5)/(Analyzer!$K$3*336)),0,SpeedConv*(X$18*Analyzer!$G$5)/(Analyzer!$K$3*336)),0)","v":0},{"$f":"IF(ShowStock,IF(ISERROR((Y$18*Analyzer!$G$5)/(Analyzer!$K$3*336)),0,SpeedConv*(Y$18*Analyzer!$G$5)/(Analyzer!$K$3*336)),0)","v":0},{"$f":"IF(ShowStock,IF(ISERROR((Z$18*Analyzer!$G$5)/(Analyzer!$K$3*336)),0,SpeedConv*(Z$18*Analyzer!$G$5)/(Analyzer!$K$3*336)),0)","v":0},{"$f":"IF(ShowStock,IF(ISERROR((AA$18*Analyzer!$G$5)/(Analyzer!$K$3*336)),0,SpeedConv*(AA$18*Analyzer!$G$5)/(Analyzer!$K$3*336)),0)","v":0},{"$f":"IF(ShowStock,IF(ISERROR((AB$18*Analyzer!$G$5)/(Analyzer!$K$3*336)),0,SpeedConv*(AB$18*Analyzer!$G$5)/(Analyzer!$K$3*336)),0)","v":0},{"$f":"IF(ShowStock,IF(ISERROR((AC$18*Analyzer!$G$5)/(Analyzer!$K$3*336)),0,SpeedConv*(AC$18*Analyzer!$G$5)/(Analyzer!$K$3*336)),0)","v":0},{"$f":"IF(ShowStock,IF(ISERROR((AD$18*Analyzer!$G$5)/(Analyzer!$K$3*336)),0,SpeedConv*(AD$18*Analyzer!$G$5)/(Analyzer!$K$3*336)),0)","v":0},{"$f":"IF(ShowStock,IF(ISERROR((AE$18*Analyzer!$G$5)/(Analyzer!$K$3*336)),0,SpeedConv*(AE$18*Analyzer!$G$5)/(Analyzer!$K$3*336)),0)","v":0},{"$f":"IF(ShowStock,IF(ISERROR((AF$18*Analyzer!$G$5)/(Analyzer!$K$3*336)),0,SpeedConv*(AF$18*Analyzer!$G$5)/(Analyzer!$K$3*336)),0)","v":0},{"$f":"IF(ShowStock,IF(ISERROR((AG$18*Analyzer!$G$5)/(Analyzer!$K$3*336)),0,SpeedConv*(AG$18*Analyzer!$G$5)/(Analyzer!$K$3*336)),0)","v":0},{"$f":"IF(ShowStock,IF(ISERROR((AH$18*Analyzer!$G$5)/(Analyzer!$K$3*336)),0,SpeedConv*(AH$18*Analyzer!$G$5)/(Analyzer!$K$3*336)),0)","v":0},{"$f":"IF(ShowStock,IF(ISERROR((AI$18*Analyzer!$G$5)/(Analyzer!$K$3*336)),0,SpeedConv*(AI$18*Analyzer!$G$5)/(Analyzer!$K$3*336)),0)","v":0},{"$f":"IF(ShowStock,IF(ISERROR((AJ$18*Analyzer!$G$5)/(Analyzer!$K$3*336)),0,SpeedConv*(AJ$18*Analyzer!$G$5)/(Analyzer!$K$3*336)),0)","v":0},{"$f":"IF(ShowStock,IF(ISERROR((AK$18*Analyzer!$G$5)/(Analyzer!$K$3*336)),0,SpeedConv*(AK$18*Analyzer!$G$5)/(Analyzer!$K$3*336)),0)","v":0},{"$f":"IF(ShowStock,IF(ISERROR((AL$18*Analyzer!$G$5)/(Analyzer!$K$3*336)),0,SpeedConv*(AL$18*Analyzer!$G$5)/(Analyzer!$K$3*336)),0)","v":0},{"$f":"IF(ShowStock,IF(ISERROR((AM$18*Analyzer!$G$5)/(Analyzer!$K$3*336)),0,SpeedConv*(AM$18*Analyzer!$G$5)/(Analyzer!$K$3*336)),0)","v":0},{"$f":"IF(ShowStock,IF(ISERROR((AN$18*Analyzer!$G$5)/(Analyzer!$K$3*336)),0,SpeedConv*(AN$18*Analyzer!$G$5)/(Analyzer!$K$3*336)),0)","v":0},{"$f":"IF(ShowStock,IF(ISERROR((AO$18*Analyzer!$G$5)/(Analyzer!$K$3*336)),0,SpeedConv*(AO$18*Analyzer!$G$5)/(Analyzer!$K$3*336)),0)","v":0},{"$f":"IF(ShowStock,IF(ISERROR((AP$18*Analyzer!$G$5)/(Analyzer!$K$3*336)),0,SpeedConv*(AP$18*Analyzer!$G$5)/(Analyzer!$K$3*336)),0)","v":0},{"$f":"IF(ShowStock,IF(ISERROR((AQ$18*Analyzer!$G$5)/(Analyzer!$K$3*336)),0,SpeedConv*(AQ$18*Analyzer!$G$5)/(Analyzer!$K$3*336)),0)","v":0},{"$f":"IF(ShowStock,IF(ISERROR((AR$18*Analyzer!$G$5)/(Analyzer!$K$3*336)),0,SpeedConv*(AR$18*Analyzer!$G$5)/(Analyzer!$K$3*336)),0)","v":0},{"$f":"IF(ShowStock,IF(ISERROR((AS$18*Analyzer!$G$5)/(Analyzer!$K$3*336)),0,SpeedConv*(AS$18*Analyzer!$G$5)/(Analyzer!$K$3*336)),0)","v":0},{"$f":"IF(ShowStock,IF(ISERROR((AT$18*Analyzer!$G$5)/(Analyzer!$K$3*336)),0,SpeedConv*(AT$18*Analyzer!$G$5)/(Analyzer!$K$3*336)),0)","v":0},{"$f":"IF(ShowStock,IF(ISERROR((AU$18*Analyzer!$G$5)/(Analyzer!$K$3*336)),0,SpeedConv*(AU$18*Analyzer!$G$5)/(Analyzer!$K$3*336)),0)","v":0},{"$f":"IF(ShowStock,IF(ISERROR((AV$18*Analyzer!$G$5)/(Analyzer!$K$3*336)),0,SpeedConv*(AV$18*Analyzer!$G$5)/(Analyzer!$K$3*336)),0)","v":0},{"$f":"IF(ShowStock,IF(ISERROR((AW$18*Analyzer!$G$5)/(Analyzer!$K$3*336)),0,SpeedConv*(AW$18*Analyzer!$G$5)/(Analyzer!$K$3*336)),0)","v":0},{"$f":"IF(ShowStock,IF(ISERROR((AX$18*Analyzer!$G$5)/(Analyzer!$K$3*336)),0,SpeedConv*(AX$18*Analyzer!$G$5)/(Analyzer!$K$3*336)),0)","v":0},{"$f":"IF(ShowStock,IF(ISERROR((AY$18*Analyzer!$G$5)/(Analyzer!$K$3*336)),0,SpeedConv*(AY$18*Analyzer!$G$5)/(Analyzer!$K$3*336)),0)","v":0},{"$f":"IF(ShowStock,IF(ISERROR((AZ$18*Analyzer!$G$5)/(Analyzer!$K$3*336)),0,SpeedConv*(AZ$18*Analyzer!$G$5)/(Analyzer!$K$3*336)),0)","v":0},{"$f":"IF(ShowStock,IF(ISERROR((BA$18*Analyzer!$G$5)/(Analyzer!$K$3*336)),0,SpeedConv*(BA$18*Analyzer!$G$5)/(Analyzer!$K$3*336)),0)","v":0},{"$f":"IF(ShowStock,IF(ISERROR((BB$18*Analyzer!$G$5)/(Analyzer!$K$3*336)),0,SpeedConv*(BB$18*Analyzer!$G$5)/(Analyzer!$K$3*336)),0)","v":0},{"$f":"IF(ShowStock,IF(ISERROR((BC$18*Analyzer!$G$5)/(Analyzer!$K$3*336)),0,SpeedConv*(BC$18*Analyzer!$G$5)/(Analyzer!$K$3*336)),0)","v":0},{"$f":"IF(ShowStock,IF(ISERROR((BD$18*Analyzer!$G$5)/(Analyzer!$K$3*336)),0,SpeedConv*(BD$18*Analyzer!$G$5)/(Analyzer!$K$3*336)),0)","v":0},{"$f":"IF(ShowStock,IF(ISERROR((BE$18*Analyzer!$G$5)/(Analyzer!$K$3*336)),0,SpeedConv*(BE$18*Analyzer!$G$5)/(Analyzer!$K$3*336)),0)","v":0},{"$f":"IF(ShowStock,IF(ISERROR((BF$18*Analyzer!$G$5)/(Analyzer!$K$3*336)),0,SpeedConv*(BF$18*Analyzer!$G$5)/(Analyzer!$K$3*336)),0)","v":0},{"$f":"IF(ShowStock,IF(ISERROR((BG$18*Analyzer!$G$5)/(Analyzer!$K$3*336)),0,SpeedConv*(BG$18*Analyzer!$G$5)/(Analyzer!$K$3*336)),0)","v":0},{"$f":"IF(ShowStock,IF(ISERROR((BH$18*Analyzer!$G$5)/(Analyzer!$K$3*336)),0,SpeedConv*(BH$18*Analyzer!$G$5)/(Analyzer!$K$3*336)),0)","v":0},{"$f":"IF(ShowStock,IF(ISERROR((BI$18*Analyzer!$G$5)/(Analyzer!$K$3*336)),0,SpeedConv*(BI$18*Analyzer!$G$5)/(Analyzer!$K$3*336)),0)","v":0},{"$f":"IF(ShowStock,IF(ISERROR((BJ$18*Analyzer!$G$5)/(Analyzer!$K$3*336)),0,SpeedConv*(BJ$18*Analyzer!$G$5)/(Analyzer!$K$3*336)),0)","v":0},{"$f":"IF(ShowStock,IF(ISERROR((BK$18*Analyzer!$G$5)/(Analyzer!$K$3*336)),0,SpeedConv*(BK$18*Analyzer!$G$5)/(Analyzer!$K$3*336)),0)","v":0},{"$f":"IF(ShowStock,IF(ISERROR((BL$18*Analyzer!$G$5)/(Analyzer!$K$3*336)),0,SpeedConv*(BL$18*Analyzer!$G$5)/(Analyzer!$K$3*336)),0)","v":0},{"$f":"IF(ShowStock,IF(ISERROR((BM$18*Analyzer!$G$5)/(Analyzer!$K$3*336)),0,SpeedConv*(BM$18*Analyzer!$G$5)/(Analyzer!$K$3*336)),0)","v":0},{"$f":"IF(ShowStock,IF(ISERROR((BN$18*Analyzer!$G$5)/(Analyzer!$K$3*336)),0,SpeedConv*(BN$18*Analyzer!$G$5)/(Analyzer!$K$3*336)),0)","v":0},{"$f":"IF(ShowStock,IF(ISERROR((BO$18*Analyzer!$G$5)/(Analyzer!$K$3*336)),0,SpeedConv*(BO$18*Analyzer!$G$5)/(Analyzer!$K$3*336)),0)","v":0},{"$f":"IF(ShowStock,IF(ISERROR((BP$18*Analyzer!$G$5)/(Analyzer!$K$3*336)),0,SpeedConv*(BP$18*Analyzer!$G$5)/(Analyzer!$K$3*336)),0)","v":0},{"$f":"IF(ShowStock,IF(ISERROR((BQ$18*Analyzer!$G$5)/(Analyzer!$K$3*336)),0,SpeedConv*(BQ$18*Analyzer!$G$5)/(Analyzer!$K$3*336)),0)","v":0},{"$f":"IF(ShowStock,IF(ISERROR((BR$18*Analyzer!$G$5)/(Analyzer!$K$3*336)),0,SpeedConv*(BR$18*Analyzer!$G$5)/(Analyzer!$K$3*336)),0)","v":0},{"$f":"IF(ShowStock,IF(ISERROR((BS$18*Analyzer!$G$5)/(Analyzer!$K$3*336)),0,SpeedConv*(BS$18*Analyzer!$G$5)/(Analyzer!$K$3*336)),0)","v":0},{"$f":"IF(ShowStock,IF(ISERROR((BT$18*Analyzer!$G$5)/(Analyzer!$K$3*336)),0,SpeedConv*(BT$18*Analyzer!$G$5)/(Analyzer!$K$3*336)),0)","v":0},{"$f":"IF(ShowStock,IF(ISERROR((BU$18*Analyzer!$G$5)/(Analyzer!$K$3*336)),0,SpeedConv*(BU$18*Analyzer!$G$5)/(Analyzer!$K$3*336)),0)","v":0},{"$f":"IF(ShowStock,IF(ISERROR((BV$18*Analyzer!$G$5)/(Analyzer!$K$3*336)),0,SpeedConv*(BV$18*Analyzer!$G$5)/(Analyzer!$K$3*336)),0)","v":0},{"$f":"IF(ShowStock,IF(ISERROR((BW$18*Analyzer!$G$5)/(Analyzer!$K$3*336)),0,SpeedConv*(BW$18*Analyzer!$G$5)/(Analyzer!$K$3*336)),0)","v":0},{"$f":"IF(ShowStock,IF(ISERROR((BX$18*Analyzer!$G$5)/(Analyzer!$K$3*336)),0,SpeedConv*(BX$18*Analyzer!$G$5)/(Analyzer!$K$3*336)),0)","v":0},{"$f":"IF(ShowStock,IF(ISERROR((BY$18*Analyzer!$G$5)/(Analyzer!$K$3*336)),0,SpeedConv*(BY$18*Analyzer!$G$5)/(Analyzer!$K$3*336)),0)","v":0},{"$f":"IF(ShowStock,IF(ISERROR((BZ$18*Analyzer!$G$5)/(Analyzer!$K$3*336)),0,SpeedConv*(BZ$18*Analyzer!$G$5)/(Analyzer!$K$3*336)),0)","v":0},{"$f":"IF(ShowStock,IF(ISERROR((CA$18*Analyzer!$G$5)/(Analyzer!$K$3*336)),0,SpeedConv*(CA$18*Analyzer!$G$5)/(Analyzer!$K$3*336)),0)","v":0},{"$f":"IF(ShowStock,IF(ISERROR((CB$18*Analyzer!$G$5)/(Analyzer!$K$3*336)),0,SpeedConv*(CB$18*Analyzer!$G$5)/(Analyzer!$K$3*336)),0)","v":0},{"$f":"IF(ShowStock,IF(ISERROR((CC$18*Analyzer!$G$5)/(Analyzer!$K$3*336)),0,SpeedConv*(CC$18*Analyzer!$G$5)/(Analyzer!$K$3*336)),0)","v":0},{"$f":"IF(ShowStock,IF(ISERROR((CD$18*Analyzer!$G$5)/(Analyzer!$K$3*336)),0,SpeedConv*(CD$18*Analyzer!$G$5)/(Analyzer!$K$3*336)),0)","v":0},{"$f":"IF(ShowStock,IF(ISERROR((CE$18*Analyzer!$G$5)/(Analyzer!$K$3*336)),0,SpeedConv*(CE$18*Analyzer!$G$5)/(Analyzer!$K$3*336)),0)","v":0},{"$f":"IF(ShowStock,IF(ISERROR((CF$18*Analyzer!$G$5)/(Analyzer!$K$3*336)),0,SpeedConv*(CF$18*Analyzer!$G$5)/(Analyzer!$K$3*336)),0)","v":0},{"$f":"IF(ShowStock,IF(ISERROR((CG$18*Analyzer!$G$5)/(Analyzer!$K$3*336)),0,SpeedConv*(CG$18*Analyzer!$G$5)/(Analyzer!$K$3*336)),0)","v":0},{"$f":"IF(ShowStock,IF(ISERROR((CH$18*Analyzer!$G$5)/(Analyzer!$K$3*336)),0,SpeedConv*(CH$18*Analyzer!$G$5)/(Analyzer!$K$3*336)),0)","v":0},{"$f":"IF(ShowStock,IF(ISERROR((CI$18*Analyzer!$G$5)/(Analyzer!$K$3*336)),0,SpeedConv*(CI$18*Analyzer!$G$5)/(Analyzer!$K$3*336)),0)","v":0},{"$f":"IF(ShowStock,IF(ISERROR((CJ$18*Analyzer!$G$5)/(Analyzer!$K$3*336)),0,SpeedConv*(CJ$18*Analyzer!$G$5)/(Analyzer!$K$3*336)),0)","v":0},{"$f":"IF(ShowStock,IF(ISERROR((CK$18*Analyzer!$G$5)/(Analyzer!$K$3*336)),0,SpeedConv*(CK$18*Analyzer!$G$5)/(Analyzer!$K$3*336)),0)","v":0},{"$f":"IF(ShowStock,IF(ISERROR((CL$18*Analyzer!$G$5)/(Analyzer!$K$3*336)),0,SpeedConv*(CL$18*Analyzer!$G$5)/(Analyzer!$K$3*336)),0)","v":0},{"$f":"IF(ShowStock,IF(ISERROR((CM$18*Analyzer!$G$5)/(Analyzer!$K$3*336)),0,SpeedConv*(CM$18*Analyzer!$G$5)/(Analyzer!$K$3*336)),0)","v":0},{"$f":"IF(ShowStock,IF(ISERROR((CN$18*Analyzer!$G$5)/(Analyzer!$K$3*336)),0,SpeedConv*(CN$18*Analyzer!$G$5)/(Analyzer!$K$3*336)),0)","v":0},{"$f":"IF(ShowStock,IF(ISERROR((CO$18*Analyzer!$G$5)/(Analyzer!$K$3*336)),0,SpeedConv*(CO$18*Analyzer!$G$5)/(Analyzer!$K$3*336)),0)","v":0},{"$f":"IF(ShowStock,IF(ISERROR((CP$18*Analyzer!$G$5)/(Analyzer!$K$3*336)),0,SpeedConv*(CP$18*Analyzer!$G$5)/(Analyzer!$K$3*336)),0)","v":0},{"$f":"IF(ShowStock,IF(ISERROR((CQ$18*Analyzer!$G$5)/(Analyzer!$K$3*336)),0,SpeedConv*(CQ$18*Analyzer!$G$5)/(Analyzer!$K$3*336)),0)","v":0},{"$f":"IF(ShowStock,IF(ISERROR((CR$18*Analyzer!$G$5)/(Analyzer!$K$3*336)),0,SpeedConv*(CR$18*Analyzer!$G$5)/(Analyzer!$K$3*336)),0)","v":0},{"$f":"IF(ShowStock,IF(ISERROR((CS$18*Analyzer!$G$5)/(Analyzer!$K$3*336)),0,SpeedConv*(CS$18*Analyzer!$G$5)/(Analyzer!$K$3*336)),0)","v":0},{"$f":"IF(ShowStock,IF(ISERROR((CT$18*Analyzer!$G$5)/(Analyzer!$K$3*336)),0,SpeedConv*(CT$18*Analyzer!$G$5)/(Analyzer!$K$3*336)),0)","v":0},{"$f":"IF(ShowStock,IF(ISERROR((CU$18*Analyzer!$G$5)/(Analyzer!$K$3*336)),0,SpeedConv*(CU$18*Analyzer!$G$5)/(Analyzer!$K$3*336)),0)","v":0}]
["St-2nd",{"$f":"IF(ShowStock,IF(ISERROR((B$18*Analyzer!$G$5)/(Analyzer!$K$4*336)),0,SpeedConv*(B$18*Analyzer!$G$5)/(Analyzer!$K$4*336)),0)","v":0},{"$f":"IF(ShowStock,IF(ISERROR((C$18*Analyzer!$G$5)/(Analyzer!$K$4*336)),0,SpeedConv*(C$18*Analyzer!$G$5)/(Analyzer!$K$4*336)),0)","v":0},{"$f":"IF(ShowStock,IF(ISERROR((D$18*Analyzer!$G$5)/(Analyzer!$K$4*336)),0,SpeedConv*(D$18*Analyzer!$G$5)/(Analyzer!$K$4*336)),0)","v":0},{"$f":"IF(ShowStock,IF(ISERROR((E$18*Analyzer!$G$5)/(Analyzer!$K$4*336)),0,SpeedConv*(E$18*Analyzer!$G$5)/(Analyzer!$K$4*336)),0)","v":0},{"$f":"IF(ShowStock,IF(ISERROR((F$18*Analyzer!$G$5)/(Analyzer!$K$4*336)),0,SpeedConv*(F$18*Analyzer!$G$5)/(Analyzer!$K$4*336)),0)","v":0},{"$f":"IF(ShowStock,IF(ISERROR((G$18*Analyzer!$G$5)/(Analyzer!$K$4*336)),0,SpeedConv*(G$18*Analyzer!$G$5)/(Analyzer!$K$4*336)),0)","v":0},{"$f":"IF(ShowStock,IF(ISERROR((H$18*Analyzer!$G$5)/(Analyzer!$K$4*336)),0,SpeedConv*(H$18*Analyzer!$G$5)/(Analyzer!$K$4*336)),0)","v":0},{"$f":"IF(ShowStock,IF(ISERROR((I$18*Analyzer!$G$5)/(Analyzer!$K$4*336)),0,SpeedConv*(I$18*Analyzer!$G$5)/(Analyzer!$K$4*336)),0)","v":0},{"$f":"IF(ShowStock,IF(ISERROR((J$18*Analyzer!$G$5)/(Analyzer!$K$4*336)),0,SpeedConv*(J$18*Analyzer!$G$5)/(Analyzer!$K$4*336)),0)","v":0},{"$f":"IF(ShowStock,IF(ISERROR((K$18*Analyzer!$G$5)/(Analyzer!$K$4*336)),0,SpeedConv*(K$18*Analyzer!$G$5)/(Analyzer!$K$4*336)),0)","v":0},{"$f":"IF(ShowStock,IF(ISERROR((L$18*Analyzer!$G$5)/(Analyzer!$K$4*336)),0,SpeedConv*(L$18*Analyzer!$G$5)/(Analyzer!$K$4*336)),0)","v":0},{"$f":"IF(ShowStock,IF(ISERROR((M$18*Analyzer!$G$5)/(Analyzer!$K$4*336)),0,SpeedConv*(M$18*Analyzer!$G$5)/(Analyzer!$K$4*336)),0)","v":0},{"$f":"IF(ShowStock,IF(ISERROR((N$18*Analyzer!$G$5)/(Analyzer!$K$4*336)),0,SpeedConv*(N$18*Analyzer!$G$5)/(Analyzer!$K$4*336)),0)","v":0},{"$f":"IF(ShowStock,IF(ISERROR((O$18*Analyzer!$G$5)/(Analyzer!$K$4*336)),0,SpeedConv*(O$18*Analyzer!$G$5)/(Analyzer!$K$4*336)),0)","v":0},{"$f":"IF(ShowStock,IF(ISERROR((P$18*Analyzer!$G$5)/(Analyzer!$K$4*336)),0,SpeedConv*(P$18*Analyzer!$G$5)/(Analyzer!$K$4*336)),0)","v":0},{"$f":"IF(ShowStock,IF(ISERROR((Q$18*Analyzer!$G$5)/(Analyzer!$K$4*336)),0,SpeedConv*(Q$18*Analyzer!$G$5)/(Analyzer!$K$4*336)),0)","v":0},{"$f":"IF(ShowStock,IF(ISERROR((R$18*Analyzer!$G$5)/(Analyzer!$K$4*336)),0,SpeedConv*(R$18*Analyzer!$G$5)/(Analyzer!$K$4*336)),0)","v":0},{"$f":"IF(ShowStock,IF(ISERROR((S$18*Analyzer!$G$5)/(Analyzer!$K$4*336)),0,SpeedConv*(S$18*Analyzer!$G$5)/(Analyzer!$K$4*336)),0)","v":0},{"$f":"IF(ShowStock,IF(ISERROR((T$18*Analyzer!$G$5)/(Analyzer!$K$4*336)),0,SpeedConv*(T$18*Analyzer!$G$5)/(Analyzer!$K$4*336)),0)","v":0},{"$f":"IF(ShowStock,IF(ISERROR((U$18*Analyzer!$G$5)/(Analyzer!$K$4*336)),0,SpeedConv*(U$18*Analyzer!$G$5)/(Analyzer!$K$4*336)),0)","v":0},{"$f":"IF(ShowStock,IF(ISERROR((V$18*Analyzer!$G$5)/(Analyzer!$K$4*336)),0,SpeedConv*(V$18*Analyzer!$G$5)/(Analyzer!$K$4*336)),0)","v":0},{"$f":"IF(ShowStock,IF(ISERROR((W$18*Analyzer!$G$5)/(Analyzer!$K$4*336)),0,SpeedConv*(W$18*Analyzer!$G$5)/(Analyzer!$K$4*336)),0)","v":0},{"$f":"IF(ShowStock,IF(ISERROR((X$18*Analyzer!$G$5)/(Analyzer!$K$4*336)),0,SpeedConv*(X$18*Analyzer!$G$5)/(Analyzer!$K$4*336)),0)","v":0},{"$f":"IF(ShowStock,IF(ISERROR((Y$18*Analyzer!$G$5)/(Analyzer!$K$4*336)),0,SpeedConv*(Y$18*Analyzer!$G$5)/(Analyzer!$K$4*336)),0)","v":0},{"$f":"IF(ShowStock,IF(ISERROR((Z$18*Analyzer!$G$5)/(Analyzer!$K$4*336)),0,SpeedConv*(Z$18*Analyzer!$G$5)/(Analyzer!$K$4*336)),0)","v":0},{"$f":"IF(ShowStock,IF(ISERROR((AA$18*Analyzer!$G$5)/(Analyzer!$K$4*336)),0,SpeedConv*(AA$18*Analyzer!$G$5)/(Analyzer!$K$4*336)),0)","v":0},{"$f":"IF(ShowStock,IF(ISERROR((AB$18*Analyzer!$G$5)/(Analyzer!$K$4*336)),0,SpeedConv*(AB$18*Analyzer!$G$5)/(Analyzer!$K$4*336)),0)","v":0},{"$f":"IF(ShowStock,IF(ISERROR((AC$18*Analyzer!$G$5)/(Analyzer!$K$4*336)),0,SpeedConv*(AC$18*Analyzer!$G$5)/(Analyzer!$K$4*336)),0)","v":0},{"$f":"IF(ShowStock,IF(ISERROR((AD$18*Analyzer!$G$5)/(Analyzer!$K$4*336)),0,SpeedConv*(AD$18*Analyzer!$G$5)/(Analyzer!$K$4*336)),0)","v":0},{"$f":"IF(ShowStock,IF(ISERROR((AE$18*Analyzer!$G$5)/(Analyzer!$K$4*336)),0,SpeedConv*(AE$18*Analyzer!$G$5)/(Analyzer!$K$4*336)),0)","v":0},{"$f":"IF(ShowStock,IF(ISERROR((AF$18*Analyzer!$G$5)/(Analyzer!$K$4*336)),0,SpeedConv*(AF$18*Analyzer!$G$5)/(Analyzer!$K$4*336)),0)","v":0},{"$f":"IF(ShowStock,IF(ISERROR((AG$18*Analyzer!$G$5)/(Analyzer!$K$4*336)),0,SpeedConv*(AG$18*Analyzer!$G$5)/(Analyzer!$K$4*336)),0)","v":0},{"$f":"IF(ShowStock,IF(ISERROR((AH$18*Analyzer!$G$5)/(Analyzer!$K$4*336)),0,SpeedConv*(AH$18*Analyzer!$G$5)/(Analyzer!$K$4*336)),0)","v":0},{"$f":"IF(ShowStock,IF(ISERROR((AI$18*Analyzer!$G$5)/(Analyzer!$K$4*336)),0,SpeedConv*(AI$18*Analyzer!$G$5)/(Analyzer!$K$4*336)),0)","v":0},{"$f":"IF(ShowStock,IF(ISERROR((AJ$18*Analyzer!$G$5)/(Analyzer!$K$4*336)),0,SpeedConv*(AJ$18*Analyzer!$G$5)/(Analyzer!$K$4*336)),0)","v":0},{"$f":"IF(ShowStock,IF(ISERROR((AK$18*Analyzer!$G$5)/(Analyzer!$K$4*336)),0,SpeedConv*(AK$18*Analyzer!$G$5)/(Analyzer!$K$4*336)),0)","v":0},{"$f":"IF(ShowStock,IF(ISERROR((AL$18*Analyzer!$G$5)/(Analyzer!$K$4*336)),0,SpeedConv*(AL$18*Analyzer!$G$5)/(Analyzer!$K$4*336)),0)","v":0},{"$f":"IF(ShowStock,IF(ISERROR((AM$18*Analyzer!$G$5)/(Analyzer!$K$4*336)),0,SpeedConv*(AM$18*Analyzer!$G$5)/(Analyzer!$K$4*336)),0)","v":0},{"$f":"IF(ShowStock,IF(ISERROR((AN$18*Analyzer!$G$5)/(Analyzer!$K$4*336)),0,SpeedConv*(AN$18*Analyzer!$G$5)/(Analyzer!$K$4*336)),0)","v":0},{"$f":"IF(ShowStock,IF(ISERROR((AO$18*Analyzer!$G$5)/(Analyzer!$K$4*336)),0,SpeedConv*(AO$18*Analyzer!$G$5)/(Analyzer!$K$4*336)),0)","v":0},{"$f":"IF(ShowStock,IF(ISERROR((AP$18*Analyzer!$G$5)/(Analyzer!$K$4*336)),0,SpeedConv*(AP$18*Analyzer!$G$5)/(Analyzer!$K$4*336)),0)","v":0},{"$f":"IF(ShowStock,IF(ISERROR((AQ$18*Analyzer!$G$5)/(Analyzer!$K$4*336)),0,SpeedConv*(AQ$18*Analyzer!$G$5)/(Analyzer!$K$4*336)),0)","v":0},{"$f":"IF(ShowStock,IF(ISERROR((AR$18*Analyzer!$G$5)/(Analyzer!$K$4*336)),0,SpeedConv*(AR$18*Analyzer!$G$5)/(Analyzer!$K$4*336)),0)","v":0},{"$f":"IF(ShowStock,IF(ISERROR((AS$18*Analyzer!$G$5)/(Analyzer!$K$4*336)),0,SpeedConv*(AS$18*Analyzer!$G$5)/(Analyzer!$K$4*336)),0)","v":0},{"$f":"IF(ShowStock,IF(ISERROR((AT$18*Analyzer!$G$5)/(Analyzer!$K$4*336)),0,SpeedConv*(AT$18*Analyzer!$G$5)/(Analyzer!$K$4*336)),0)","v":0},{"$f":"IF(ShowStock,IF(ISERROR((AU$18*Analyzer!$G$5)/(Analyzer!$K$4*336)),0,SpeedConv*(AU$18*Analyzer!$G$5)/(Analyzer!$K$4*336)),0)","v":0},{"$f":"IF(ShowStock,IF(ISERROR((AV$18*Analyzer!$G$5)/(Analyzer!$K$4*336)),0,SpeedConv*(AV$18*Analyzer!$G$5)/(Analyzer!$K$4*336)),0)","v":0},{"$f":"IF(ShowStock,IF(ISERROR((AW$18*Analyzer!$G$5)/(Analyzer!$K$4*336)),0,SpeedConv*(AW$18*Analyzer!$G$5)/(Analyzer!$K$4*336)),0)","v":0},{"$f":"IF(ShowStock,IF(ISERROR((AX$18*Analyzer!$G$5)/(Analyzer!$K$4*336)),0,SpeedConv*(AX$18*Analyzer!$G$5)/(Analyzer!$K$4*336)),0)","v":0},{"$f":"IF(ShowStock,IF(ISERROR((AY$18*Analyzer!$G$5)/(Analyzer!$K$4*336)),0,SpeedConv*(AY$18*Analyzer!$G$5)/(Analyzer!$K$4*336)),0)","v":0},{"$f":"IF(ShowStock,IF(ISERROR((AZ$18*Analyzer!$G$5)/(Analyzer!$K$4*336)),0,SpeedConv*(AZ$18*Analyzer!$G$5)/(Analyzer!$K$4*336)),0)","v":0},{"$f":"IF(ShowStock,IF(ISERROR((BA$18*Analyzer!$G$5)/(Analyzer!$K$4*336)),0,SpeedConv*(BA$18*Analyzer!$G$5)/(Analyzer!$K$4*336)),0)","v":0},{"$f":"IF(ShowStock,IF(ISERROR((BB$18*Analyzer!$G$5)/(Analyzer!$K$4*336)),0,SpeedConv*(BB$18*Analyzer!$G$5)/(Analyzer!$K$4*336)),0)","v":0},{"$f":"IF(ShowStock,IF(ISERROR((BC$18*Analyzer!$G$5)/(Analyzer!$K$4*336)),0,SpeedConv*(BC$18*Analyzer!$G$5)/(Analyzer!$K$4*336)),0)","v":0},{"$f":"IF(ShowStock,IF(ISERROR((BD$18*Analyzer!$G$5)/(Analyzer!$K$4*336)),0,SpeedConv*(BD$18*Analyzer!$G$5)/(Analyzer!$K$4*336)),0)","v":0},{"$f":"IF(ShowStock,IF(ISERROR((BE$18*Analyzer!$G$5)/(Analyzer!$K$4*336)),0,SpeedConv*(BE$18*Analyzer!$G$5)/(Analyzer!$K$4*336)),0)","v":0},{"$f":"IF(ShowStock,IF(ISERROR((BF$18*Analyzer!$G$5)/(Analyzer!$K$4*336)),0,SpeedConv*(BF$18*Analyzer!$G$5)/(Analyzer!$K$4*336)),0)","v":0},{"$f":"IF(ShowStock,IF(ISERROR((BG$18*Analyzer!$G$5)/(Analyzer!$K$4*336)),0,SpeedConv*(BG$18*Analyzer!$G$5)/(Analyzer!$K$4*336)),0)","v":0},{"$f":"IF(ShowStock,IF(ISERROR((BH$18*Analyzer!$G$5)/(Analyzer!$K$4*336)),0,SpeedConv*(BH$18*Analyzer!$G$5)/(Analyzer!$K$4*336)),0)","v":0},{"$f":"IF(ShowStock,IF(ISERROR((BI$18*Analyzer!$G$5)/(Analyzer!$K$4*336)),0,SpeedConv*(BI$18*Analyzer!$G$5)/(Analyzer!$K$4*336)),0)","v":0},{"$f":"IF(ShowStock,IF(ISERROR((BJ$18*Analyzer!$G$5)/(Analyzer!$K$4*336)),0,SpeedConv*(BJ$18*Analyzer!$G$5)/(Analyzer!$K$4*336)),0)","v":0},{"$f":"IF(ShowStock,IF(ISERROR((BK$18*Analyzer!$G$5)/(Analyzer!$K$4*336)),0,SpeedConv*(BK$18*Analyzer!$G$5)/(Analyzer!$K$4*336)),0)","v":0},{"$f":"IF(ShowStock,IF(ISERROR((BL$18*Analyzer!$G$5)/(Analyzer!$K$4*336)),0,SpeedConv*(BL$18*Analyzer!$G$5)/(Analyzer!$K$4*336)),0)","v":0},{"$f":"IF(ShowStock,IF(ISERROR((BM$18*Analyzer!$G$5)/(Analyzer!$K$4*336)),0,SpeedConv*(BM$18*Analyzer!$G$5)/(Analyzer!$K$4*336)),0)","v":0},{"$f":"IF(ShowStock,IF(ISERROR((BN$18*Analyzer!$G$5)/(Analyzer!$K$4*336)),0,SpeedConv*(BN$18*Analyzer!$G$5)/(Analyzer!$K$4*336)),0)","v":0},{"$f":"IF(ShowStock,IF(ISERROR((BO$18*Analyzer!$G$5)/(Analyzer!$K$4*336)),0,SpeedConv*(BO$18*Analyzer!$G$5)/(Analyzer!$K$4*336)),0)","v":0},{"$f":"IF(ShowStock,IF(ISERROR((BP$18*Analyzer!$G$5)/(Analyzer!$K$4*336)),0,SpeedConv*(BP$18*Analyzer!$G$5)/(Analyzer!$K$4*336)),0)","v":0},{"$f":"IF(ShowStock,IF(ISERROR((BQ$18*Analyzer!$G$5)/(Analyzer!$K$4*336)),0,SpeedConv*(BQ$18*Analyzer!$G$5)/(Analyzer!$K$4*336)),0)","v":0},{"$f":"IF(ShowStock,IF(ISERROR((BR$18*Analyzer!$G$5)/(Analyzer!$K$4*336)),0,SpeedConv*(BR$18*Analyzer!$G$5)/(Analyzer!$K$4*336)),0)","v":0},{"$f":"IF(ShowStock,IF(ISERROR((BS$18*Analyzer!$G$5)/(Analyzer!$K$4*336)),0,SpeedConv*(BS$18*Analyzer!$G$5)/(Analyzer!$K$4*336)),0)","v":0},{"$f":"IF(ShowStock,IF(ISERROR((BT$18*Analyzer!$G$5)/(Analyzer!$K$4*336)),0,SpeedConv*(BT$18*Analyzer!$G$5)/(Analyzer!$K$4*336)),0)","v":0},{"$f":"IF(ShowStock,IF(ISERROR((BU$18*Analyzer!$G$5)/(Analyzer!$K$4*336)),0,SpeedConv*(BU$18*Analyzer!$G$5)/(Analyzer!$K$4*336)),0)","v":0},{"$f":"IF(ShowStock,IF(ISERROR((BV$18*Analyzer!$G$5)/(Analyzer!$K$4*336)),0,SpeedConv*(BV$18*Analyzer!$G$5)/(Analyzer!$K$4*336)),0)","v":0},{"$f":"IF(ShowStock,IF(ISERROR((BW$18*Analyzer!$G$5)/(Analyzer!$K$4*336)),0,SpeedConv*(BW$18*Analyzer!$G$5)/(Analyzer!$K$4*336)),0)","v":0},{"$f":"IF(ShowStock,IF(ISERROR((BX$18*Analyzer!$G$5)/(Analyzer!$K$4*336)),0,SpeedConv*(BX$18*Analyzer!$G$5)/(Analyzer!$K$4*336)),0)","v":0},{"$f":"IF(ShowStock,IF(ISERROR((BY$18*Analyzer!$G$5)/(Analyzer!$K$4*336)),0,SpeedConv*(BY$18*Analyzer!$G$5)/(Analyzer!$K$4*336)),0)","v":0},{"$f":"IF(ShowStock,IF(ISERROR((BZ$18*Analyzer!$G$5)/(Analyzer!$K$4*336)),0,SpeedConv*(BZ$18*Analyzer!$G$5)/(Analyzer!$K$4*336)),0)","v":0},{"$f":"IF(ShowStock,IF(ISERROR((CA$18*Analyzer!$G$5)/(Analyzer!$K$4*336)),0,SpeedConv*(CA$18*Analyzer!$G$5)/(Analyzer!$K$4*336)),0)","v":0},{"$f":"IF(ShowStock,IF(ISERROR((CB$18*Analyzer!$G$5)/(Analyzer!$K$4*336)),0,SpeedConv*(CB$18*Analyzer!$G$5)/(Analyzer!$K$4*336)),0)","v":0},{"$f":"IF(ShowStock,IF(ISERROR((CC$18*Analyzer!$G$5)/(Analyzer!$K$4*336)),0,SpeedConv*(CC$18*Analyzer!$G$5)/(Analyzer!$K$4*336)),0)","v":0},{"$f":"IF(ShowStock,IF(ISERROR((CD$18*Analyzer!$G$5)/(Analyzer!$K$4*336)),0,SpeedConv*(CD$18*Analyzer!$G$5)/(Analyzer!$K$4*336)),0)","v":0},{"$f":"IF(ShowStock,IF(ISERROR((CE$18*Analyzer!$G$5)/(Analyzer!$K$4*336)),0,SpeedConv*(CE$18*Analyzer!$G$5)/(Analyzer!$K$4*336)),0)","v":0},{"$f":"IF(ShowStock,IF(ISERROR((CF$18*Analyzer!$G$5)/(Analyzer!$K$4*336)),0,SpeedConv*(CF$18*Analyzer!$G$5)/(Analyzer!$K$4*336)),0)","v":0},{"$f":"IF(ShowStock,IF(ISERROR((CG$18*Analyzer!$G$5)/(Analyzer!$K$4*336)),0,SpeedConv*(CG$18*Analyzer!$G$5)/(Analyzer!$K$4*336)),0)","v":0},{"$f":"IF(ShowStock,IF(ISERROR((CH$18*Analyzer!$G$5)/(Analyzer!$K$4*336)),0,SpeedConv*(CH$18*Analyzer!$G$5)/(Analyzer!$K$4*336)),0)","v":0},{"$f":"IF(ShowStock,IF(ISERROR((CI$18*Analyzer!$G$5)/(Analyzer!$K$4*336)),0,SpeedConv*(CI$18*Analyzer!$G$5)/(Analyzer!$K$4*336)),0)","v":0},{"$f":"IF(ShowStock,IF(ISERROR((CJ$18*Analyzer!$G$5)/(Analyzer!$K$4*336)),0,SpeedConv*(CJ$18*Analyzer!$G$5)/(Analyzer!$K$4*336)),0)","v":0},{"$f":"IF(ShowStock,IF(ISERROR((CK$18*Analyzer!$G$5)/(Analyzer!$K$4*336)),0,SpeedConv*(CK$18*Analyzer!$G$5)/(Analyzer!$K$4*336)),0)","v":0},{"$f":"IF(ShowStock,IF(ISERROR((CL$18*Analyzer!$G$5)/(Analyzer!$K$4*336)),0,SpeedConv*(CL$18*Analyzer!$G$5)/(Analyzer!$K$4*336)),0)","v":0},{"$f":"IF(ShowStock,IF(ISERROR((CM$18*Analyzer!$G$5)/(Analyzer!$K$4*336)),0,SpeedConv*(CM$18*Analyzer!$G$5)/(Analyzer!$K$4*336)),0)","v":0},{"$f":"IF(ShowStock,IF(ISERROR((CN$18*Analyzer!$G$5)/(Analyzer!$K$4*336)),0,SpeedConv*(CN$18*Analyzer!$G$5)/(Analyzer!$K$4*336)),0)","v":0},{"$f":"IF(ShowStock,IF(ISERROR((CO$18*Analyzer!$G$5)/(Analyzer!$K$4*336)),0,SpeedConv*(CO$18*Analyzer!$G$5)/(Analyzer!$K$4*336)),0)","v":0},{"$f":"IF(ShowStock,IF(ISERROR((CP$18*Analyzer!$G$5)/(Analyzer!$K$4*336)),0,SpeedConv*(CP$18*Analyzer!$G$5)/(Analyzer!$K$4*336)),0)","v":0},{"$f":"IF(ShowStock,IF(ISERROR((CQ$18*Analyzer!$G$5)/(Analyzer!$K$4*336)),0,SpeedConv*(CQ$18*Analyzer!$G$5)/(Analyzer!$K$4*336)),0)","v":0},{"$f":"IF(ShowStock,IF(ISERROR((CR$18*Analyzer!$G$5)/(Analyzer!$K$4*336)),0,SpeedConv*(CR$18*Analyzer!$G$5)/(Analyzer!$K$4*336)),0)","v":0},{"$f":"IF(ShowStock,IF(ISERROR((CS$18*Analyzer!$G$5)/(Analyzer!$K$4*336)),0,SpeedConv*(CS$18*Analyzer!$G$5)/(Analyzer!$K$4*336)),0)","v":0},{"$f":"IF(ShowStock,IF(ISERROR((CT$18*Analyzer!$G$5)/(Analyzer!$K$4*336)),0,SpeedConv*(CT$18*Analyzer!$G$5)/(Analyzer!$K$4*336)),0)","v":0},{"$f":"IF(ShowStock,IF(ISERROR((CU$18*Analyzer!$G$5)/(Analyzer!$K$4*336)),0,SpeedConv*(CU$18*Analyzer!$G$5)/(Analyzer!$K$4*336)),0)","v":0}]
["St-3rd",{"$f":"IF(ShowStock,IF(ISERROR((B$18*Analyzer!$G$5)/(Analyzer!$K$5*336)),0,SpeedConv*(B$18*Analyzer!$G$5)/(Analyzer!$K$5*336)),0)","v":0},{"$f":"IF(ShowStock,IF(ISERROR((C$18*Analyzer!$G$5)/(Analyzer!$K$5*336)),0,SpeedConv*(C$18*Analyzer!$G$5)/(Analyzer!$K$5*336)),0)","v":0},{"$f":"IF(ShowStock,IF(ISERROR((D$18*Analyzer!$G$5)/(Analyzer!$K$5*336)),0,SpeedConv*(D$18*Analyzer!$G$5)/(Analyzer!$K$5*336)),0)","v":0},{"$f":"IF(ShowStock,IF(ISERROR((E$18*Analyzer!$G$5)/(Analyzer!$K$5*336)),0,SpeedConv*(E$18*Analyzer!$G$5)/(Analyzer!$K$5*336)),0)","v":0},{"$f":"IF(ShowStock,IF(ISERROR((F$18*Analyzer!$G$5)/(Analyzer!$K$5*336)),0,SpeedConv*(F$18*Analyzer!$G$5)/(Analyzer!$K$5*336)),0)","v":0},{"$f":"IF(ShowStock,IF(ISERROR((G$18*Analyzer!$G$5)/(Analyzer!$K$5*336)),0,SpeedConv*(G$18*Analyzer!$G$5)/(Analyzer!$K$5*336)),0)","v":0},{"$f":"IF(ShowStock,IF(ISERROR((H$18*Analyzer!$G$5)/(Analyzer!$K$5*336)),0,SpeedConv*(H$18*Analyzer!$G$5)/(Analyzer!$K$5*336)),0)","v":0},{"$f":"IF(ShowStock,IF(ISERROR((I$18*Analyzer!$G$5)/(Analyzer!$K$5*336)),0,SpeedConv*(I$18*Analyzer!$G$5)/(Analyzer!$K$5*336)),0)","v":0},{"$f":"IF(ShowStock,IF(ISERROR((J$18*Analyzer!$G$5)/(Analyzer!$K$5*336)),0,SpeedConv*(J$18*Analyzer!$G$5)/(Analyzer!$K$5*336)),0)","v":0},{"$f":"IF(ShowStock,IF(ISERROR((K$18*Analyzer!$G$5)/(Analyzer!$K$5*336)),0,SpeedConv*(K$18*Analyzer!$G$5)/(Analyzer!$K$5*336)),0)","v":0},{"$f":"IF(ShowStock,IF(ISERROR((L$18*Analyzer!$G$5)/(Analyzer!$K$5*336)),0,SpeedConv*(L$18*Analyzer!$G$5)/(Analyzer!$K$5*336)),0)","v":0},{"$f":"IF(ShowStock,IF(ISERROR((M$18*Analyzer!$G$5)/(Analyzer!$K$5*336)),0,SpeedConv*(M$18*Analyzer!$G$5)/(Analyzer!$K$5*336)),0)","v":0},{"$f":"IF(ShowStock,IF(ISERROR((N$18*Analyzer!$G$5)/(Analyzer!$K$5*336)),0,SpeedConv*(N$18*Analyzer!$G$5)/(Analyzer!$K$5*336)),0)","v":0},{"$f":"IF(ShowStock,IF(ISERROR((O$18*Analyzer!$G$5)/(Analyzer!$K$5*336)),0,SpeedConv*(O$18*Analyzer!$G$5)/(Analyzer!$K$5*336)),0)","v":0},{"$f":"IF(ShowStock,IF(ISERROR((P$18*Analyzer!$G$5)/(Analyzer!$K$5*336)),0,SpeedConv*(P$18*Analyzer!$G$5)/(Analyzer!$K$5*336)),0)","v":0},{"$f":"IF(ShowStock,IF(ISERROR((Q$18*Analyzer!$G$5)/(Analyzer!$K$5*336)),0,SpeedConv*(Q$18*Analyzer!$G$5)/(Analyzer!$K$5*336)),0)","v":0},{"$f":"IF(ShowStock,IF(ISERROR((R$18*Analyzer!$G$5)/(Analyzer!$K$5*336)),0,SpeedConv*(R$18*Analyzer!$G$5)/(Analyzer!$K$5*336)),0)","v":0},{"$f":"IF(ShowStock,IF(ISERROR((S$18*Analyzer!$G$5)/(Analyzer!$K$5*336)),0,SpeedConv*(S$18*Analyzer!$G$5)/(Analyzer!$K$5*336)),0)","v":0},{"$f":"IF(ShowStock,IF(ISERROR((T$18*Analyzer!$G$5)/(Analyzer!$K$5*336)),0,SpeedConv*(T$18*Analyzer!$G$5)/(Analyzer!$K$5*336)),0)","v":0},{"$f":"IF(ShowStock,IF(ISERROR((U$18*Analyzer!$G$5)/(Analyzer!$K$5*336)),0,SpeedConv*(U$18*Analyzer!$G$5)/(Analyzer!$K$5*336)),0)","v":0},{"$f":"IF(ShowStock,IF(ISERROR((V$18*Analyzer!$G$5)/(Analyzer!$K$5*336)),0,SpeedConv*(V$18*Analyzer!$G$5)/(Analyzer!$K$5*336)),0)","v":0},{"$f":"IF(ShowStock,IF(ISERROR((W$18*Analyzer!$G$5)/(Analyzer!$K$5*336)),0,SpeedConv*(W$18*Analyzer!$G$5)/(Analyzer!$K$5*336)),0)","v":0},{"$f":"IF(ShowStock,IF(ISERROR((X$18*Analyzer!$G$5)/(Analyzer!$K$5*336)),0,SpeedConv*(X$18*Analyzer!$G$5)/(Analyzer!$K$5*336)),0)","v":0},{"$f":"IF(ShowStock,IF(ISERROR((Y$18*Analyzer!$G$5)/(Analyzer!$K$5*336)),0,SpeedConv*(Y$18*Analyzer!$G$5)/(Analyzer!$K$5*336)),0)","v":0},{"$f":"IF(ShowStock,IF(ISERROR((Z$18*Analyzer!$G$5)/(Analyzer!$K$5*336)),0,SpeedConv*(Z$18*Analyzer!$G$5)/(Analyzer!$K$5*336)),0)","v":0},{"$f":"IF(ShowStock,IF(ISERROR((AA$18*Analyzer!$G$5)/(Analyzer!$K$5*336)),0,SpeedConv*(AA$18*Analyzer!$G$5)/(Analyzer!$K$5*336)),0)","v":0},{"$f":"IF(ShowStock,IF(ISERROR((AB$18*Analyzer!$G$5)/(Analyzer!$K$5*336)),0,SpeedConv*(AB$18*Analyzer!$G$5)/(Analyzer!$K$5*336)),0)","v":0},{"$f":"IF(ShowStock,IF(ISERROR((AC$18*Analyzer!$G$5)/(Analyzer!$K$5*336)),0,SpeedConv*(AC$18*Analyzer!$G$5)/(Analyzer!$K$5*336)),0)","v":0},{"$f":"IF(ShowStock,IF(ISERROR((AD$18*Analyzer!$G$5)/(Analyzer!$K$5*336)),0,SpeedConv*(AD$18*Analyzer!$G$5)/(Analyzer!$K$5*336)),0)","v":0},{"$f":"IF(ShowStock,IF(ISERROR((AE$18*Analyzer!$G$5)/(Analyzer!$K$5*336)),0,SpeedConv*(AE$18*Analyzer!$G$5)/(Analyzer!$K$5*336)),0)","v":0},{"$f":"IF(ShowStock,IF(ISERROR((AF$18*Analyzer!$G$5)/(Analyzer!$K$5*336)),0,SpeedConv*(AF$18*Analyzer!$G$5)/(Analyzer!$K$5*336)),0)","v":0},{"$f":"IF(ShowStock,IF(ISERROR((AG$18*Analyzer!$G$5)/(Analyzer!$K$5*336)),0,SpeedConv*(AG$18*Analyzer!$G$5)/(Analyzer!$K$5*336)),0)","v":0},{"$f":"IF(ShowStock,IF(ISERROR((AH$18*Analyzer!$G$5)/(Analyzer!$K$5*336)),0,SpeedConv*(AH$18*Analyzer!$G$5)/(Analyzer!$K$5*336)),0)","v":0},{"$f":"IF(ShowStock,IF(ISERROR((AI$18*Analyzer!$G$5)/(Analyzer!$K$5*336)),0,SpeedConv*(AI$18*Analyzer!$G$5)/(Analyzer!$K$5*336)),0)","v":0},{"$f":"IF(ShowStock,IF(ISERROR((AJ$18*Analyzer!$G$5)/(Analyzer!$K$5*336)),0,SpeedConv*(AJ$18*Analyzer!$G$5)/(Analyzer!$K$5*336)),0)","v":0},{"$f":"IF(ShowStock,IF(ISERROR((AK$18*Analyzer!$G$5)/(Analyzer!$K$5*336)),0,SpeedConv*(AK$18*Analyzer!$G$5)/(Analyzer!$K$5*336)),0)","v":0},{"$f":"IF(ShowStock,IF(ISERROR((AL$18*Analyzer!$G$5)/(Analyzer!$K$5*336)),0,SpeedConv*(AL$18*Analyzer!$G$5)/(Analyzer!$K$5*336)),0)","v":0},{"$f":"IF(ShowStock,IF(ISERROR((AM$18*Analyzer!$G$5)/(Analyzer!$K$5*336)),0,SpeedConv*(AM$18*Analyzer!$G$5)/(Analyzer!$K$5*336)),0)","v":0},{"$f":"IF(ShowStock,IF(ISERROR((AN$18*Analyzer!$G$5)/(Analyzer!$K$5*336)),0,SpeedConv*(AN$18*Analyzer!$G$5)/(Analyzer!$K$5*336)),0)","v":0},{"$f":"IF(ShowStock,IF(ISERROR((AO$18*Analyzer!$G$5)/(Analyzer!$K$5*336)),0,SpeedConv*(AO$18*Analyzer!$G$5)/(Analyzer!$K$5*336)),0)","v":0},{"$f":"IF(ShowStock,IF(ISERROR((AP$18*Analyzer!$G$5)/(Analyzer!$K$5*336)),0,SpeedConv*(AP$18*Analyzer!$G$5)/(Analyzer!$K$5*336)),0)","v":0},{"$f":"IF(ShowStock,IF(ISERROR((AQ$18*Analyzer!$G$5)/(Analyzer!$K$5*336)),0,SpeedConv*(AQ$18*Analyzer!$G$5)/(Analyzer!$K$5*336)),0)","v":0},{"$f":"IF(ShowStock,IF(ISERROR((AR$18*Analyzer!$G$5)/(Analyzer!$K$5*336)),0,SpeedConv*(AR$18*Analyzer!$G$5)/(Analyzer!$K$5*336)),0)","v":0},{"$f":"IF(ShowStock,IF(ISERROR((AS$18*Analyzer!$G$5)/(Analyzer!$K$5*336)),0,SpeedConv*(AS$18*Analyzer!$G$5)/(Analyzer!$K$5*336)),0)","v":0},{"$f":"IF(ShowStock,IF(ISERROR((AT$18*Analyzer!$G$5)/(Analyzer!$K$5*336)),0,SpeedConv*(AT$18*Analyzer!$G$5)/(Analyzer!$K$5*336)),0)","v":0},{"$f":"IF(ShowStock,IF(ISERROR((AU$18*Analyzer!$G$5)/(Analyzer!$K$5*336)),0,SpeedConv*(AU$18*Analyzer!$G$5)/(Analyzer!$K$5*336)),0)","v":0},{"$f":"IF(ShowStock,IF(ISERROR((AV$18*Analyzer!$G$5)/(Analyzer!$K$5*336)),0,SpeedConv*(AV$18*Analyzer!$G$5)/(Analyzer!$K$5*336)),0)","v":0},{"$f":"IF(ShowStock,IF(ISERROR((AW$18*Analyzer!$G$5)/(Analyzer!$K$5*336)),0,SpeedConv*(AW$18*Analyzer!$G$5)/(Analyzer!$K$5*336)),0)","v":0},{"$f":"IF(ShowStock,IF(ISERROR((AX$18*Analyzer!$G$5)/(Analyzer!$K$5*336)),0,SpeedConv*(AX$18*Analyzer!$G$5)/(Analyzer!$K$5*336)),0)","v":0},{"$f":"IF(ShowStock,IF(ISERROR((AY$18*Analyzer!$G$5)/(Analyzer!$K$5*336)),0,SpeedConv*(AY$18*Analyzer!$G$5)/(Analyzer!$K$5*336)),0)","v":0},{"$f":"IF(ShowStock,IF(ISERROR((AZ$18*Analyzer!$G$5)/(Analyzer!$K$5*336)),0,SpeedConv*(AZ$18*Analyzer!$G$5)/(Analyzer!$K$5*336)),0)","v":0},{"$f":"IF(ShowStock,IF(ISERROR((BA$18*Analyzer!$G$5)/(Analyzer!$K$5*336)),0,SpeedConv*(BA$18*Analyzer!$G$5)/(Analyzer!$K$5*336)),0)","v":0},{"$f":"IF(ShowStock,IF(ISERROR((BB$18*Analyzer!$G$5)/(Analyzer!$K$5*336)),0,SpeedConv*(BB$18*Analyzer!$G$5)/(Analyzer!$K$5*336)),0)","v":0},{"$f":"IF(ShowStock,IF(ISERROR((BC$18*Analyzer!$G$5)/(Analyzer!$K$5*336)),0,SpeedConv*(BC$18*Analyzer!$G$5)/(Analyzer!$K$5*336)),0)","v":0},{"$f":"IF(ShowStock,IF(ISERROR((BD$18*Analyzer!$G$5)/(Analyzer!$K$5*336)),0,SpeedConv*(BD$18*Analyzer!$G$5)/(Analyzer!$K$5*336)),0)","v":0},{"$f":"IF(ShowStock,IF(ISERROR((BE$18*Analyzer!$G$5)/(Analyzer!$K$5*336)),0,SpeedConv*(BE$18*Analyzer!$G$5)/(Analyzer!$K$5*336)),0)","v":0},{"$f":"IF(ShowStock,IF(ISERROR((BF$18*Analyzer!$G$5)/(Analyzer!$K$5*336)),0,SpeedConv*(BF$18*Analyzer!$G$5)/(Analyzer!$K$5*336)),0)","v":0},{"$f":"IF(ShowStock,IF(ISERROR((BG$18*Analyzer!$G$5)/(Analyzer!$K$5*336)),0,SpeedConv*(BG$18*Analyzer!$G$5)/(Analyzer!$K$5*336)),0)","v":0},{"$f":"IF(ShowStock,IF(ISERROR((BH$18*Analyzer!$G$5)/(Analyzer!$K$5*336)),0,SpeedConv*(BH$18*Analyzer!$G$5)/(Analyzer!$K$5*336)),0)","v":0},{"$f":"IF(ShowStock,IF(ISERROR((BI$18*Analyzer!$G$5)/(Analyzer!$K$5*336)),0,SpeedConv*(BI$18*Analyzer!$G$5)/(Analyzer!$K$5*336)),0)","v":0},{"$f":"IF(ShowStock,IF(ISERROR((BJ$18*Analyzer!$G$5)/(Analyzer!$K$5*336)),0,SpeedConv*(BJ$18*Analyzer!$G$5)/(Analyzer!$K$5*336)),0)","v":0},{"$f":"IF(ShowStock,IF(ISERROR((BK$18*Analyzer!$G$5)/(Analyzer!$K$5*336)),0,SpeedConv*(BK$18*Analyzer!$G$5)/(Analyzer!$K$5*336)),0)","v":0},{"$f":"IF(ShowStock,IF(ISERROR((BL$18*Analyzer!$G$5)/(Analyzer!$K$5*336)),0,SpeedConv*(BL$18*Analyzer!$G$5)/(Analyzer!$K$5*336)),0)","v":0},{"$f":"IF(ShowStock,IF(ISERROR((BM$18*Analyzer!$G$5)/(Analyzer!$K$5*336)),0,SpeedConv*(BM$18*Analyzer!$G$5)/(Analyzer!$K$5*336)),0)","v":0},{"$f":"IF(ShowStock,IF(ISERROR((BN$18*Analyzer!$G$5)/(Analyzer!$K$5*336)),0,SpeedConv*(BN$18*Analyzer!$G$5)/(Analyzer!$K$5*336)),0)","v":0},{"$f":"IF(ShowStock,IF(ISERROR((BO$18*Analyzer!$G$5)/(Analyzer!$K$5*336)),0,SpeedConv*(BO$18*Analyzer!$G$5)/(Analyzer!$K$5*336)),0)","v":0},{"$f":"IF(ShowStock,IF(ISERROR((BP$18*Analyzer!$G$5)/(Analyzer!$K$5*336)),0,SpeedConv*(BP$18*Analyzer!$G$5)/(Analyzer!$K$5*336)),0)","v":0},{"$f":"IF(ShowStock,IF(ISERROR((BQ$18*Analyzer!$G$5)/(Analyzer!$K$5*336)),0,SpeedConv*(BQ$18*Analyzer!$G$5)/(Analyzer!$K$5*336)),0)","v":0},{"$f":"IF(ShowStock,IF(ISERROR((BR$18*Analyzer!$G$5)/(Analyzer!$K$5*336)),0,SpeedConv*(BR$18*Analyzer!$G$5)/(Analyzer!$K$5*336)),0)","v":0},{"$f":"IF(ShowStock,IF(ISERROR((BS$18*Analyzer!$G$5)/(Analyzer!$K$5*336)),0,SpeedConv*(BS$18*Analyzer!$G$5)/(Analyzer!$K$5*336)),0)","v":0},{"$f":"IF(ShowStock,IF(ISERROR((BT$18*Analyzer!$G$5)/(Analyzer!$K$5*336)),0,SpeedConv*(BT$18*Analyzer!$G$5)/(Analyzer!$K$5*336)),0)","v":0},{"$f":"IF(ShowStock,IF(ISERROR((BU$18*Analyzer!$G$5)/(Analyzer!$K$5*336)),0,SpeedConv*(BU$18*Analyzer!$G$5)/(Analyzer!$K$5*336)),0)","v":0},{"$f":"IF(ShowStock,IF(ISERROR((BV$18*Analyzer!$G$5)/(Analyzer!$K$5*336)),0,SpeedConv*(BV$18*Analyzer!$G$5)/(Analyzer!$K$5*336)),0)","v":0},{"$f":"IF(ShowStock,IF(ISERROR((BW$18*Analyzer!$G$5)/(Analyzer!$K$5*336)),0,SpeedConv*(BW$18*Analyzer!$G$5)/(Analyzer!$K$5*336)),0)","v":0},{"$f":"IF(ShowStock,IF(ISERROR((BX$18*Analyzer!$G$5)/(Analyzer!$K$5*336)),0,SpeedConv*(BX$18*Analyzer!$G$5)/(Analyzer!$K$5*336)),0)","v":0},{"$f":"IF(ShowStock,IF(ISERROR((BY$18*Analyzer!$G$5)/(Analyzer!$K$5*336)),0,SpeedConv*(BY$18*Analyzer!$G$5)/(Analyzer!$K$5*336)),0)","v":0},{"$f":"IF(ShowStock,IF(ISERROR((BZ$18*Analyzer!$G$5)/(Analyzer!$K$5*336)),0,SpeedConv*(BZ$18*Analyzer!$G$5)/(Analyzer!$K$5*336)),0)","v":0},{"$f":"IF(ShowStock,IF(ISERROR((CA$18*Analyzer!$G$5)/(Analyzer!$K$5*336)),0,SpeedConv*(CA$18*Analyzer!$G$5)/(Analyzer!$K$5*336)),0)","v":0},{"$f":"IF(ShowStock,IF(ISERROR((CB$18*Analyzer!$G$5)/(Analyzer!$K$5*336)),0,SpeedConv*(CB$18*Analyzer!$G$5)/(Analyzer!$K$5*336)),0)","v":0},{"$f":"IF(ShowStock,IF(ISERROR((CC$18*Analyzer!$G$5)/(Analyzer!$K$5*336)),0,SpeedConv*(CC$18*Analyzer!$G$5)/(Analyzer!$K$5*336)),0)","v":0},{"$f":"IF(ShowStock,IF(ISERROR((CD$18*Analyzer!$G$5)/(Analyzer!$K$5*336)),0,SpeedConv*(CD$18*Analyzer!$G$5)/(Analyzer!$K$5*336)),0)","v":0},{"$f":"IF(ShowStock,IF(ISERROR((CE$18*Analyzer!$G$5)/(Analyzer!$K$5*336)),0,SpeedConv*(CE$18*Analyzer!$G$5)/(Analyzer!$K$5*336)),0)","v":0},{"$f":"IF(ShowStock,IF(ISERROR((CF$18*Analyzer!$G$5)/(Analyzer!$K$5*336)),0,SpeedConv*(CF$18*Analyzer!$G$5)/(Analyzer!$K$5*336)),0)","v":0},{"$f":"IF(ShowStock,IF(ISERROR((CG$18*Analyzer!$G$5)/(Analyzer!$K$5*336)),0,SpeedConv*(CG$18*Analyzer!$G$5)/(Analyzer!$K$5*336)),0)","v":0},{"$f":"IF(ShowStock,IF(ISERROR((CH$18*Analyzer!$G$5)/(Analyzer!$K$5*336)),0,SpeedConv*(CH$18*Analyzer!$G$5)/(Analyzer!$K$5*336)),0)","v":0},{"$f":"IF(ShowStock,IF(ISERROR((CI$18*Analyzer!$G$5)/(Analyzer!$K$5*336)),0,SpeedConv*(CI$18*Analyzer!$G$5)/(Analyzer!$K$5*336)),0)","v":0},{"$f":"IF(ShowStock,IF(ISERROR((CJ$18*Analyzer!$G$5)/(Analyzer!$K$5*336)),0,SpeedConv*(CJ$18*Analyzer!$G$5)/(Analyzer!$K$5*336)),0)","v":0},{"$f":"IF(ShowStock,IF(ISERROR((CK$18*Analyzer!$G$5)/(Analyzer!$K$5*336)),0,SpeedConv*(CK$18*Analyzer!$G$5)/(Analyzer!$K$5*336)),0)","v":0},{"$f":"IF(ShowStock,IF(ISERROR((CL$18*Analyzer!$G$5)/(Analyzer!$K$5*336)),0,SpeedConv*(CL$18*Analyzer!$G$5)/(Analyzer!$K$5*336)),0)","v":0},{"$f":"IF(ShowStock,IF(ISERROR((CM$18*Analyzer!$G$5)/(Analyzer!$K$5*336)),0,SpeedConv*(CM$18*Analyzer!$G$5)/(Analyzer!$K$5*336)),0)","v":0},{"$f":"IF(ShowStock,IF(ISERROR((CN$18*Analyzer!$G$5)/(Analyzer!$K$5*336)),0,SpeedConv*(CN$18*Analyzer!$G$5)/(Analyzer!$K$5*336)),0)","v":0},{"$f":"IF(ShowStock,IF(ISERROR((CO$18*Analyzer!$G$5)/(Analyzer!$K$5*336)),0,SpeedConv*(CO$18*Analyzer!$G$5)/(Analyzer!$K$5*336)),0)","v":0},{"$f":"IF(ShowStock,IF(ISERROR((CP$18*Analyzer!$G$5)/(Analyzer!$K$5*336)),0,SpeedConv*(CP$18*Analyzer!$G$5)/(Analyzer!$K$5*336)),0)","v":0},{"$f":"IF(ShowStock,IF(ISERROR((CQ$18*Analyzer!$G$5)/(Analyzer!$K$5*336)),0,SpeedConv*(CQ$18*Analyzer!$G$5)/(Analyzer!$K$5*336)),0)","v":0},{"$f":"IF(ShowStock,IF(ISERROR((CR$18*Analyzer!$G$5)/(Analyzer!$K$5*336)),0,SpeedConv*(CR$18*Analyzer!$G$5)/(Analyzer!$K$5*336)),0)","v":0},{"$f":"IF(ShowStock,IF(ISERROR((CS$18*Analyzer!$G$5)/(Analyzer!$K$5*336)),0,SpeedConv*(CS$18*Analyzer!$G$5)/(Analyzer!$K$5*336)),0)","v":0},{"$f":"IF(ShowStock,IF(ISERROR((CT$18*Analyzer!$G$5)/(Analyzer!$K$5*336)),0,SpeedConv*(CT$18*Analyzer!$G$5)/(Analyzer!$K$5*336)),0)","v":0},{"$f":"IF(ShowStock,IF(ISERROR((CU$18*Analyzer!$G$5)/(Analyzer!$K$5*336)),0,SpeedConv*(CU$18*Analyzer!$G$5)/(Analyzer!$K$5*336)),0)","v":0}]
["St-4th",{"$f":"IF(ShowStock,IF(ISERROR((B$18*Analyzer!$G$5)/(Analyzer!$K$6*336)),0,SpeedConv*(B$18*Analyzer!$G$5)/(Analyzer!$K$6*336)),0)","v":0},{"$f":"IF(ShowStock,IF(ISERROR((C$18*Analyzer!$G$5)/(Analyzer!$K$6*336)),0,SpeedConv*(C$18*Analyzer!$G$5)/(Analyzer!$K$6*336)),0)","v":0},{"$f":"IF(ShowStock,IF(ISERROR((D$18*Analyzer!$G$5)/(Analyzer!$K$6*336)),0,SpeedConv*(D$18*Analyzer!$G$5)/(Analyzer!$K$6*336)),0)","v":0},{"$f":"IF(ShowStock,IF(ISERROR((E$18*Analyzer!$G$5)/(Analyzer!$K$6*336)),0,SpeedConv*(E$18*Analyzer!$G$5)/(Analyzer!$K$6*336)),0)","v":0},{"$f":"IF(ShowStock,IF(ISERROR((F$18*Analyzer!$G$5)/(Analyzer!$K$6*336)),0,SpeedConv*(F$18*Analyzer!$G$5)/(Analyzer!$K$6*336)),0)","v":0},{"$f":"IF(ShowStock,IF(ISERROR((G$18*Analyzer!$G$5)/(Analyzer!$K$6*336)),0,SpeedConv*(G$18*Analyzer!$G$5)/(Analyzer!$K$6*336)),0)","v":0},{"$f":"IF(ShowStock,IF(ISERROR((H$18*Analyzer!$G$5)/(Analyzer!$K$6*336)),0,SpeedConv*(H$18*Analyzer!$G$5)/(Analyzer!$K$6*336)),0)","v":0},{"$f":"IF(ShowStock,IF(ISERROR((I$18*Analyzer!$G$5)/(Analyzer!$K$6*336)),0,SpeedConv*(I$18*Analyzer!$G$5)/(Analyzer!$K$6*336)),0)","v":0},{"$f":"IF(ShowStock,IF(ISERROR((J$18*Analyzer!$G$5)/(Analyzer!$K$6*336)),0,SpeedConv*(J$18*Analyzer!$G$5)/(Analyzer!$K$6*336)),0)","v":0},{"$f":"IF(ShowStock,IF(ISERROR((K$18*Analyzer!$G$5)/(Analyzer!$K$6*336)),0,SpeedConv*(K$18*Analyzer!$G$5)/(Analyzer!$K$6*336)),0)","v":0},{"$f":"IF(ShowStock,IF(ISERROR((L$18*Analyzer!$G$5)/(Analyzer!$K$6*336)),0,SpeedConv*(L$18*Analyzer!$G$5)/(Analyzer!$K$6*336)),0)","v":0},{"$f":"IF(ShowStock,IF(ISERROR((M$18*Analyzer!$G$5)/(Analyzer!$K$6*336)),0,SpeedConv*(M$18*Analyzer!$G$5)/(Analyzer!$K$6*336)),0)","v":0},{"$f":"IF(ShowStock,IF(ISERROR((N$18*Analyzer!$G$5)/(Analyzer!$K$6*336)),0,SpeedConv*(N$18*Analyzer!$G$5)/(Analyzer!$K$6*336)),0)","v":0},{"$f":"IF(ShowStock,IF(ISERROR((O$18*Analyzer!$G$5)/(Analyzer!$K$6*336)),0,SpeedConv*(O$18*Analyzer!$G$5)/(Analyzer!$K$6*336)),0)","v":0},{"$f":"IF(ShowStock,IF(ISERROR((P$18*Analyzer!$G$5)/(Analyzer!$K$6*336)),0,SpeedConv*(P$18*Analyzer!$G$5)/(Analyzer!$K$6*336)),0)","v":0},{"$f":"IF(ShowStock,IF(ISERROR((Q$18*Analyzer!$G$5)/(Analyzer!$K$6*336)),0,SpeedConv*(Q$18*Analyzer!$G$5)/(Analyzer!$K$6*336)),0)","v":0},{"$f":"IF(ShowStock,IF(ISERROR((R$18*Analyzer!$G$5)/(Analyzer!$K$6*336)),0,SpeedConv*(R$18*Analyzer!$G$5)/(Analyzer!$K$6*336)),0)","v":0},{"$f":"IF(ShowStock,IF(ISERROR((S$18*Analyzer!$G$5)/(Analyzer!$K$6*336)),0,SpeedConv*(S$18*Analyzer!$G$5)/(Analyzer!$K$6*336)),0)","v":0},{"$f":"IF(ShowStock,IF(ISERROR((T$18*Analyzer!$G$5)/(Analyzer!$K$6*336)),0,SpeedConv*(T$18*Analyzer!$G$5)/(Analyzer!$K$6*336)),0)","v":0},{"$f":"IF(ShowStock,IF(ISERROR((U$18*Analyzer!$G$5)/(Analyzer!$K$6*336)),0,SpeedConv*(U$18*Analyzer!$G$5)/(Analyzer!$K$6*336)),0)","v":0},{"$f":"IF(ShowStock,IF(ISERROR((V$18*Analyzer!$G$5)/(Analyzer!$K$6*336)),0,SpeedConv*(V$18*Analyzer!$G$5)/(Analyzer!$K$6*336)),0)","v":0},{"$f":"IF(ShowStock,IF(ISERROR((W$18*Analyzer!$G$5)/(Analyzer!$K$6*336)),0,SpeedConv*(W$18*Analyzer!$G$5)/(Analyzer!$K$6*336)),0)","v":0},{"$f":"IF(ShowStock,IF(ISERROR((X$18*Analyzer!$G$5)/(Analyzer!$K$6*336)),0,SpeedConv*(X$18*Analyzer!$G$5)/(Analyzer!$K$6*336)),0)","v":0},{"$f":"IF(ShowStock,IF(ISERROR((Y$18*Analyzer!$G$5)/(Analyzer!$K$6*336)),0,SpeedConv*(Y$18*Analyzer!$G$5)/(Analyzer!$K$6*336)),0)","v":0},{"$f":"IF(ShowStock,IF(ISERROR((Z$18*Analyzer!$G$5)/(Analyzer!$K$6*336)),0,SpeedConv*(Z$18*Analyzer!$G$5)/(Analyzer!$K$6*336)),0)","v":0},{"$f":"IF(ShowStock,IF(ISERROR((AA$18*Analyzer!$G$5)/(Analyzer!$K$6*336)),0,SpeedConv*(AA$18*Analyzer!$G$5)/(Analyzer!$K$6*336)),0)","v":0},{"$f":"IF(ShowStock,IF(ISERROR((AB$18*Analyzer!$G$5)/(Analyzer!$K$6*336)),0,SpeedConv*(AB$18*Analyzer!$G$5)/(Analyzer!$K$6*336)),0)","v":0},{"$f":"IF(ShowStock,IF(ISERROR((AC$18*Analyzer!$G$5)/(Analyzer!$K$6*336)),0,SpeedConv*(AC$18*Analyzer!$G$5)/(Analyzer!$K$6*336)),0)","v":0},{"$f":"IF(ShowStock,IF(ISERROR((AD$18*Analyzer!$G$5)/(Analyzer!$K$6*336)),0,SpeedConv*(AD$18*Analyzer!$G$5)/(Analyzer!$K$6*336)),0)","v":0},{"$f":"IF(ShowStock,IF(ISERROR((AE$18*Analyzer!$G$5)/(Analyzer!$K$6*336)),0,SpeedConv*(AE$18*Analyzer!$G$5)/(Analyzer!$K$6*336)),0)","v":0},{"$f":"IF(ShowStock,IF(ISERROR((AF$18*Analyzer!$G$5)/(Analyzer!$K$6*336)),0,SpeedConv*(AF$18*Analyzer!$G$5)/(Analyzer!$K$6*336)),0)","v":0},{"$f":"IF(ShowStock,IF(ISERROR((AG$18*Analyzer!$G$5)/(Analyzer!$K$6*336)),0,SpeedConv*(AG$18*Analyzer!$G$5)/(Analyzer!$K$6*336)),0)","v":0},{"$f":"IF(ShowStock,IF(ISERROR((AH$18*Analyzer!$G$5)/(Analyzer!$K$6*336)),0,SpeedConv*(AH$18*Analyzer!$G$5)/(Analyzer!$K$6*336)),0)","v":0},{"$f":"IF(ShowStock,IF(ISERROR((AI$18*Analyzer!$G$5)/(Analyzer!$K$6*336)),0,SpeedConv*(AI$18*Analyzer!$G$5)/(Analyzer!$K$6*336)),0)","v":0},{"$f":"IF(ShowStock,IF(ISERROR((AJ$18*Analyzer!$G$5)/(Analyzer!$K$6*336)),0,SpeedConv*(AJ$18*Analyzer!$G$5)/(Analyzer!$K$6*336)),0)","v":0},{"$f":"IF(ShowStock,IF(ISERROR((AK$18*Analyzer!$G$5)/(Analyzer!$K$6*336)),0,SpeedConv*(AK$18*Analyzer!$G$5)/(Analyzer!$K$6*336)),0)","v":0},{"$f":"IF(ShowStock,IF(ISERROR((AL$18*Analyzer!$G$5)/(Analyzer!$K$6*336)),0,SpeedConv*(AL$18*Analyzer!$G$5)/(Analyzer!$K$6*336)),0)","v":0},{"$f":"IF(ShowStock,IF(ISERROR((AM$18*Analyzer!$G$5)/(Analyzer!$K$6*336)),0,SpeedConv*(AM$18*Analyzer!$G$5)/(Analyzer!$K$6*336)),0)","v":0},{"$f":"IF(ShowStock,IF(ISERROR((AN$18*Analyzer!$G$5)/(Analyzer!$K$6*336)),0,SpeedConv*(AN$18*Analyzer!$G$5)/(Analyzer!$K$6*336)),0)","v":0},{"$f":"IF(ShowStock,IF(ISERROR((AO$18*Analyzer!$G$5)/(Analyzer!$K$6*336)),0,SpeedConv*(AO$18*Analyzer!$G$5)/(Analyzer!$K$6*336)),0)","v":0},{"$f":"IF(ShowStock,IF(ISERROR((AP$18*Analyzer!$G$5)/(Analyzer!$K$6*336)),0,SpeedConv*(AP$18*Analyzer!$G$5)/(Analyzer!$K$6*336)),0)","v":0},{"$f":"IF(ShowStock,IF(ISERROR((AQ$18*Analyzer!$G$5)/(Analyzer!$K$6*336)),0,SpeedConv*(AQ$18*Analyzer!$G$5)/(Analyzer!$K$6*336)),0)","v":0},{"$f":"IF(ShowStock,IF(ISERROR((AR$18*Analyzer!$G$5)/(Analyzer!$K$6*336)),0,SpeedConv*(AR$18*Analyzer!$G$5)/(Analyzer!$K$6*336)),0)","v":0},{"$f":"IF(ShowStock,IF(ISERROR((AS$18*Analyzer!$G$5)/(Analyzer!$K$6*336)),0,SpeedConv*(AS$18*Analyzer!$G$5)/(Analyzer!$K$6*336)),0)","v":0},{"$f":"IF(ShowStock,IF(ISERROR((AT$18*Analyzer!$G$5)/(Analyzer!$K$6*336)),0,SpeedConv*(AT$18*Analyzer!$G$5)/(Analyzer!$K$6*336)),0)","v":0},{"$f":"IF(ShowStock,IF(ISERROR((AU$18*Analyzer!$G$5)/(Analyzer!$K$6*336)),0,SpeedConv*(AU$18*Analyzer!$G$5)/(Analyzer!$K$6*336)),0)","v":0},{"$f":"IF(ShowStock,IF(ISERROR((AV$18*Analyzer!$G$5)/(Analyzer!$K$6*336)),0,SpeedConv*(AV$18*Analyzer!$G$5)/(Analyzer!$K$6*336)),0)","v":0},{"$f":"IF(ShowStock,IF(ISERROR((AW$18*Analyzer!$G$5)/(Analyzer!$K$6*336)),0,SpeedConv*(AW$18*Analyzer!$G$5)/(Analyzer!$K$6*336)),0)","v":0},{"$f":"IF(ShowStock,IF(ISERROR((AX$18*Analyzer!$G$5)/(Analyzer!$K$6*336)),0,SpeedConv*(AX$18*Analyzer!$G$5)/(Analyzer!$K$6*336)),0)","v":0},{"$f":"IF(ShowStock,IF(ISERROR((AY$18*Analyzer!$G$5)/(Analyzer!$K$6*336)),0,SpeedConv*(AY$18*Analyzer!$G$5)/(Analyzer!$K$6*336)),0)","v":0},{"$f":"IF(ShowStock,IF(ISERROR((AZ$18*Analyzer!$G$5)/(Analyzer!$K$6*336)),0,SpeedConv*(AZ$18*Analyzer!$G$5)/(Analyzer!$K$6*336)),0)","v":0},{"$f":"IF(ShowStock,IF(ISERROR((BA$18*Analyzer!$G$5)/(Analyzer!$K$6*336)),0,SpeedConv*(BA$18*Analyzer!$G$5)/(Analyzer!$K$6*336)),0)","v":0},{"$f":"IF(ShowStock,IF(ISERROR((BB$18*Analyzer!$G$5)/(Analyzer!$K$6*336)),0,SpeedConv*(BB$18*Analyzer!$G$5)/(Analyzer!$K$6*336)),0)","v":0},{"$f":"IF(ShowStock,IF(ISERROR((BC$18*Analyzer!$G$5)/(Analyzer!$K$6*336)),0,SpeedConv*(BC$18*Analyzer!$G$5)/(Analyzer!$K$6*336)),0)","v":0},{"$f":"IF(ShowStock,IF(ISERROR((BD$18*Analyzer!$G$5)/(Analyzer!$K$6*336)),0,SpeedConv*(BD$18*Analyzer!$G$5)/(Analyzer!$K$6*336)),0)","v":0},{"$f":"IF(ShowStock,IF(ISERROR((BE$18*Analyzer!$G$5)/(Analyzer!$K$6*336)),0,SpeedConv*(BE$18*Analyzer!$G$5)/(Analyzer!$K$6*336)),0)","v":0},{"$f":"IF(ShowStock,IF(ISERROR((BF$18*Analyzer!$G$5)/(Analyzer!$K$6*336)),0,SpeedConv*(BF$18*Analyzer!$G$5)/(Analyzer!$K$6*336)),0)","v":0},{"$f":"IF(ShowStock,IF(ISERROR((BG$18*Analyzer!$G$5)/(Analyzer!$K$6*336)),0,SpeedConv*(BG$18*Analyzer!$G$5)/(Analyzer!$K$6*336)),0)","v":0},{"$f":"IF(ShowStock,IF(ISERROR((BH$18*Analyzer!$G$5)/(Analyzer!$K$6*336)),0,SpeedConv*(BH$18*Analyzer!$G$5)/(Analyzer!$K$6*336)),0)","v":0},{"$f":"IF(ShowStock,IF(ISERROR((BI$18*Analyzer!$G$5)/(Analyzer!$K$6*336)),0,SpeedConv*(BI$18*Analyzer!$G$5)/(Analyzer!$K$6*336)),0)","v":0},{"$f":"IF(ShowStock,IF(ISERROR((BJ$18*Analyzer!$G$5)/(Analyzer!$K$6*336)),0,SpeedConv*(BJ$18*Analyzer!$G$5)/(Analyzer!$K$6*336)),0)","v":0},{"$f":"IF(ShowStock,IF(ISERROR((BK$18*Analyzer!$G$5)/(Analyzer!$K$6*336)),0,SpeedConv*(BK$18*Analyzer!$G$5)/(Analyzer!$K$6*336)),0)","v":0},{"$f":"IF(ShowStock,IF(ISERROR((BL$18*Analyzer!$G$5)/(Analyzer!$K$6*336)),0,SpeedConv*(BL$18*Analyzer!$G$5)/(Analyzer!$K$6*336)),0)","v":0},{"$f":"IF(ShowStock,IF(ISERROR((BM$18*Analyzer!$G$5)/(Analyzer!$K$6*336)),0,SpeedConv*(BM$18*Analyzer!$G$5)/(Analyzer!$K$6*336)),0)","v":0},{"$f":"IF(ShowStock,IF(ISERROR((BN$18*Analyzer!$G$5)/(Analyzer!$K$6*336)),0,SpeedConv*(BN$18*Analyzer!$G$5)/(Analyzer!$K$6*336)),0)","v":0},{"$f":"IF(ShowStock,IF(ISERROR((BO$18*Analyzer!$G$5)/(Analyzer!$K$6*336)),0,SpeedConv*(BO$18*Analyzer!$G$5)/(Analyzer!$K$6*336)),0)","v":0},{"$f":"IF(ShowStock,IF(ISERROR((BP$18*Analyzer!$G$5)/(Analyzer!$K$6*336)),0,SpeedConv*(BP$18*Analyzer!$G$5)/(Analyzer!$K$6*336)),0)","v":0},{"$f":"IF(ShowStock,IF(ISERROR((BQ$18*Analyzer!$G$5)/(Analyzer!$K$6*336)),0,SpeedConv*(BQ$18*Analyzer!$G$5)/(Analyzer!$K$6*336)),0)","v":0},{"$f":"IF(ShowStock,IF(ISERROR((BR$18*Analyzer!$G$5)/(Analyzer!$K$6*336)),0,SpeedConv*(BR$18*Analyzer!$G$5)/(Analyzer!$K$6*336)),0)","v":0},{"$f":"IF(ShowStock,IF(ISERROR((BS$18*Analyzer!$G$5)/(Analyzer!$K$6*336)),0,SpeedConv*(BS$18*Analyzer!$G$5)/(Analyzer!$K$6*336)),0)","v":0},{"$f":"IF(ShowStock,IF(ISERROR((BT$18*Analyzer!$G$5)/(Analyzer!$K$6*336)),0,SpeedConv*(BT$18*Analyzer!$G$5)/(Analyzer!$K$6*336)),0)","v":0},{"$f":"IF(ShowStock,IF(ISERROR((BU$18*Analyzer!$G$5)/(Analyzer!$K$6*336)),0,SpeedConv*(BU$18*Analyzer!$G$5)/(Analyzer!$K$6*336)),0)","v":0},{"$f":"IF(ShowStock,IF(ISERROR((BV$18*Analyzer!$G$5)/(Analyzer!$K$6*336)),0,SpeedConv*(BV$18*Analyzer!$G$5)/(Analyzer!$K$6*336)),0)","v":0},{"$f":"IF(ShowStock,IF(ISERROR((BW$18*Analyzer!$G$5)/(Analyzer!$K$6*336)),0,SpeedConv*(BW$18*Analyzer!$G$5)/(Analyzer!$K$6*336)),0)","v":0},{"$f":"IF(ShowStock,IF(ISERROR((BX$18*Analyzer!$G$5)/(Analyzer!$K$6*336)),0,SpeedConv*(BX$18*Analyzer!$G$5)/(Analyzer!$K$6*336)),0)","v":0},{"$f":"IF(ShowStock,IF(ISERROR((BY$18*Analyzer!$G$5)/(Analyzer!$K$6*336)),0,SpeedConv*(BY$18*Analyzer!$G$5)/(Analyzer!$K$6*336)),0)","v":0},{"$f":"IF(ShowStock,IF(ISERROR((BZ$18*Analyzer!$G$5)/(Analyzer!$K$6*336)),0,SpeedConv*(BZ$18*Analyzer!$G$5)/(Analyzer!$K$6*336)),0)","v":0},{"$f":"IF(ShowStock,IF(ISERROR((CA$18*Analyzer!$G$5)/(Analyzer!$K$6*336)),0,SpeedConv*(CA$18*Analyzer!$G$5)/(Analyzer!$K$6*336)),0)","v":0},{"$f":"IF(ShowStock,IF(ISERROR((CB$18*Analyzer!$G$5)/(Analyzer!$K$6*336)),0,SpeedConv*(CB$18*Analyzer!$G$5)/(Analyzer!$K$6*336)),0)","v":0},{"$f":"IF(ShowStock,IF(ISERROR((CC$18*Analyzer!$G$5)/(Analyzer!$K$6*336)),0,SpeedConv*(CC$18*Analyzer!$G$5)/(Analyzer!$K$6*336)),0)","v":0},{"$f":"IF(ShowStock,IF(ISERROR((CD$18*Analyzer!$G$5)/(Analyzer!$K$6*336)),0,SpeedConv*(CD$18*Analyzer!$G$5)/(Analyzer!$K$6*336)),0)","v":0},{"$f":"IF(ShowStock,IF(ISERROR((CE$18*Analyzer!$G$5)/(Analyzer!$K$6*336)),0,SpeedConv*(CE$18*Analyzer!$G$5)/(Analyzer!$K$6*336)),0)","v":0},{"$f":"IF(ShowStock,IF(ISERROR((CF$18*Analyzer!$G$5)/(Analyzer!$K$6*336)),0,SpeedConv*(CF$18*Analyzer!$G$5)/(Analyzer!$K$6*336)),0)","v":0},{"$f":"IF(ShowStock,IF(ISERROR((CG$18*Analyzer!$G$5)/(Analyzer!$K$6*336)),0,SpeedConv*(CG$18*Analyzer!$G$5)/(Analyzer!$K$6*336)),0)","v":0},{"$f":"IF(ShowStock,IF(ISERROR((CH$18*Analyzer!$G$5)/(Analyzer!$K$6*336)),0,SpeedConv*(CH$18*Analyzer!$G$5)/(Analyzer!$K$6*336)),0)","v":0},{"$f":"IF(ShowStock,IF(ISERROR((CI$18*Analyzer!$G$5)/(Analyzer!$K$6*336)),0,SpeedConv*(CI$18*Analyzer!$G$5)/(Analyzer!$K$6*336)),0)","v":0},{"$f":"IF(ShowStock,IF(ISERROR((CJ$18*Analyzer!$G$5)/(Analyzer!$K$6*336)),0,SpeedConv*(CJ$18*Analyzer!$G$5)/(Analyzer!$K$6*336)),0)","v":0},{"$f":"IF(ShowStock,IF(ISERROR((CK$18*Analyzer!$G$5)/(Analyzer!$K$6*336)),0,SpeedConv*(CK$18*Analyzer!$G$5)/(Analyzer!$K$6*336)),0)","v":0},{"$f":"IF(ShowStock,IF(ISERROR((CL$18*Analyzer!$G$5)/(Analyzer!$K$6*336)),0,SpeedConv*(CL$18*Analyzer!$G$5)/(Analyzer!$K$6*336)),0)","v":0},{"$f":"IF(ShowStock,IF(ISERROR((CM$18*Analyzer!$G$5)/(Analyzer!$K$6*336)),0,SpeedConv*(CM$18*Analyzer!$G$5)/(Analyzer!$K$6*336)),0)","v":0},{"$f":"IF(ShowStock,IF(ISERROR((CN$18*Analyzer!$G$5)/(Analyzer!$K$6*336)),0,SpeedConv*(CN$18*Analyzer!$G$5)/(Analyzer!$K$6*336)),0)","v":0},{"$f":"IF(ShowStock,IF(ISERROR((CO$18*Analyzer!$G$5)/(Analyzer!$K$6*336)),0,SpeedConv*(CO$18*Analyzer!$G$5)/(Analyzer!$K$6*336)),0)","v":0},{"$f":"IF(ShowStock,IF(ISERROR((CP$18*Analyzer!$G$5)/(Analyzer!$K$6*336)),0,SpeedConv*(CP$18*Analyzer!$G$5)/(Analyzer!$K$6*336)),0)","v":0},{"$f":"IF(ShowStock,IF(ISERROR((CQ$18*Analyzer!$G$5)/(Analyzer!$K$6*336)),0,SpeedConv*(CQ$18*Analyzer!$G$5)/(Analyzer!$K$6*336)),0)","v":0},{"$f":"IF(ShowStock,IF(ISERROR((CR$18*Analyzer!$G$5)/(Analyzer!$K$6*336)),0,SpeedConv*(CR$18*Analyzer!$G$5)/(Analyzer!$K$6*336)),0)","v":0},{"$f":"IF(ShowStock,IF(ISERROR((CS$18*Analyzer!$G$5)/(Analyzer!$K$6*336)),0,SpeedConv*(CS$18*Analyzer!$G$5)/(Analyzer!$K$6*336)),0)","v":0},{"$f":"IF(ShowStock,IF(ISERROR((CT$18*Analyzer!$G$5)/(Analyzer!$K$6*336)),0,SpeedConv*(CT$18*Analyzer!$G$5)/(Analyzer!$K$6*336)),0)","v":0},{"$f":"IF(ShowStock,IF(ISERROR((CU$18*Analyzer!$G$5)/(Analyzer!$K$6*336)),0,SpeedConv*(CU$18*Analyzer!$G$5)/(Analyzer!$K$6*336)),0)","v":0}]
["St-5th",{"$f":"IF(ShowStock,IF(ISERROR((B$18*Analyzer!$G$5)/(Analyzer!$K$7*336)),0,SpeedConv*(B$18*Analyzer!$G$5)/(Analyzer!$K$7*336)),0)","v":0},{"$f":"IF(ShowStock,IF(ISERROR((C$18*Analyzer!$G$5)/(Analyzer!$K$7*336)),0,SpeedConv*(C$18*Analyzer!$G$5)/(Analyzer!$K$7*336)),0)","v":0},{"$f":"IF(ShowStock,IF(ISERROR((D$18*Analyzer!$G$5)/(Analyzer!$K$7*336)),0,SpeedConv*(D$18*Analyzer!$G$5)/(Analyzer!$K$7*336)),0)","v":0},{"$f":"IF(ShowStock,IF(ISERROR((E$18*Analyzer!$G$5)/(Analyzer!$K$7*336)),0,SpeedConv*(E$18*Analyzer!$G$5)/(Analyzer!$K$7*336)),0)","v":0},{"$f":"IF(ShowStock,IF(ISERROR((F$18*Analyzer!$G$5)/(Analyzer!$K$7*336)),0,SpeedConv*(F$18*Analyzer!$G$5)/(Analyzer!$K$7*336)),0)","v":0},{"$f":"IF(ShowStock,IF(ISERROR((G$18*Analyzer!$G$5)/(Analyzer!$K$7*336)),0,SpeedConv*(G$18*Analyzer!$G$5)/(Analyzer!$K$7*336)),0)","v":0},{"$f":"IF(ShowStock,IF(ISERROR((H$18*Analyzer!$G$5)/(Analyzer!$K$7*336)),0,SpeedConv*(H$18*Analyzer!$G$5)/(Analyzer!$K$7*336)),0)","v":0},{"$f":"IF(ShowStock,IF(ISERROR((I$18*Analyzer!$G$5)/(Analyzer!$K$7*336)),0,SpeedConv*(I$18*Analyzer!$G$5)/(Analyzer!$K$7*336)),0)","v":0},{"$f":"IF(ShowStock,IF(ISERROR((J$18*Analyzer!$G$5)/(Analyzer!$K$7*336)),0,SpeedConv*(J$18*Analyzer!$G$5)/(Analyzer!$K$7*336)),0)","v":0},{"$f":"IF(ShowStock,IF(ISERROR((K$18*Analyzer!$G$5)/(Analyzer!$K$7*336)),0,SpeedConv*(K$18*Analyzer!$G$5)/(Analyzer!$K$7*336)),0)","v":0},{"$f":"IF(ShowStock,IF(ISERROR((L$18*Analyzer!$G$5)/(Analyzer!$K$7*336)),0,SpeedConv*(L$18*Analyzer!$G$5)/(Analyzer!$K$7*336)),0)","v":0},{"$f":"IF(ShowStock,IF(ISERROR((M$18*Analyzer!$G$5)/(Analyzer!$K$7*336)),0,SpeedConv*(M$18*Analyzer!$G$5)/(Analyzer!$K$7*336)),0)","v":0},{"$f":"IF(ShowStock,IF(ISERROR((N$18*Analyzer!$G$5)/(Analyzer!$K$7*336)),0,SpeedConv*(N$18*Analyzer!$G$5)/(Analyzer!$K$7*336)),0)","v":0},{"$f":"IF(ShowStock,IF(ISERROR((O$18*Analyzer!$G$5)/(Analyzer!$K$7*336)),0,SpeedConv*(O$18*Analyzer!$G$5)/(Analyzer!$K$7*336)),0)","v":0},{"$f":"IF(ShowStock,IF(ISERROR((P$18*Analyzer!$G$5)/(Analyzer!$K$7*336)),0,SpeedConv*(P$18*Analyzer!$G$5)/(Analyzer!$K$7*336)),0)","v":0},{"$f":"IF(ShowStock,IF(ISERROR((Q$18*Analyzer!$G$5)/(Analyzer!$K$7*336)),0,SpeedConv*(Q$18*Analyzer!$G$5)/(Analyzer!$K$7*336)),0)","v":0},{"$f":"IF(ShowStock,IF(ISERROR((R$18*Analyzer!$G$5)/(Analyzer!$K$7*336)),0,SpeedConv*(R$18*Analyzer!$G$5)/(Analyzer!$K$7*336)),0)","v":0},{"$f":"IF(ShowStock,IF(ISERROR((S$18*Analyzer!$G$5)/(Analyzer!$K$7*336)),0,SpeedConv*(S$18*Analyzer!$G$5)/(Analyzer!$K$7*336)),0)","v":0},{"$f":"IF(ShowStock,IF(ISERROR((T$18*Analyzer!$G$5)/(Analyzer!$K$7*336)),0,SpeedConv*(T$18*Analyzer!$G$5)/(Analyzer!$K$7*336)),0)","v":0},{"$f":"IF(ShowStock,IF(ISERROR((U$18*Analyzer!$G$5)/(Analyzer!$K$7*336)),0,SpeedConv*(U$18*Analyzer!$G$5)/(Analyzer!$K$7*336)),0)","v":0},{"$f":"IF(ShowStock,IF(ISERROR((V$18*Analyzer!$G$5)/(Analyzer!$K$7*336)),0,SpeedConv*(V$18*Analyzer!$G$5)/(Analyzer!$K$7*336)),0)","v":0},{"$f":"IF(ShowStock,IF(ISERROR((W$18*Analyzer!$G$5)/(Analyzer!$K$7*336)),0,SpeedConv*(W$18*Analyzer!$G$5)/(Analyzer!$K$7*336)),0)","v":0},{"$f":"IF(ShowStock,IF(ISERROR((X$18*Analyzer!$G$5)/(Analyzer!$K$7*336)),0,SpeedConv*(X$18*Analyzer!$G$5)/(Analyzer!$K$7*336)),0)","v":0},{"$f":"IF(ShowStock,IF(ISERROR((Y$18*Analyzer!$G$5)/(Analyzer!$K$7*336)),0,SpeedConv*(Y$18*Analyzer!$G$5)/(Analyzer!$K$7*336)),0)","v":0},{"$f":"IF(ShowStock,IF(ISERROR((Z$18*Analyzer!$G$5)/(Analyzer!$K$7*336)),0,SpeedConv*(Z$18*Analyzer!$G$5)/(Analyzer!$K$7*336)),0)","v":0},{"$f":"IF(ShowStock,IF(ISERROR((AA$18*Analyzer!$G$5)/(Analyzer!$K$7*336)),0,SpeedConv*(AA$18*Analyzer!$G$5)/(Analyzer!$K$7*336)),0)","v":0},{"$f":"IF(ShowStock,IF(ISERROR((AB$18*Analyzer!$G$5)/(Analyzer!$K$7*336)),0,SpeedConv*(AB$18*Analyzer!$G$5)/(Analyzer!$K$7*336)),0)","v":0},{"$f":"IF(ShowStock,IF(ISERROR((AC$18*Analyzer!$G$5)/(Analyzer!$K$7*336)),0,SpeedConv*(AC$18*Analyzer!$G$5)/(Analyzer!$K$7*336)),0)","v":0},{"$f":"IF(ShowStock,IF(ISERROR((AD$18*Analyzer!$G$5)/(Analyzer!$K$7*336)),0,SpeedConv*(AD$18*Analyzer!$G$5)/(Analyzer!$K$7*336)),0)","v":0},{"$f":"IF(ShowStock,IF(ISERROR((AE$18*Analyzer!$G$5)/(Analyzer!$K$7*336)),0,SpeedConv*(AE$18*Analyzer!$G$5)/(Analyzer!$K$7*336)),0)","v":0},{"$f":"IF(ShowStock,IF(ISERROR((AF$18*Analyzer!$G$5)/(Analyzer!$K$7*336)),0,SpeedConv*(AF$18*Analyzer!$G$5)/(Analyzer!$K$7*336)),0)","v":0},{"$f":"IF(ShowStock,IF(ISERROR((AG$18*Analyzer!$G$5)/(Analyzer!$K$7*336)),0,SpeedConv*(AG$18*Analyzer!$G$5)/(Analyzer!$K$7*336)),0)","v":0},{"$f":"IF(ShowStock,IF(ISERROR((AH$18*Analyzer!$G$5)/(Analyzer!$K$7*336)),0,SpeedConv*(AH$18*Analyzer!$G$5)/(Analyzer!$K$7*336)),0)","v":0},{"$f":"IF(ShowStock,IF(ISERROR((AI$18*Analyzer!$G$5)/(Analyzer!$K$7*336)),0,SpeedConv*(AI$18*Analyzer!$G$5)/(Analyzer!$K$7*336)),0)","v":0},{"$f":"IF(ShowStock,IF(ISERROR((AJ$18*Analyzer!$G$5)/(Analyzer!$K$7*336)),0,SpeedConv*(AJ$18*Analyzer!$G$5)/(Analyzer!$K$7*336)),0)","v":0},{"$f":"IF(ShowStock,IF(ISERROR((AK$18*Analyzer!$G$5)/(Analyzer!$K$7*336)),0,SpeedConv*(AK$18*Analyzer!$G$5)/(Analyzer!$K$7*336)),0)","v":0},{"$f":"IF(ShowStock,IF(ISERROR((AL$18*Analyzer!$G$5)/(Analyzer!$K$7*336)),0,SpeedConv*(AL$18*Analyzer!$G$5)/(Analyzer!$K$7*336)),0)","v":0},{"$f":"IF(ShowStock,IF(ISERROR((AM$18*Analyzer!$G$5)/(Analyzer!$K$7*336)),0,SpeedConv*(AM$18*Analyzer!$G$5)/(Analyzer!$K$7*336)),0)","v":0},{"$f":"IF(ShowStock,IF(ISERROR((AN$18*Analyzer!$G$5)/(Analyzer!$K$7*336)),0,SpeedConv*(AN$18*Analyzer!$G$5)/(Analyzer!$K$7*336)),0)","v":0},{"$f":"IF(ShowStock,IF(ISERROR((AO$18*Analyzer!$G$5)/(Analyzer!$K$7*336)),0,SpeedConv*(AO$18*Analyzer!$G$5)/(Analyzer!$K$7*336)),0)","v":0},{"$f":"IF(ShowStock,IF(ISERROR((AP$18*Analyzer!$G$5)/(Analyzer!$K$7*336)),0,SpeedConv*(AP$18*Analyzer!$G$5)/(Analyzer!$K$7*336)),0)","v":0},{"$f":"IF(ShowStock,IF(ISERROR((AQ$18*Analyzer!$G$5)/(Analyzer!$K$7*336)),0,SpeedConv*(AQ$18*Analyzer!$G$5)/(Analyzer!$K$7*336)),0)","v":0},{"$f":"IF(ShowStock,IF(ISERROR((AR$18*Analyzer!$G$5)/(Analyzer!$K$7*336)),0,SpeedConv*(AR$18*Analyzer!$G$5)/(Analyzer!$K$7*336)),0)","v":0},{"$f":"IF(ShowStock,IF(ISERROR((AS$18*Analyzer!$G$5)/(Analyzer!$K$7*336)),0,SpeedConv*(AS$18*Analyzer!$G$5)/(Analyzer!$K$7*336)),0)","v":0},{"$f":"IF(ShowStock,IF(ISERROR((AT$18*Analyzer!$G$5)/(Analyzer!$K$7*336)),0,SpeedConv*(AT$18*Analyzer!$G$5)/(Analyzer!$K$7*336)),0)","v":0},{"$f":"IF(ShowStock,IF(ISERROR((AU$18*Analyzer!$G$5)/(Analyzer!$K$7*336)),0,SpeedConv*(AU$18*Analyzer!$G$5)/(Analyzer!$K$7*336)),0)","v":0},{"$f":"IF(ShowStock,IF(ISERROR((AV$18*Analyzer!$G$5)/(Analyzer!$K$7*336)),0,SpeedConv*(AV$18*Analyzer!$G$5)/(Analyzer!$K$7*336)),0)","v":0},{"$f":"IF(ShowStock,IF(ISERROR((AW$18*Analyzer!$G$5)/(Analyzer!$K$7*336)),0,SpeedConv*(AW$18*Analyzer!$G$5)/(Analyzer!$K$7*336)),0)","v":0},{"$f":"IF(ShowStock,IF(ISERROR((AX$18*Analyzer!$G$5)/(Analyzer!$K$7*336)),0,SpeedConv*(AX$18*Analyzer!$G$5)/(Analyzer!$K$7*336)),0)","v":0},{"$f":"IF(ShowStock,IF(ISERROR((AY$18*Analyzer!$G$5)/(Analyzer!$K$7*336)),0,SpeedConv*(AY$18*Analyzer!$G$5)/(Analyzer!$K$7*336)),0)","v":0},{"$f":"IF(ShowStock,IF(ISERROR((AZ$18*Analyzer!$G$5)/(Analyzer!$K$7*336)),0,SpeedConv*(AZ$18*Analyzer!$G$5)/(Analyzer!$K$7*336)),0)","v":0},{"$f":"IF(ShowStock,IF(ISERROR((BA$18*Analyzer!$G$5)/(Analyzer!$K$7*336)),0,SpeedConv*(BA$18*Analyzer!$G$5)/(Analyzer!$K$7*336)),0)","v":0},{"$f":"IF(ShowStock,IF(ISERROR((BB$18*Analyzer!$G$5)/(Analyzer!$K$7*336)),0,SpeedConv*(BB$18*Analyzer!$G$5)/(Analyzer!$K$7*336)),0)","v":0},{"$f":"IF(ShowStock,IF(ISERROR((BC$18*Analyzer!$G$5)/(Analyzer!$K$7*336)),0,SpeedConv*(BC$18*Analyzer!$G$5)/(Analyzer!$K$7*336)),0)","v":0},{"$f":"IF(ShowStock,IF(ISERROR((BD$18*Analyzer!$G$5)/(Analyzer!$K$7*336)),0,SpeedConv*(BD$18*Analyzer!$G$5)/(Analyzer!$K$7*336)),0)","v":0},{"$f":"IF(ShowStock,IF(ISERROR((BE$18*Analyzer!$G$5)/(Analyzer!$K$7*336)),0,SpeedConv*(BE$18*Analyzer!$G$5)/(Analyzer!$K$7*336)),0)","v":0},{"$f":"IF(ShowStock,IF(ISERROR((BF$18*Analyzer!$G$5)/(Analyzer!$K$7*336)),0,SpeedConv*(BF$18*Analyzer!$G$5)/(Analyzer!$K$7*336)),0)","v":0},{"$f":"IF(ShowStock,IF(ISERROR((BG$18*Analyzer!$G$5)/(Analyzer!$K$7*336)),0,SpeedConv*(BG$18*Analyzer!$G$5)/(Analyzer!$K$7*336)),0)","v":0},{"$f":"IF(ShowStock,IF(ISERROR((BH$18*Analyzer!$G$5)/(Analyzer!$K$7*336)),0,SpeedConv*(BH$18*Analyzer!$G$5)/(Analyzer!$K$7*336)),0)","v":0},{"$f":"IF(ShowStock,IF(ISERROR((BI$18*Analyzer!$G$5)/(Analyzer!$K$7*336)),0,SpeedConv*(BI$18*Analyzer!$G$5)/(Analyzer!$K$7*336)),0)","v":0},{"$f":"IF(ShowStock,IF(ISERROR((BJ$18*Analyzer!$G$5)/(Analyzer!$K$7*336)),0,SpeedConv*(BJ$18*Analyzer!$G$5)/(Analyzer!$K$7*336)),0)","v":0},{"$f":"IF(ShowStock,IF(ISERROR((BK$18*Analyzer!$G$5)/(Analyzer!$K$7*336)),0,SpeedConv*(BK$18*Analyzer!$G$5)/(Analyzer!$K$7*336)),0)","v":0},{"$f":"IF(ShowStock,IF(ISERROR((BL$18*Analyzer!$G$5)/(Analyzer!$K$7*336)),0,SpeedConv*(BL$18*Analyzer!$G$5)/(Analyzer!$K$7*336)),0)","v":0},{"$f":"IF(ShowStock,IF(ISERROR((BM$18*Analyzer!$G$5)/(Analyzer!$K$7*336)),0,SpeedConv*(BM$18*Analyzer!$G$5)/(Analyzer!$K$7*336)),0)","v":0},{"$f":"IF(ShowStock,IF(ISERROR((BN$18*Analyzer!$G$5)/(Analyzer!$K$7*336)),0,SpeedConv*(BN$18*Analyzer!$G$5)/(Analyzer!$K$7*336)),0)","v":0},{"$f":"IF(ShowStock,IF(ISERROR((BO$18*Analyzer!$G$5)/(Analyzer!$K$7*336)),0,SpeedConv*(BO$18*Analyzer!$G$5)/(Analyzer!$K$7*336)),0)","v":0},{"$f":"IF(ShowStock,IF(ISERROR((BP$18*Analyzer!$G$5)/(Analyzer!$K$7*336)),0,SpeedConv*(BP$18*Analyzer!$G$5)/(Analyzer!$K$7*336)),0)","v":0},{"$f":"IF(ShowStock,IF(ISERROR((BQ$18*Analyzer!$G$5)/(Analyzer!$K$7*336)),0,SpeedConv*(BQ$18*Analyzer!$G$5)/(Analyzer!$K$7*336)),0)","v":0},{"$f":"IF(ShowStock,IF(ISERROR((BR$18*Analyzer!$G$5)/(Analyzer!$K$7*336)),0,SpeedConv*(BR$18*Analyzer!$G$5)/(Analyzer!$K$7*336)),0)","v":0},{"$f":"IF(ShowStock,IF(ISERROR((BS$18*Analyzer!$G$5)/(Analyzer!$K$7*336)),0,SpeedConv*(BS$18*Analyzer!$G$5)/(Analyzer!$K$7*336)),0)","v":0},{"$f":"IF(ShowStock,IF(ISERROR((BT$18*Analyzer!$G$5)/(Analyzer!$K$7*336)),0,SpeedConv*(BT$18*Analyzer!$G$5)/(Analyzer!$K$7*336)),0)","v":0},{"$f":"IF(ShowStock,IF(ISERROR((BU$18*Analyzer!$G$5)/(Analyzer!$K$7*336)),0,SpeedConv*(BU$18*Analyzer!$G$5)/(Analyzer!$K$7*336)),0)","v":0},{"$f":"IF(ShowStock,IF(ISERROR((BV$18*Analyzer!$G$5)/(Analyzer!$K$7*336)),0,SpeedConv*(BV$18*Analyzer!$G$5)/(Analyzer!$K$7*336)),0)","v":0},{"$f":"IF(ShowStock,IF(ISERROR((BW$18*Analyzer!$G$5)/(Analyzer!$K$7*336)),0,SpeedConv*(BW$18*Analyzer!$G$5)/(Analyzer!$K$7*336)),0)","v":0},{"$f":"IF(ShowStock,IF(ISERROR((BX$18*Analyzer!$G$5)/(Analyzer!$K$7*336)),0,SpeedConv*(BX$18*Analyzer!$G$5)/(Analyzer!$K$7*336)),0)","v":0},{"$f":"IF(ShowStock,IF(ISERROR((BY$18*Analyzer!$G$5)/(Analyzer!$K$7*336)),0,SpeedConv*(BY$18*Analyzer!$G$5)/(Analyzer!$K$7*336)),0)","v":0},{"$f":"IF(ShowStock,IF(ISERROR((BZ$18*Analyzer!$G$5)/(Analyzer!$K$7*336)),0,SpeedConv*(BZ$18*Analyzer!$G$5)/(Analyzer!$K$7*336)),0)","v":0},{"$f":"IF(ShowStock,IF(ISERROR((CA$18*Analyzer!$G$5)/(Analyzer!$K$7*336)),0,SpeedConv*(CA$18*Analyzer!$G$5)/(Analyzer!$K$7*336)),0)","v":0},{"$f":"IF(ShowStock,IF(ISERROR((CB$18*Analyzer!$G$5)/(Analyzer!$K$7*336)),0,SpeedConv*(CB$18*Analyzer!$G$5)/(Analyzer!$K$7*336)),0)","v":0},{"$f":"IF(ShowStock,IF(ISERROR((CC$18*Analyzer!$G$5)/(Analyzer!$K$7*336)),0,SpeedConv*(CC$18*Analyzer!$G$5)/(Analyzer!$K$7*336)),0)","v":0},{"$f":"IF(ShowStock,IF(ISERROR((CD$18*Analyzer!$G$5)/(Analyzer!$K$7*336)),0,SpeedConv*(CD$18*Analyzer!$G$5)/(Analyzer!$K$7*336)),0)","v":0},{"$f":"IF(ShowStock,IF(ISERROR((CE$18*Analyzer!$G$5)/(Analyzer!$K$7*336)),0,SpeedConv*(CE$18*Analyzer!$G$5)/(Analyzer!$K$7*336)),0)","v":0},{"$f":"IF(ShowStock,IF(ISERROR((CF$18*Analyzer!$G$5)/(Analyzer!$K$7*336)),0,SpeedConv*(CF$18*Analyzer!$G$5)/(Analyzer!$K$7*336)),0)","v":0},{"$f":"IF(ShowStock,IF(ISERROR((CG$18*Analyzer!$G$5)/(Analyzer!$K$7*336)),0,SpeedConv*(CG$18*Analyzer!$G$5)/(Analyzer!$K$7*336)),0)","v":0},{"$f":"IF(ShowStock,IF(ISERROR((CH$18*Analyzer!$G$5)/(Analyzer!$K$7*336)),0,SpeedConv*(CH$18*Analyzer!$G$5)/(Analyzer!$K$7*336)),0)","v":0},{"$f":"IF(ShowStock,IF(ISERROR((CI$18*Analyzer!$G$5)/(Analyzer!$K$7*336)),0,SpeedConv*(CI$18*Analyzer!$G$5)/(Analyzer!$K$7*336)),0)","v":0},{"$f":"IF(ShowStock,IF(ISERROR((CJ$18*Analyzer!$G$5)/(Analyzer!$K$7*336)),0,SpeedConv*(CJ$18*Analyzer!$G$5)/(Analyzer!$K$7*336)),0)","v":0},{"$f":"IF(ShowStock,IF(ISERROR((CK$18*Analyzer!$G$5)/(Analyzer!$K$7*336)),0,SpeedConv*(CK$18*Analyzer!$G$5)/(Analyzer!$K$7*336)),0)","v":0},{"$f":"IF(ShowStock,IF(ISERROR((CL$18*Analyzer!$G$5)/(Analyzer!$K$7*336)),0,SpeedConv*(CL$18*Analyzer!$G$5)/(Analyzer!$K$7*336)),0)","v":0},{"$f":"IF(ShowStock,IF(ISERROR((CM$18*Analyzer!$G$5)/(Analyzer!$K$7*336)),0,SpeedConv*(CM$18*Analyzer!$G$5)/(Analyzer!$K$7*336)),0)","v":0},{"$f":"IF(ShowStock,IF(ISERROR((CN$18*Analyzer!$G$5)/(Analyzer!$K$7*336)),0,SpeedConv*(CN$18*Analyzer!$G$5)/(Analyzer!$K$7*336)),0)","v":0},{"$f":"IF(ShowStock,IF(ISERROR((CO$18*Analyzer!$G$5)/(Analyzer!$K$7*336)),0,SpeedConv*(CO$18*Analyzer!$G$5)/(Analyzer!$K$7*336)),0)","v":0},{"$f":"IF(ShowStock,IF(ISERROR((CP$18*Analyzer!$G$5)/(Analyzer!$K$7*336)),0,SpeedConv*(CP$18*Analyzer!$G$5)/(Analyzer!$K$7*336)),0)","v":0},{"$f":"IF(ShowStock,IF(ISERROR((CQ$18*Analyzer!$G$5)/(Analyzer!$K$7*336)),0,SpeedConv*(CQ$18*Analyzer!$G$5)/(Analyzer!$K$7*336)),0)","v":0},{"$f":"IF(ShowStock,IF(ISERROR((CR$18*Analyzer!$G$5)/(Analyzer!$K$7*336)),0,SpeedConv*(CR$18*Analyzer!$G$5)/(Analyzer!$K$7*336)),0)","v":0},{"$f":"IF(ShowStock,IF(ISERROR((CS$18*Analyzer!$G$5)/(Analyzer!$K$7*336)),0,SpeedConv*(CS$18*Analyzer!$G$5)/(Analyzer!$K$7*336)),0)","v":0},{"$f":"IF(ShowStock,IF(ISERROR((CT$18*Analyzer!$G$5)/(Analyzer!$K$7*336)),0,SpeedConv*(CT$18*Analyzer!$G$5)/(Analyzer!$K$7*336)),0)","v":0},{"$f":"IF(ShowStock,IF(ISERROR((CU$18*Analyzer!$G$5)/(Analyzer!$K$7*336)),0,SpeedConv*(CU$18*Analyzer!$G$5)/(Analyzer!$K$7*336)),0)","v":0}]
["St-6th",{"$f":"IF(ShowStock,IF(ISERROR((B$18*Analyzer!$G$5)/(Analyzer!$K$8*336)),0,SpeedConv*(B$18*Analyzer!$G$5)/(Analyzer!$K$8*336)),0)","v":0},{"$f":"IF(ShowStock,IF(ISERROR((C$18*Analyzer!$G$5)/(Analyzer!$K$8*336)),0,SpeedConv*(C$18*Analyzer!$G$5)/(Analyzer!$K$8*336)),0)","v":0},{"$f":"IF(ShowStock,IF(ISERROR((D$18*Analyzer!$G$5)/(Analyzer!$K$8*336)),0,SpeedConv*(D$18*Analyzer!$G$5)/(Analyzer!$K$8*336)),0)","v":0},{"$f":"IF(ShowStock,IF(ISERROR((E$18*Analyzer!$G$5)/(Analyzer!$K$8*336)),0,SpeedConv*(E$18*Analyzer!$G$5)/(Analyzer!$K$8*336)),0)","v":0},{"$f":"IF(ShowStock,IF(ISERROR((F$18*Analyzer!$G$5)/(Analyzer!$K$8*336)),0,SpeedConv*(F$18*Analyzer!$G$5)/(Analyzer!$K$8*336)),0)","v":0},{"$f":"IF(ShowStock,IF(ISERROR((G$18*Analyzer!$G$5)/(Analyzer!$K$8*336)),0,SpeedConv*(G$18*Analyzer!$G$5)/(Analyzer!$K$8*336)),0)","v":0},{"$f":"IF(ShowStock,IF(ISERROR((H$18*Analyzer!$G$5)/(Analyzer!$K$8*336)),0,SpeedConv*(H$18*Analyzer!$G$5)/(Analyzer!$K$8*336)),0)","v":0},{"$f":"IF(ShowStock,IF(ISERROR((I$18*Analyzer!$G$5)/(Analyzer!$K$8*336)),0,SpeedConv*(I$18*Analyzer!$G$5)/(Analyzer!$K$8*336)),0)","v":0},{"$f":"IF(ShowStock,IF(ISERROR((J$18*Analyzer!$G$5)/(Analyzer!$K$8*336)),0,SpeedConv*(J$18*Analyzer!$G$5)/(Analyzer!$K$8*336)),0)","v":0},{"$f":"IF(ShowStock,IF(ISERROR((K$18*Analyzer!$G$5)/(Analyzer!$K$8*336)),0,SpeedConv*(K$18*Analyzer!$G$5)/(Analyzer!$K$8*336)),0)","v":0},{"$f":"IF(ShowStock,IF(ISERROR((L$18*Analyzer!$G$5)/(Analyzer!$K$8*336)),0,SpeedConv*(L$18*Analyzer!$G$5)/(Analyzer!$K$8*336)),0)","v":0},{"$f":"IF(ShowStock,IF(ISERROR((M$18*Analyzer!$G$5)/(Analyzer!$K$8*336)),0,SpeedConv*(M$18*Analyzer!$G$5)/(Analyzer!$K$8*336)),0)","v":0},{"$f":"IF(ShowStock,IF(ISERROR((N$18*Analyzer!$G$5)/(Analyzer!$K$8*336)),0,SpeedConv*(N$18*Analyzer!$G$5)/(Analyzer!$K$8*336)),0)","v":0},{"$f":"IF(ShowStock,IF(ISERROR((O$18*Analyzer!$G$5)/(Analyzer!$K$8*336)),0,SpeedConv*(O$18*Analyzer!$G$5)/(Analyzer!$K$8*336)),0)","v":0},{"$f":"IF(ShowStock,IF(ISERROR((P$18*Analyzer!$G$5)/(Analyzer!$K$8*336)),0,SpeedConv*(P$18*Analyzer!$G$5)/(Analyzer!$K$8*336)),0)","v":0},{"$f":"IF(ShowStock,IF(ISERROR((Q$18*Analyzer!$G$5)/(Analyzer!$K$8*336)),0,SpeedConv*(Q$18*Analyzer!$G$5)/(Analyzer!$K$8*336)),0)","v":0},{"$f":"IF(ShowStock,IF(ISERROR((R$18*Analyzer!$G$5)/(Analyzer!$K$8*336)),0,SpeedConv*(R$18*Analyzer!$G$5)/(Analyzer!$K$8*336)),0)","v":0},{"$f":"IF(ShowStock,IF(ISERROR((S$18*Analyzer!$G$5)/(Analyzer!$K$8*336)),0,SpeedConv*(S$18*Analyzer!$G$5)/(Analyzer!$K$8*336)),0)","v":0},{"$f":"IF(ShowStock,IF(ISERROR((T$18*Analyzer!$G$5)/(Analyzer!$K$8*336)),0,SpeedConv*(T$18*Analyzer!$G$5)/(Analyzer!$K$8*336)),0)","v":0},{"$f":"IF(ShowStock,IF(ISERROR((U$18*Analyzer!$G$5)/(Analyzer!$K$8*336)),0,SpeedConv*(U$18*Analyzer!$G$5)/(Analyzer!$K$8*336)),0)","v":0},{"$f":"IF(ShowStock,IF(ISERROR((V$18*Analyzer!$G$5)/(Analyzer!$K$8*336)),0,SpeedConv*(V$18*Analyzer!$G$5)/(Analyzer!$K$8*336)),0)","v":0},{"$f":"IF(ShowStock,IF(ISERROR((W$18*Analyzer!$G$5)/(Analyzer!$K$8*336)),0,SpeedConv*(W$18*Analyzer!$G$5)/(Analyzer!$K$8*336)),0)","v":0},{"$f":"IF(ShowStock,IF(ISERROR((X$18*Analyzer!$G$5)/(Analyzer!$K$8*336)),0,SpeedConv*(X$18*Analyzer!$G$5)/(Analyzer!$K$8*336)),0)","v":0},{"$f":"IF(ShowStock,IF(ISERROR((Y$18*Analyzer!$G$5)/(Analyzer!$K$8*336)),0,SpeedConv*(Y$18*Analyzer!$G$5)/(Analyzer!$K$8*336)),0)","v":0},{"$f":"IF(ShowStock,IF(ISERROR((Z$18*Analyzer!$G$5)/(Analyzer!$K$8*336)),0,SpeedConv*(Z$18*Analyzer!$G$5)/(Analyzer!$K$8*336)),0)","v":0},{"$f":"IF(ShowStock,IF(ISERROR((AA$18*Analyzer!$G$5)/(Analyzer!$K$8*336)),0,SpeedConv*(AA$18*Analyzer!$G$5)/(Analyzer!$K$8*336)),0)","v":0},{"$f":"IF(ShowStock,IF(ISERROR((AB$18*Analyzer!$G$5)/(Analyzer!$K$8*336)),0,SpeedConv*(AB$18*Analyzer!$G$5)/(Analyzer!$K$8*336)),0)","v":0},{"$f":"IF(ShowStock,IF(ISERROR((AC$18*Analyzer!$G$5)/(Analyzer!$K$8*336)),0,SpeedConv*(AC$18*Analyzer!$G$5)/(Analyzer!$K$8*336)),0)","v":0},{"$f":"IF(ShowStock,IF(ISERROR((AD$18*Analyzer!$G$5)/(Analyzer!$K$8*336)),0,SpeedConv*(AD$18*Analyzer!$G$5)/(Analyzer!$K$8*336)),0)","v":0},{"$f":"IF(ShowStock,IF(ISERROR((AE$18*Analyzer!$G$5)/(Analyzer!$K$8*336)),0,SpeedConv*(AE$18*Analyzer!$G$5)/(Analyzer!$K$8*336)),0)","v":0},{"$f":"IF(ShowStock,IF(ISERROR((AF$18*Analyzer!$G$5)/(Analyzer!$K$8*336)),0,SpeedConv*(AF$18*Analyzer!$G$5)/(Analyzer!$K$8*336)),0)","v":0},{"$f":"IF(ShowStock,IF(ISERROR((AG$18*Analyzer!$G$5)/(Analyzer!$K$8*336)),0,SpeedConv*(AG$18*Analyzer!$G$5)/(Analyzer!$K$8*336)),0)","v":0},{"$f":"IF(ShowStock,IF(ISERROR((AH$18*Analyzer!$G$5)/(Analyzer!$K$8*336)),0,SpeedConv*(AH$18*Analyzer!$G$5)/(Analyzer!$K$8*336)),0)","v":0},{"$f":"IF(ShowStock,IF(ISERROR((AI$18*Analyzer!$G$5)/(Analyzer!$K$8*336)),0,SpeedConv*(AI$18*Analyzer!$G$5)/(Analyzer!$K$8*336)),0)","v":0},{"$f":"IF(ShowStock,IF(ISERROR((AJ$18*Analyzer!$G$5)/(Analyzer!$K$8*336)),0,SpeedConv*(AJ$18*Analyzer!$G$5)/(Analyzer!$K$8*336)),0)","v":0},{"$f":"IF(ShowStock,IF(ISERROR((AK$18*Analyzer!$G$5)/(Analyzer!$K$8*336)),0,SpeedConv*(AK$18*Analyzer!$G$5)/(Analyzer!$K$8*336)),0)","v":0},{"$f":"IF(ShowStock,IF(ISERROR((AL$18*Analyzer!$G$5)/(Analyzer!$K$8*336)),0,SpeedConv*(AL$18*Analyzer!$G$5)/(Analyzer!$K$8*336)),0)","v":0},{"$f":"IF(ShowStock,IF(ISERROR((AM$18*Analyzer!$G$5)/(Analyzer!$K$8*336)),0,SpeedConv*(AM$18*Analyzer!$G$5)/(Analyzer!$K$8*336)),0)","v":0},{"$f":"IF(ShowStock,IF(ISERROR((AN$18*Analyzer!$G$5)/(Analyzer!$K$8*336)),0,SpeedConv*(AN$18*Analyzer!$G$5)/(Analyzer!$K$8*336)),0)","v":0},{"$f":"IF(ShowStock,IF(ISERROR((AO$18*Analyzer!$G$5)/(Analyzer!$K$8*336)),0,SpeedConv*(AO$18*Analyzer!$G$5)/(Analyzer!$K$8*336)),0)","v":0},{"$f":"IF(ShowStock,IF(ISERROR((AP$18*Analyzer!$G$5)/(Analyzer!$K$8*336)),0,SpeedConv*(AP$18*Analyzer!$G$5)/(Analyzer!$K$8*336)),0)","v":0},{"$f":"IF(ShowStock,IF(ISERROR((AQ$18*Analyzer!$G$5)/(Analyzer!$K$8*336)),0,SpeedConv*(AQ$18*Analyzer!$G$5)/(Analyzer!$K$8*336)),0)","v":0},{"$f":"IF(ShowStock,IF(ISERROR((AR$18*Analyzer!$G$5)/(Analyzer!$K$8*336)),0,SpeedConv*(AR$18*Analyzer!$G$5)/(Analyzer!$K$8*336)),0)","v":0},{"$f":"IF(ShowStock,IF(ISERROR((AS$18*Analyzer!$G$5)/(Analyzer!$K$8*336)),0,SpeedConv*(AS$18*Analyzer!$G$5)/(Analyzer!$K$8*336)),0)","v":0},{"$f":"IF(ShowStock,IF(ISERROR((AT$18*Analyzer!$G$5)/(Analyzer!$K$8*336)),0,SpeedConv*(AT$18*Analyzer!$G$5)/(Analyzer!$K$8*336)),0)","v":0},{"$f":"IF(ShowStock,IF(ISERROR((AU$18*Analyzer!$G$5)/(Analyzer!$K$8*336)),0,SpeedConv*(AU$18*Analyzer!$G$5)/(Analyzer!$K$8*336)),0)","v":0},{"$f":"IF(ShowStock,IF(ISERROR((AV$18*Analyzer!$G$5)/(Analyzer!$K$8*336)),0,SpeedConv*(AV$18*Analyzer!$G$5)/(Analyzer!$K$8*336)),0)","v":0},{"$f":"IF(ShowStock,IF(ISERROR((AW$18*Analyzer!$G$5)/(Analyzer!$K$8*336)),0,SpeedConv*(AW$18*Analyzer!$G$5)/(Analyzer!$K$8*336)),0)","v":0},{"$f":"IF(ShowStock,IF(ISERROR((AX$18*Analyzer!$G$5)/(Analyzer!$K$8*336)),0,SpeedConv*(AX$18*Analyzer!$G$5)/(Analyzer!$K$8*336)),0)","v":0},{"$f":"IF(ShowStock,IF(ISERROR((AY$18*Analyzer!$G$5)/(Analyzer!$K$8*336)),0,SpeedConv*(AY$18*Analyzer!$G$5)/(Analyzer!$K$8*336)),0)","v":0},{"$f":"IF(ShowStock,IF(ISERROR((AZ$18*Analyzer!$G$5)/(Analyzer!$K$8*336)),0,SpeedConv*(AZ$18*Analyzer!$G$5)/(Analyzer!$K$8*336)),0)","v":0},{"$f":"IF(ShowStock,IF(ISERROR((BA$18*Analyzer!$G$5)/(Analyzer!$K$8*336)),0,SpeedConv*(BA$18*Analyzer!$G$5)/(Analyzer!$K$8*336)),0)","v":0},{"$f":"IF(ShowStock,IF(ISERROR((BB$18*Analyzer!$G$5)/(Analyzer!$K$8*336)),0,SpeedConv*(BB$18*Analyzer!$G$5)/(Analyzer!$K$8*336)),0)","v":0},{"$f":"IF(ShowStock,IF(ISERROR((BC$18*Analyzer!$G$5)/(Analyzer!$K$8*336)),0,SpeedConv*(BC$18*Analyzer!$G$5)/(Analyzer!$K$8*336)),0)","v":0},{"$f":"IF(ShowStock,IF(ISERROR((BD$18*Analyzer!$G$5)/(Analyzer!$K$8*336)),0,SpeedConv*(BD$18*Analyzer!$G$5)/(Analyzer!$K$8*336)),0)","v":0},{"$f":"IF(ShowStock,IF(ISERROR((BE$18*Analyzer!$G$5)/(Analyzer!$K$8*336)),0,SpeedConv*(BE$18*Analyzer!$G$5)/(Analyzer!$K$8*336)),0)","v":0},{"$f":"IF(ShowStock,IF(ISERROR((BF$18*Analyzer!$G$5)/(Analyzer!$K$8*336)),0,SpeedConv*(BF$18*Analyzer!$G$5)/(Analyzer!$K$8*336)),0)","v":0},{"$f":"IF(ShowStock,IF(ISERROR((BG$18*Analyzer!$G$5)/(Analyzer!$K$8*336)),0,SpeedConv*(BG$18*Analyzer!$G$5)/(Analyzer!$K$8*336)),0)","v":0},{"$f":"IF(ShowStock,IF(ISERROR((BH$18*Analyzer!$G$5)/(Analyzer!$K$8*336)),0,SpeedConv*(BH$18*Analyzer!$G$5)/(Analyzer!$K$8*336)),0)","v":0},{"$f":"IF(ShowStock,IF(ISERROR((BI$18*Analyzer!$G$5)/(Analyzer!$K$8*336)),0,SpeedConv*(BI$18*Analyzer!$G$5)/(Analyzer!$K$8*336)),0)","v":0},{"$f":"IF(ShowStock,IF(ISERROR((BJ$18*Analyzer!$G$5)/(Analyzer!$K$8*336)),0,SpeedConv*(BJ$18*Analyzer!$G$5)/(Analyzer!$K$8*336)),0)","v":0},{"$f":"IF(ShowStock,IF(ISERROR((BK$18*Analyzer!$G$5)/(Analyzer!$K$8*336)),0,SpeedConv*(BK$18*Analyzer!$G$5)/(Analyzer!$K$8*336)),0)","v":0},{"$f":"IF(ShowStock,IF(ISERROR((BL$18*Analyzer!$G$5)/(Analyzer!$K$8*336)),0,SpeedConv*(BL$18*Analyzer!$G$5)/(Analyzer!$K$8*336)),0)","v":0},{"$f":"IF(ShowStock,IF(ISERROR((BM$18*Analyzer!$G$5)/(Analyzer!$K$8*336)),0,SpeedConv*(BM$18*Analyzer!$G$5)/(Analyzer!$K$8*336)),0)","v":0},{"$f":"IF(ShowStock,IF(ISERROR((BN$18*Analyzer!$G$5)/(Analyzer!$K$8*336)),0,SpeedConv*(BN$18*Analyzer!$G$5)/(Analyzer!$K$8*336)),0)","v":0},{"$f":"IF(ShowStock,IF(ISERROR((BO$18*Analyzer!$G$5)/(Analyzer!$K$8*336)),0,SpeedConv*(BO$18*Analyzer!$G$5)/(Analyzer!$K$8*336)),0)","v":0},{"$f":"IF(ShowStock,IF(ISERROR((BP$18*Analyzer!$G$5)/(Analyzer!$K$8*336)),0,SpeedConv*(BP$18*Analyzer!$G$5)/(Analyzer!$K$8*336)),0)","v":0},{"$f":"IF(ShowStock,IF(ISERROR((BQ$18*Analyzer!$G$5)/(Analyzer!$K$8*336)),0,SpeedConv*(BQ$18*Analyzer!$G$5)/(Analyzer!$K$8*336)),0)","v":0},{"$f":"IF(ShowStock,IF(ISERROR((BR$18*Analyzer!$G$5)/(Analyzer!$K$8*336)),0,SpeedConv*(BR$18*Analyzer!$G$5)/(Analyzer!$K$8*336)),0)","v":0},{"$f":"IF(ShowStock,IF(ISERROR((BS$18*Analyzer!$G$5)/(Analyzer!$K$8*336)),0,SpeedConv*(BS$18*Analyzer!$G$5)/(Analyzer!$K$8*336)),0)","v":0},{"$f":"IF(ShowStock,IF(ISERROR((BT$18*Analyzer!$G$5)/(Analyzer!$K$8*336)),0,SpeedConv*(BT$18*Analyzer!$G$5)/(Analyzer!$K$8*336)),0)","v":0},{"$f":"IF(ShowStock,IF(ISERROR((BU$18*Analyzer!$G$5)/(Analyzer!$K$8*336)),0,SpeedConv*(BU$18*Analyzer!$G$5)/(Analyzer!$K$8*336)),0)","v":0},{"$f":"IF(ShowStock,IF(ISERROR((BV$18*Analyzer!$G$5)/(Analyzer!$K$8*336)),0,SpeedConv*(BV$18*Analyzer!$G$5)/(Analyzer!$K$8*336)),0)","v":0},{"$f":"IF(ShowStock,IF(ISERROR((BW$18*Analyzer!$G$5)/(Analyzer!$K$8*336)),0,SpeedConv*(BW$18*Analyzer!$G$5)/(Analyzer!$K$8*336)),0)","v":0},{"$f":"IF(ShowStock,IF(ISERROR((BX$18*Analyzer!$G$5)/(Analyzer!$K$8*336)),0,SpeedConv*(BX$18*Analyzer!$G$5)/(Analyzer!$K$8*336)),0)","v":0},{"$f":"IF(ShowStock,IF(ISERROR((BY$18*Analyzer!$G$5)/(Analyzer!$K$8*336)),0,SpeedConv*(BY$18*Analyzer!$G$5)/(Analyzer!$K$8*336)),0)","v":0},{"$f":"IF(ShowStock,IF(ISERROR((BZ$18*Analyzer!$G$5)/(Analyzer!$K$8*336)),0,SpeedConv*(BZ$18*Analyzer!$G$5)/(Analyzer!$K$8*336)),0)","v":0},{"$f":"IF(ShowStock,IF(ISERROR((CA$18*Analyzer!$G$5)/(Analyzer!$K$8*336)),0,SpeedConv*(CA$18*Analyzer!$G$5)/(Analyzer!$K$8*336)),0)","v":0},{"$f":"IF(ShowStock,IF(ISERROR((CB$18*Analyzer!$G$5)/(Analyzer!$K$8*336)),0,SpeedConv*(CB$18*Analyzer!$G$5)/(Analyzer!$K$8*336)),0)","v":0},{"$f":"IF(ShowStock,IF(ISERROR((CC$18*Analyzer!$G$5)/(Analyzer!$K$8*336)),0,SpeedConv*(CC$18*Analyzer!$G$5)/(Analyzer!$K$8*336)),0)","v":0},{"$f":"IF(ShowStock,IF(ISERROR((CD$18*Analyzer!$G$5)/(Analyzer!$K$8*336)),0,SpeedConv*(CD$18*Analyzer!$G$5)/(Analyzer!$K$8*336)),0)","v":0},{"$f":"IF(ShowStock,IF(ISERROR((CE$18*Analyzer!$G$5)/(Analyzer!$K$8*336)),0,SpeedConv*(CE$18*Analyzer!$G$5)/(Analyzer!$K$8*336)),0)","v":0},{"$f":"IF(ShowStock,IF(ISERROR((CF$18*Analyzer!$G$5)/(Analyzer!$K$8*336)),0,SpeedConv*(CF$18*Analyzer!$G$5)/(Analyzer!$K$8*336)),0)","v":0},{"$f":"IF(ShowStock,IF(ISERROR((CG$18*Analyzer!$G$5)/(Analyzer!$K$8*336)),0,SpeedConv*(CG$18*Analyzer!$G$5)/(Analyzer!$K$8*336)),0)","v":0},{"$f":"IF(ShowStock,IF(ISERROR((CH$18*Analyzer!$G$5)/(Analyzer!$K$8*336)),0,SpeedConv*(CH$18*Analyzer!$G$5)/(Analyzer!$K$8*336)),0)","v":0},{"$f":"IF(ShowStock,IF(ISERROR((CI$18*Analyzer!$G$5)/(Analyzer!$K$8*336)),0,SpeedConv*(CI$18*Analyzer!$G$5)/(Analyzer!$K$8*336)),0)","v":0},{"$f":"IF(ShowStock,IF(ISERROR((CJ$18*Analyzer!$G$5)/(Analyzer!$K$8*336)),0,SpeedConv*(CJ$18*Analyzer!$G$5)/(Analyzer!$K$8*336)),0)","v":0},{"$f":"IF(ShowStock,IF(ISERROR((CK$18*Analyzer!$G$5)/(Analyzer!$K$8*336)),0,SpeedConv*(CK$18*Analyzer!$G$5)/(Analyzer!$K$8*336)),0)","v":0},{"$f":"IF(ShowStock,IF(ISERROR((CL$18*Analyzer!$G$5)/(Analyzer!$K$8*336)),0,SpeedConv*(CL$18*Analyzer!$G$5)/(Analyzer!$K$8*336)),0)","v":0},{"$f":"IF(ShowStock,IF(ISERROR((CM$18*Analyzer!$G$5)/(Analyzer!$K$8*336)),0,SpeedConv*(CM$18*Analyzer!$G$5)/(Analyzer!$K$8*336)),0)","v":0},{"$f":"IF(ShowStock,IF(ISERROR((CN$18*Analyzer!$G$5)/(Analyzer!$K$8*336)),0,SpeedConv*(CN$18*Analyzer!$G$5)/(Analyzer!$K$8*336)),0)","v":0},{"$f":"IF(ShowStock,IF(ISERROR((CO$18*Analyzer!$G$5)/(Analyzer!$K$8*336)),0,SpeedConv*(CO$18*Analyzer!$G$5)/(Analyzer!$K$8*336)),0)","v":0},{"$f":"IF(ShowStock,IF(ISERROR((CP$18*Analyzer!$G$5)/(Analyzer!$K$8*336)),0,SpeedConv*(CP$18*Analyzer!$G$5)/(Analyzer!$K$8*336)),0)","v":0},{"$f":"IF(ShowStock,IF(ISERROR((CQ$18*Analyzer!$G$5)/(Analyzer!$K$8*336)),0,SpeedConv*(CQ$18*Analyzer!$G$5)/(Analyzer!$K$8*336)),0)","v":0},{"$f":"IF(ShowStock,IF(ISERROR((CR$18*Analyzer!$G$5)/(Analyzer!$K$8*336)),0,SpeedConv*(CR$18*Analyzer!$G$5)/(Analyzer!$K$8*336)),0)","v":0},{"$f":"IF(ShowStock,IF(ISERROR((CS$18*Analyzer!$G$5)/(Analyzer!$K$8*336)),0,SpeedConv*(CS$18*Analyzer!$G$5)/(Analyzer!$K$8*336)),0)","v":0},{"$f":"IF(ShowStock,IF(ISERROR((CT$18*Analyzer!$G$5)/(Analyzer!$K$8*336)),0,SpeedConv*(CT$18*Analyzer!$G$5)/(Analyzer!$K$8*336)),0)","v":0},{"$f":"IF(ShowStock,IF(ISERROR((CU$18*Analyzer!$G$5)/(Analyzer!$K$8*336)),0,SpeedConv*(CU$18*Analyzer!$G$5)/(Analyzer!$K$8*336)),0)","v":0}]
[]
["Reference Speed",{"$f":"SpeedConv*60","v":60},{"$f":"SpeedConv*60","v":60},60,60,60,60,60,60,60,60,60,60,60,60,60,60,60,60,60,60,60,60,60,60,60,60,60,60,60,60,60,60,{"$f":"SpeedConv*60","v":60},60,60,60,60,60,60,60,60,60,60,60,60,60,60,60,60,60,60,60,60,60,60,60,60,60,60,60,60,60,60,60,{"$f":"SpeedConv*60","v":60},60,60,60,60,60,60,60,60,60,60,60,60,60,60,60,60,60,60,60,60,60,60,60,60,60,60,60,60,60,60,60,60,60]
[]
[]
[1,1,"MPH",null,null,"KPH of MPH","MPH","KPH"]
[2,1.60934,"KPH",null,null,32.186799999999998,20,30]
[1,{"$f":"VLOOKUP(SpeedType,SpeedRange,2,FALSE)","v":1},{"$f":"VLOOKUP(SpeedType,SpeedRange,3,FALSE)","v":"MPH"},null,null,40.233499999999999,25,35]
[null,null,null,null,null,48.280200000000001,30,40]
[null,null,null,null,null,56.326900000000002,35,45]
[null,null,null,null,null,64.373599999999996,40,50]
[null,null,null,null,null,72.420299999999997,45,55]
[null,null,null,null,null,80.466999999999999,50,60]
[null,null,null,null,null,88.5137,55,65]
[null,null,null,null,null,96.560400000000001,60,70]
[null,null,null,null,null,104.6071,65,75]
[null,null,null,null,null,112.6538,70,80]
[null,null,null,null,null,120.70050000000001,75,85]
[null,null,null,null,null,128.74719999999999,80,90]
[null,null,null,null,null,136.79390000000001,85,95]
[null,null,null,null,null,144.84059999999999,90,100]
[null,null,null,null,null,152.88730000000001,95,105]
[null,null,null,null,null,160.934,100,110]
[null,null,null,null,null,168.98070000000001,105,115]
[null,null,null,null,null,177.0274,110,120]
[null,null,null,null,null,185.07409999999999,115,125]
[null,null,null,null,null,193.1208,120,130]
[null,null,null,null,null,201.16749999999999,125,135]
[null,null,null,null,null,209.21420000000001,130,140]
[null,null,null,null,null,217.26089999999999,135,145]
[null,null,null,null,null,225.30760000000001,140,150]
[null,null,null,null,null,233.35429999999999,145,155]
[null,null,null,null,null,241.40100000000001,150,160]
[null,null,null,null,null,249.4477,155,165]
[null,null,null,null,null,257.49439999999998,160,170]
[null,null,null,null,null,265.54109999999997,165,175]
[null,null,null,null,null,273.58780000000002,170,180]
[null,null,null,null,null,281.6345,175,185]
[null,null,null,null,null,289.68119999999999,180,190]
[null,null,null,null,null,297.72789999999998,185,195]
[null,null,null,null,null,305.77460000000002,190,200]
[null,null,null,null,null,313.82130000000001,195,205]
[null,null,null,null,null,321.86799999999999,200,210]
[null,null,null,null,null,329.91469999999998,205,215]
[null,null,null,null,null,337.96140000000003,210,220]
[null,null,null,null,null,null,null,225]
[null,null,null,null,null,null,null,230]
[null,null,null,null,null,null,null,235]
[null,null,null,null,null,null,null,240]
[null,null,null,null,null,null,null,245]
[null,null,null,null,null,null,null,250]
[null,null,null,null,null,null,null,255]
[null,null,null,null,null,null,null,260]
[null,null,null,null,null,null,null,265]
[null,null,null,null,null,null,null,270]
[null,null,null,null,null,null,null,275]
[null,null,null,null,null,null,null,280]
[null,null,null,null,null,null,null,285]
[null,null,null,null,null,null,null,290]
[null,null,null,null,null,null,null,295]
[null,null,null,null,null,null,null,300]
[null,null,null,null,null,null,null,305]
[null,null,null,null,null,null,null,310]
[null,null,null,null,null,null,null,315]
[null,null,null,null,null,null,null,320]
[null,null,null,null,null,null,null,325]
[null,null,null,null,null,null,null,330]
[null,null,null,null,null,null,null,335]
[null,null,null,null,null,null,null,340]

{"sheet":"Tire Calculation","index":2,"n_rows":33,"n_cols":12,"rows_kept":33,"cut":false,"hidden":false,"merged":[[0,1,1,7]]}
[null,"Results given are approximate values and do NOT account for temperature, tire squish, wear, speed, etc."]
[]
[]
[]
[]
[]
[]
[]
[]
[]
[]
[]
[]
[]
[]
[]
[]
[]
[]
[]
[]
[null,"Determining total tire height from tire sidewall (as shown above 185/65x16)"]
["Tire","Width","Aspect Ratio","Rim Diameter in Inches","Overall Diameter","Overall Diameter","Overall Diameter","Overall Diameter",null,"Section (Tire) Width","Section (Sidewall) Height","Section (Sidewall) Height"]
["A",185,65,15,{"$f":"TEXT(2 * (B24 * (C24 / 2540)) + D24,\"00.00\") & CHAR(34)","v":"24.47\""},{"$f":"TEXT(Decimal_Inches1,\"0\" & IF(ABS(Decimal_Inches1-ROUND(Decimal_Inches1-0,0))>1/64, \" 0/\" & CHOOSE(MATCH(MIN(ABS(ROUND(Decimal_Inches1*{2,4,8,16,32},0)-Decimal_Inches1*{2,4,8,16,32})/{2,4,8,16,32}),ABS(ROUND(Decimal_Inches1*{2,4,8,16,32},0)-Decimal_Inches1*{2,4,8,16,32})/{2,4,8,16,32},0),2,4,8,16,32),\"\")) & \"\"\"\"","v":"24 15/32\""},{"$f":"TEXT((2 * ($B24 * ($C24 / 2540)) + $D24) * 25.4,\"00.0\") & \"mm\"","v":"621.5mm"},{"$f":"TEXT((2 * ($B24 * ($C24 / 2540)) + $D24) * 2.54,\"00.0\") & \"cm\"","v":"62.2cm"},{"$f":"2 * (B24 * (C24 / 2540)) + D24","v":24.468503937007874},{"$f":"TEXT(B24/25.4,\"0.00\") & CHAR(34)","v":"7.28\""},{"$f":"TEXT(VALUE(SUBSTITUTE(J24,\"\"\"\",\"\")*(C24/100)),\"0.00\")& CHAR(34)","v":"4.73\""},{"$f":"TEXT(VALUE(SUBSTITUTE(K24,\"\"\"\",\"\"))*25.4,\"000.0\") & \"mm\"","v":"120.1mm"}]
["B",215,40,16,{"$f":"TEXT(2 * (B25 * (C25 / 2540)) + D25,\"00.00\") & CHAR(34)","v":"22.77\""},{"$f":"TEXT(Decimal_Inches2,\"0\" &IF(ABS(Decimal_Inches2-ROUND(Decimal_Inches2,0))>1/64, \" 0/\"&CHOOSE(MATCH(MIN(ABS(ROUND(Decimal_Inches2*{2,4,8,16,32},0)-Decimal_Inches2*{2,4,8,16,32})/{2,4,8,16,32}),ABS(ROUND(Decimal_Inches2*{2,4,8,16,32},0)-Decimal_Inches2*{2,4,8,16,32})/{2,4,8,16,32},0),2,4,8,16,32),\"\"))&\"\"\"\"","v":"22 25/32\""},{"$f":"TEXT((2 * ($B25 * ($C25 / 2540)) + $D25) * 25.4,\"00.0\") & \"mm\"","v":"578.4mm"},{"$f":"TEXT((2 * ($B25 * ($C25 / 2540)) + $D25) * 2.54,\"00.0\") & \"cm\"","v":"57.8cm"},{"$f":"2 * (B25 * (C25 / 2540)) + D25","v":22.771653543307085},{"$f":"TEXT(B25/25.4,\"0.00\") & CHAR(34)","v":"8.46\""},"3.38\"",{"$f":"TEXT(VALUE(SUBSTITUTE(K25,\"\"\"\",\"\"))*25.4,\"000.0\") & \"mm\"","v":"085.9mm"}]
["C",null,null,null,{"$f":"TEXT(2 * (B26 * (C26 / 2540)) + D26,\"00.00\") & CHAR(34)","v":"00.00\""},{"$f":"TEXT(Decimal_Inches3,\"0\" &IF(ABS(Decimal_Inches3-ROUND(Decimal_Inches3,0))>1/64, \" 0/\"&CHOOSE(MATCH(MIN(ABS(ROUND(Decimal_Inches3*{2,4,8,16,32},0)-Decimal_Inches3*{2,4,8,16,32})/{2,4,8,16,32}),ABS(ROUND(Decimal_Inches3*{2,4,8,16,32},0)-Decimal_Inches3*{2,4,8,16,32})/{2,4,8,16,32},0),2,4,8,16,32),\"\"))&\"\"\"\"","v":"0\""},{"$f":"TEXT((2 * ($B26 * ($C26 / 2540)) + $D26) * 25.4,\"00.0\") & \"mm\"","v":"00.0mm"},{"$f":"TEXT((2 * ($B26 * ($C26 / 2540)) + $D26) * 2.54,\"00.0\") & \"cm\"","v":"00.0cm"},{"$f":"2 * (B26 * (C26 / 2540)) + D26","v":0},{"$f":"TEXT(B26/25.4,\"0.00\") & CHAR(34)","v":"0.00\""},"0.00\"","000.0mm"]
["D",null,null,null,{"$f":"TEXT(2 * (B27 * (C27 / 2540)) + D27,\"00.00\") & CHAR(34)","v":"00.00\""},{"$f":"TEXT(Decimal_Inches4,\"0\" & IF(ABS(Decimal_Inches4-ROUND(Decimal_Inches4-0,0))>1/64, \" 0/\" & CHOOSE(MATCH(MIN(ABS(ROUND(Decimal_Inches4*{2,4,8,16,32},0)-Decimal_Inches4*{2,4,8,16,32})/{2,4,8,16,32}),ABS(ROUND(Decimal_Inches4*{2,4,8,16,32},0)-Decimal_Inches4*{2,4,8,16,32})/{2,4,8,16,32},0),2,4,8,16,32),\"\")) & \"\"\"\"","v":"0\""},{"$f":"TEXT((2 * ($B27 * ($C27 / 2540)) + $D27) * 25.4,\"00.0\") & \"mm\"","v":"00.0mm"},{"$f":"TEXT((2 * ($B27 * ($C27 / 2540)) + $D27) * 2.54,\"00.0\") & \"cm\"","v":"00.0cm"},{"$f":"2 * (B27 * (C27 / 2540)) + D27","v":0},{"$f":"TEXT(B27/25.4,\"0.00\") & CHAR(34)","v":"0.00\""},"0.00\"","000.0mm"]
["E",null,null,null,"00.00\"",{"$f":"TEXT(Decimal_Inches5,\"0\" &IF(ABS(Decimal_Inches5-ROUND(Decimal_Inches5,0))>1/64, \" 0/\"&CHOOSE(MATCH(MIN(ABS(ROUND(Decimal_Inches5*{2,4,8,16,32},0)-Decimal_Inches5*{2,4,8,16,32})/{2,4,8,16,32}),ABS(ROUND(Decimal_Inches5*{2,4,8,16,32},0)-Decimal_Inches5*{2,4,8,16,32})/{2,4,8,16,32},0),2,4,8,16,32),\"\"))&\"\"\"\"","v":"0\""},"00.0mm","00.0cm",0,{"$f":"TEXT(B28/25.4,\"0.00\") & CHAR(34)","v":"0.00\""},"0.00\"","000.0mm"]
["F",null,null,null,"00.00\"",{"$f":"TEXT(Decimal_Inches6,\"0\" &IF(ABS(Decimal_Inches6-ROUND(Decimal_Inches6,0))>1/64, \" 0/\"&CHOOSE(MATCH(MIN(ABS(ROUND(Decimal_Inches6*{2,4,8,16,32},0)-Decimal_Inches6*{2,4,8,16,32})/{2,4,8,16,32}),ABS(ROUND(Decimal_Inches6*{2,4,8,16,32},0)-Decimal_Inches6*{2,4,8,16,32})/{2,4,8,16,32},0),2,4,8,16,32),\"\"))&\"\"\"\"","v":"0\""},"00.0mm","00.0cm",0,"0.00\"","0.00\"","000.0mm"]
["G",null,null,null,"00.00\"",{"$f":"TEXT(Decimal_Inches7,\"0\" & IF(ABS(Decimal_Inches7-ROUND(Decimal_Inches7-0,0))>1/64, \" 0/\" & CHOOSE(MATCH(MIN(ABS(ROUND(Decimal_Inches7*{2,4,8,16,32},0)-Decimal_Inches7*{2,4,8,16,32})/{2,4,8,16,32}),ABS(ROUND(Decimal_Inches7*{2,4,8,16,32},0)-Decimal_Inches7*{2,4,8,16,32})/{2,4,8,16,32},0),2,4,8,16,32),\"\")) & \"\"\"\"","v":"0\""},"00.0mm","00.0cm",0,"0.00\"","0.00\"","000.0mm"]
["H",null,null,null,"00.00\"",{"$f":"TEXT(Decimal_Inches8,\"0\" &IF(ABS(Decimal_Inches8-ROUND(Decimal_Inches8,0))>1/64, \" 0/\"&CHOOSE(MATCH(MIN(ABS(ROUND(Decimal_Inches8*{2,4,8,16,32},0)-Decimal_Inches8*{2,4,8,16,32})/{2,4,8,16,32}),ABS(ROUND(Decimal_Inches8*{2,4,8,16,32},0)-Decimal_Inches8*{2,4,8,16,32})/{2,4,8,16,32},0),2,4,8,16,32),\"\"))&\"\"\"\"","v":"0\""},"00.0mm","00.0cm",0,"0.00\"","0.00\"","000.0mm"]
["I",null,null,null,"00.00\"",{"$f":"TEXT(Decimal_Inches9,\"0\" &IF(ABS(Decimal_Inches9-ROUND(Decimal_Inches9,0))>1/64, \" 0/\"&CHOOSE(MATCH(MIN(ABS(ROUND(Decimal_Inches9*{2,4,8,16,32},0)-Decimal_Inches9*{2,4,8,16,32})/{2,4,8,16,32}),ABS(ROUND(Decimal_Inches9*{2,4,8,16,32},0)-Decimal_Inches9*{2,4,8,16,32})/{2,4,8,16,32},0),2,4,8,16,32),\"\"))&\"\"\"\"","v":"0\""},"00.0mm","00.0cm",0,"0.00\"","0.00\"","000.0mm"]
["J",null,null,null,"00.00\"",{"$f":"TEXT(Decimal_Inches10,\"0\" & IF(ABS(Decimal_Inches10-ROUND(Decimal_Inches10-0,0))>1/64, \" 0/\" & CHOOSE(MATCH(MIN(ABS(ROUND(Decimal_Inches10*{2,4,8,16,32},0)-Decimal_Inches10*{2,4,8,16,32})/{2,4,8,16,32}),ABS(ROUND(Decimal_Inches10*{2,4,8,16,32},0)-Decimal_Inches10*{2,4,8,16,32})/{2,4,8,16,32},0),2,4,8,16,32),\"\")) & \"\"\"\"","v":"0\""},"00.0mm","00.0cm",0,"0.00\"","0.00\"","000.0mm"]

{"sheet":"Gear Listing","index":3,"n_rows":38,"n_cols":8,"rows_kept":38,"cut":false,"hidden":false,"merged":[[1,4,1,5],[0,4,0,6]]}
["Gear Ratio Computation Chart",null,null,null,"Note:  May not be complete."]
[null,null,null,null,"Ring & Pinion"]
[null,"Gear",5.1429999999999998,4.8570000000000002,4.625,4.375,4.125,3.875]
["1st",3.8,{"$f":"$C$3*B4","v":19.543399999999998},{"$f":"$D$3*B4","v":18.456600000000002},{"$f":"$E$3*B4","v":17.574999999999999},{"$f":"$F$3*B4","v":16.625},{"$f":"$G$3*B4","v":15.674999999999999},{"$f":"$H$3*B4","v":14.725}]
[null,3.7770000000000001,{"$f":"$C$3*B5","v":19.425111000000001},{"$f":"$D$3*B5","v":18.344889000000002},{"$f":"$E$3*B5","v":17.468624999999999},{"$f":"$F$3*B5","v":16.524374999999999},{"$f":"$G$3*B5","v":15.580125000000001},{"$f":"$H$3*B5","v":14.635875}]
[null,3.5550000000000002,18.283365,{"$f":"$D$3*B6","v":17.266635000000001},{"$f":"$E$3*B6","v":16.441875},{"$f":"$F$3*B6","v":15.553125000000001},{"$f":"$G$3*B6","v":14.664375000000001},{"$f":"$H$3*B6","v":13.775625}]
[]
["2nd",2.3119999999999998,11.890615999999998,{"$f":"$D$3*B8","v":11.229384},{"$f":"$E$3*B8","v":10.693},{"$f":"$F$3*B8","v":10.114999999999998},{"$f":"$G$3*B8","v":9.536999999999999},{"$f":"$H$3*B8","v":8.9589999999999996}]
[null,2.25,11.57175,10.92825,10.40625,9.84375,9.28125,8.71875]
[null,2.0579999999999998,10.584293999999998,9.9957060000000002,9.5182499999999983,9.0037500000000001,8.4892499999999984,7.9747499999999993]
[]
["3rd",1.72,8.8459599999999998,8.3540399999999995,7.9550000000000001,7.5249999999999995,7.0949999999999998,6.665]
[null,1.6950000000000001,8.7173850000000002,{"$f":"$D$3*B13","v":8.2326150000000009},{"$f":"$E$3*B13","v":7.8393750000000004},{"$f":"$F$3*B13","v":7.4156250000000004},{"$f":"$G$3*B13","v":6.9918750000000003},{"$f":"$H$3*B13","v":6.5681250000000002}]
[null,1.65,8.485949999999999,{"$f":"$D$3*B14","v":8.0140499999999992},{"$f":"$E$3*B14","v":7.6312499999999996},{"$f":"$F$3*B14","v":7.21875},{"$f":"$G$3*B14","v":6.8062499999999995},{"$f":"$H$3*B14","v":6.3937499999999998}]
[null,1.583,8.1413689999999992,7.688631,7.3213749999999997,6.9256250000000001,6.5298749999999997,6.134125]
[null,1.5549999999999999,7.9973649999999994,7.5526350000000004,7.1918749999999996,6.8031249999999996,6.4143749999999997,6.0256249999999998]
[null,1.48,7.6116399999999995,7.1883600000000003,6.8449999999999998,6.4749999999999996,6.1049999999999995,5.7350000000000003]
[null,1.44,7.4059199999999992,{"$f":"$D$3*B18","v":6.9940800000000003},{"$f":"$E$3*B18","v":6.66},{"$f":"$F$3*B18","v":6.3},{"$f":"$G$3*B18","v":5.9399999999999995},{"$f":"$H$3*B18","v":5.58}]
[null,1.421,7.3082029999999998,6.9017970000000002,6.5721249999999998,6.2168749999999999,5.8616250000000001,5.5063750000000002]
[null,1.3180000000000001,6.7784740000000001,6.4015260000000005,6.0957500000000007,5.7662500000000003,5.43675,5.1072500000000005]
[null,1.2609999999999999,6.4853229999999993,6.1246770000000001,5.8321249999999996,5.5168749999999998,5.2016249999999999,4.8863749999999992]
[null,1.2170000000000001,6.2590310000000002,5.9109690000000006,5.6286250000000004,5.3243750000000007,5.0201250000000002,4.7158750000000005]
[]
["4th",1.4279999999999999,7.3442039999999995,6.9357959999999999,6.6044999999999998,6.2474999999999996,5.8904999999999994,5.5335000000000001]
[null,1.37,7.0459100000000001,{"$f":"$D$3*B25","v":6.6540900000000009},{"$f":"$E$3*B25","v":6.3362500000000006},{"$f":"$F$3*B25","v":5.9937500000000004},{"$f":"$G$3*B25","v":5.6512500000000001},{"$f":"$H$3*B25","v":5.3087500000000007}]
[null,1.3180000000000001,6.7784740000000001,6.4015260000000005,6.0957500000000007,5.7662500000000003,5.43675,5.1072500000000005]
[null,1.2170000000000001,6.2590310000000002,5.9109690000000006,5.6286250000000004,5.3243750000000007,5.0201250000000002,4.7158750000000005]
[null,1.19,6.1201699999999999,5.7798299999999996,5.5037500000000001,5.2062499999999998,4.9087499999999995,4.6112500000000001]
[null,1.17,6.0173099999999993,{"$f":"$D$3*B29","v":5.68269},{"$f":"$E$3*B29","v":5.4112499999999999},{"$f":"$F$3*B29","v":5.1187499999999995},{"$f":"$G$3*B29","v":4.8262499999999999},{"$f":"$H$3*B29","v":4.5337499999999995}]
[null,1.125,5.7858749999999999,5.4641250000000001,5.203125,4.921875,4.640625,4.359375]
[null,1.0900000000000001,5.6058700000000004,5.2941300000000009,5.0412500000000007,4.7687500000000007,4.4962500000000007,4.2237499999999999]
[null,1.04,5.3487200000000001,5.0512800000000002,4.8100000000000005,4.55,4.29,4.03]
[null,0.93100000000000005,4.7881330000000002,4.5218670000000003,4.3058750000000003,4.0731250000000001,3.8403750000000003,3.6076250000000001]
[null,0.88900000000000001,4.5721270000000001,4.3178730000000005,4.1116250000000001,3.8893750000000002,3.667125,3.4448750000000001]
[null,0.82099999999999995,4.2224029999999999,3.9875970000000001,3.7971249999999999,3.5918749999999999,3.386625,3.1813749999999996]
[]
[]
[null,null,null,null,"Air-cooled VW only"]

{"sheet":"Instructions","index":4,"n_rows":0,"n_cols":0,"rows_kept":0,"cut":false,"hidden":false,"merged":[]}